BEGIN:VCALENDAR
VERSION:2.0
PRODID:-//The Village of Minerva - ECPv6.15.20//NONSGML v1.0//EN
CALSCALE:GREGORIAN
METHOD:PUBLISH
X-WR-CALNAME:The Village of Minerva
X-ORIGINAL-URL:https://minerva.oh.us
X-WR-CALDESC:Events for The Village of Minerva
REFRESH-INTERVAL;VALUE=DURATION:PT1H
X-Robots-Tag:noindex
X-PUBLISHED-TTL:PT1H
BEGIN:VTIMEZONE
TZID:UTC
BEGIN:STANDARD
TZOFFSETFROM:+0000
TZOFFSETTO:+0000
TZNAME:UTC
DTSTART:20160101T000000
END:STANDARD
END:VTIMEZONE
BEGIN:VEVENT
DTSTART;TZID=UTC:20180519T100000
DTEND;TZID=UTC:20180519T190000
DTSTAMP:20260424T165248
CREATED:20180313T131510Z
LAST-MODIFIED:20180509T143226Z
UID:10000173-1526724000-1526756400@minerva.oh.us
SUMMARY:Brick Street Art & Jazz Festival
DESCRIPTION:The Brick Street Art & Jazz Festival will be held downtown on Saturday\, May 19 from 11 am to 7 pm. This event is sponsored by the Chamber of Commerce. \nThere will be lots of family activities including great art and jazz music\, crafts and food vendors as well as activities for kids. \nMinerva’s Brick Street Art & Jazz Festival on May 19 again offers a great lineup of professional and student bands\, playing jazz from a wide variety of genres! The schedule for the day is: 10 am – Denny Ott\, saxophone; 11 am – Minerva High School; 11:45 am – Blu Monsoon (contemporary jazz & blues); 1 pm – Northwest High School; 1:50 pm – The Furnace Street Jazz Band (straight-ahead jazz); 3:05 pm – Sandy Valley High School; 3:55 pm – Erbo and the Buzz Factor (jazz with steel drums); 5:10 pm – Beaver Local High School; and 6 pm – the Alliance Symphony Orchestra Big Band. \nThe Buckeye Woodturners will return to the Brick Street Art & Jazz Festival\, May 19 on Minerva’s N. Market Street! Watch these artists create everything from pens to tops to bowls. \nCalling all photographers! The Photography Shoot Out returns to the Brick Street Art & Jazz Festival\, May 19\, 11 am-7 pm. Cash prizes will go to the top three images in each of two age categories\, best capturing the essence of the festival.
URL:https://minerva.oh.us/event/brick-street-art-jazz-festival-2/
LOCATION:Downtown Minerva\, 209 N. Market St.\, Minerva\, OH\, 44657\, United States
ORGANIZER;CN="Denise Freeland":MAILTO:denise.freeland@minervachamber.org
END:VEVENT
BEGIN:VEVENT
DTSTART;TZID=UTC:20170715T150000
DTEND;TZID=UTC:20170715T230000
DTSTAMP:20260424T165248
CREATED:20170526T153326Z
LAST-MODIFIED:20170526T153326Z
UID:10000162-1500130800-1500159600@minerva.oh.us
SUMMARY:The Minerva Chamber Rodeo
DESCRIPTION:The Rodeo is back for another fun filled day. \nThe Minerva Chamber Rodeo will feature the Buckeye Rodeo Company presenting Bareback Bronc Riding\, Steer Wrestling\, Calf Roping\, Bull Riding\, Barrel Racing\, Saddle Bronc Riding\, and Team Roping. Kids’ events\, including Mutton Busting\, Stick Horse Racing\, and the Calf Scramble. will begin at 5 p.m.\, followed by the main event at 7 p.m. The rodeo will be followed at 9 p.m. by Tony Rio in concert on the Municipal Park Stage\, sponsored by the Minerva Firemen’s Association\, which will also be hosting a beer garden. Beginning at 3 p.m.\, there will be food and commercial vendors\, as well as kids’ activities\, in the park. Presale tickets at $10 for adults (age 12 and older) and $5 for children (age 6-11)\, and are available online through Eventbrite.com or\, begining June 1\, from the Chamber office\, 330-868-7979\, Minerva Area YMCA\, Kishman’s IGA\, and Loudon Motors Ford. Tickets at the gate will be $12 for adults and $6 for kids. Children age 5 and younger are admitted free.\nTriple Crown sponsors for this event are David Catlett Construction\, Pole Barns Direct\, Kishman’s IGA\, and Loudon Motors Ford.
URL:https://minerva.oh.us/event/minerva-chamber-rodeo/
LOCATION:Municipal Park\, 123 Brock Ave.\, Minerva\,\, OH\, 44657\, United States
ORGANIZER;CN="Denise Freeland":MAILTO:denise.freeland@minervachamber.org
END:VEVENT
BEGIN:VEVENT
DTSTART;TZID=UTC:20170520T100000
DTEND;TZID=UTC:20170520T190000
DTSTAMP:20260424T165248
CREATED:20170407T194753Z
LAST-MODIFIED:20170407T194753Z
UID:10000156-1495274400-1495306800@minerva.oh.us
SUMMARY:Brick Street Art & Jazz Festival
DESCRIPTION:A full day of jazz\, food\, and interactive arts activities for all ages!
URL:https://minerva.oh.us/event/brick-street-art-jazz-festival/
LOCATION:Downtown Minerva\, 209 N. Market St.\, Minerva\, OH\, 44657\, United States
ORGANIZER;CN="Denise Freeland":MAILTO:denise.freeland@minervachamber.org
END:VEVENT
END:VCALENDAR