BEGIN:VCALENDAR
VERSION:2.0
PRODID:-//The Village of Minerva - ECPv6.15.20//NONSGML v1.0//EN
CALSCALE:GREGORIAN
METHOD:PUBLISH
X-WR-CALNAME:The Village of Minerva
X-ORIGINAL-URL:https://minerva.oh.us
X-WR-CALDESC:Events for The Village of Minerva
REFRESH-INTERVAL;VALUE=DURATION:PT1H
X-Robots-Tag:noindex
X-PUBLISHED-TTL:PT1H
BEGIN:VTIMEZONE
TZID:UTC
BEGIN:STANDARD
TZOFFSETFROM:+0000
TZOFFSETTO:+0000
TZNAME:UTC
DTSTART:20240101T000000
END:STANDARD
END:VTIMEZONE
BEGIN:VEVENT
DTSTART;TZID=UTC:20250929T180000
DTEND;TZID=UTC:20250929T190000
DTSTAMP:20260419T135205
CREATED:20250829T153854Z
LAST-MODIFIED:20250829T153854Z
UID:10000744-1759168800-1759172400@minerva.oh.us
SUMMARY:Bat-tastic Bats of Ohio - Minerva Public Library
DESCRIPTION:Bat-tastic Bats of Ohio\n\n\nJoin us as biologist Eileen Wyza from the Ohio Division of Wildlife shares fascinating insights on the significance of bats\, their habitats\, conservation efforts\, and the remarkable methods they us… \n\n\n\n\n\n\n\n\n Monday\, September 29 2025 6:00 pm – 7:00 pm\n\n Health & Science\n In Person\n General Interest\n Community Room | Full Room\n Minerva Public Library\n677 Lynwood Dr Minerva OH 44657
URL:https://minerva.oh.us/event/bat-tastic-bats-of-ohio-minerva-public-library/
LOCATION:Minerva Public Library\, 677 Lynnwood Drive\, Minerva\, OH\, 44657\, United States
END:VEVENT
BEGIN:VEVENT
DTSTART;TZID=UTC:20250915T173000
DTEND;TZID=UTC:20250915T183000
DTSTAMP:20260419T135205
CREATED:20250829T153014Z
LAST-MODIFIED:20250829T153014Z
UID:10000738-1757957400-1757961000@minerva.oh.us
SUMMARY:OSU Wits Workout at the Minerva Public Library
DESCRIPTION:Wits Workout\n\n\n\n\n\n\n\n\n\n Monday\, September 15 2025 5:30 pm – 6:30 pm\n\n Health & Science\n In Person\n Adult (Ages 19+)\n Community Room | Right Half\n Minerva Public Library\n677 Lynwood Dr Minerva OH 44657
URL:https://minerva.oh.us/event/osu-wits-workout-at-the-minerva-public-library/
LOCATION:Minerva Public Library\, 677 Lynnwood Drive\, Minerva\, OH\, 44657\, United States
END:VEVENT
BEGIN:VEVENT
DTSTART;TZID=UTC:20250911T180000
DTEND;TZID=UTC:20250911T190000
DTSTAMP:20260419T135205
CREATED:20250829T152034Z
LAST-MODIFIED:20250829T152034Z
UID:10000734-1757613600-1757617200@minerva.oh.us
SUMMARY:Adult In-Person Craft: Sweater Sleeve Pumpkin
DESCRIPTION:Adult Craft Class | Sweater Sleeve Pumpkin\n\n\nJoin Jennifer to make a sweater pumpkin. Please register through the Minerva Public Library. \n\n\n\n\n\n\n\n\n Thursday\, September 11 2025 6:00 pm – 7:00 pm\n\n Arts & Crafts\n In Person\n Adult (Ages 19+)\n Study Area\n Minerva Public Library\n677 Lynwood Dr Minerva OH 44657
URL:https://minerva.oh.us/event/adult-in-person-craft-sweater-sleeve-pumpkin/
LOCATION:Minerva Public Library\, 677 Lynnwood Drive\, Minerva\, OH\, 44657\, United States
END:VEVENT
BEGIN:VEVENT
DTSTART;TZID=UTC:20250909T103000
DTEND;TZID=UTC:20250909T113000
DTSTAMP:20260419T135205
CREATED:20250829T150332Z
LAST-MODIFIED:20250829T151534Z
UID:10000732-1757413800-1757417400@minerva.oh.us
SUMMARY:Adult In-Person Craft: Pumpkin Sweater
DESCRIPTION:The Minerva Public Library will hold an adult in-person craft “Pumpkin Sweater” on Sept. 9 at 10:30 am
URL:https://minerva.oh.us/event/adult-in-person-craft-pumpkin-sweater/
LOCATION:Minerva Public Library\, 677 Lynnwood Drive\, Minerva\, OH\, 44657\, United States
END:VEVENT
BEGIN:VEVENT
DTSTART;TZID=UTC:20250908T183000
DTEND;TZID=UTC:20250908T193000
DTSTAMP:20260419T135205
CREATED:20250829T150146Z
LAST-MODIFIED:20250829T150146Z
UID:10000731-1757356200-1757359800@minerva.oh.us
SUMMARY:Breaking Through the Lines: the Marion Motley Story
DESCRIPTION:The Minerva Public Library is hosting a presentation titled “Breaking Through the Lines: The Marion Motley Story” on Monday\, September 8\, 2025\, at 6:30 p.m. at the library. Author David Lee Morgan Jr. will share untold stories from his book about Marion Motley\, an integral part of the Cleveland Browns who helped break the color barrier in professional football.
URL:https://minerva.oh.us/event/breaking-through-the-lines-the-marion-motley-story/
LOCATION:Minerva Public Library\, 677 Lynnwood Drive\, Minerva\, OH\, 44657\, United States
END:VEVENT
BEGIN:VEVENT
DTSTART;TZID=UTC:20250903T103000
DTEND;TZID=UTC:20250903T113000
DTSTAMP:20260419T135205
CREATED:20250530T150923Z
LAST-MODIFIED:20250530T150923Z
UID:10000692-1756895400-1756899000@minerva.oh.us
SUMMARY:Summer Reading Story Time
DESCRIPTION:Join us on Wednesday mornings for stories\, songs\, games\, & creative activities for 0-5 year-olds and their caregivers on Wednesdays at 10:30 AM! Promoting Read 1\,000 Books Before Kindergarten.
URL:https://minerva.oh.us/event/summer-reading-story-time/2025-09-03/
LOCATION:Minerva Public Library\, 677 Lynnwood Drive\, Minerva\, OH\, 44657\, United States
END:VEVENT
BEGIN:VEVENT
DTSTART;TZID=UTC:20250827T103000
DTEND;TZID=UTC:20250827T113000
DTSTAMP:20260419T135205
CREATED:20250530T150923Z
LAST-MODIFIED:20250530T150923Z
UID:10000691-1756290600-1756294200@minerva.oh.us
SUMMARY:Summer Reading Story Time
DESCRIPTION:Join us on Wednesday mornings for stories\, songs\, games\, & creative activities for 0-5 year-olds and their caregivers on Wednesdays at 10:30 AM! Promoting Read 1\,000 Books Before Kindergarten.
URL:https://minerva.oh.us/event/summer-reading-story-time/2025-08-27/
LOCATION:Minerva Public Library\, 677 Lynnwood Drive\, Minerva\, OH\, 44657\, United States
END:VEVENT
BEGIN:VEVENT
DTSTART;TZID=UTC:20250820T103000
DTEND;TZID=UTC:20250820T113000
DTSTAMP:20260419T135205
CREATED:20250530T150923Z
LAST-MODIFIED:20250530T150923Z
UID:10000690-1755685800-1755689400@minerva.oh.us
SUMMARY:Summer Reading Story Time
DESCRIPTION:Join us on Wednesday mornings for stories\, songs\, games\, & creative activities for 0-5 year-olds and their caregivers on Wednesdays at 10:30 AM! Promoting Read 1\,000 Books Before Kindergarten.
URL:https://minerva.oh.us/event/summer-reading-story-time/2025-08-20/
LOCATION:Minerva Public Library\, 677 Lynnwood Drive\, Minerva\, OH\, 44657\, United States
END:VEVENT
BEGIN:VEVENT
DTSTART;TZID=UTC:20250813T103000
DTEND;TZID=UTC:20250813T113000
DTSTAMP:20260419T135205
CREATED:20250530T150923Z
LAST-MODIFIED:20250530T150923Z
UID:10000689-1755081000-1755084600@minerva.oh.us
SUMMARY:Summer Reading Story Time
DESCRIPTION:Join us on Wednesday mornings for stories\, songs\, games\, & creative activities for 0-5 year-olds and their caregivers on Wednesdays at 10:30 AM! Promoting Read 1\,000 Books Before Kindergarten.
URL:https://minerva.oh.us/event/summer-reading-story-time/2025-08-13/
LOCATION:Minerva Public Library\, 677 Lynnwood Drive\, Minerva\, OH\, 44657\, United States
END:VEVENT
BEGIN:VEVENT
DTSTART;TZID=UTC:20250811T090000
DTEND;TZID=UTC:20250811T100000
DTSTAMP:20260419T135205
CREATED:20250730T195656Z
LAST-MODIFIED:20250730T195656Z
UID:10000726-1754902800-1754906400@minerva.oh.us
SUMMARY:Tai Chi for Beginners - Minerva Public Library
DESCRIPTION:Tai Chi for Beginners at the Minerva Public Library \nAll ages are welcome! The essential principles of Tai Chi include mind and body integration\, fluidity of movements\, control of breathing and mental concentration.  Tai Chi for Beginners can be done seated or standing!  Participants should come prepared to do light exercise\, wearing loose\, comfortable clothing and supportive tennis shoes. \nRegistration is required\nCall 330-868-4101 to reserve your spot!
URL:https://minerva.oh.us/event/tai-chi-for-beginners-minerva-public-library/
LOCATION:Minerva Public Library\, 677 Lynnwood Drive\, Minerva\, OH\, 44657\, United States
END:VEVENT
BEGIN:VEVENT
DTSTART;TZID=UTC:20250806T103000
DTEND;TZID=UTC:20250806T113000
DTSTAMP:20260419T135205
CREATED:20250530T150923Z
LAST-MODIFIED:20250530T150923Z
UID:10000688-1754476200-1754479800@minerva.oh.us
SUMMARY:Summer Reading Story Time
DESCRIPTION:Join us on Wednesday mornings for stories\, songs\, games\, & creative activities for 0-5 year-olds and their caregivers on Wednesdays at 10:30 AM! Promoting Read 1\,000 Books Before Kindergarten.
URL:https://minerva.oh.us/event/summer-reading-story-time/2025-08-06/
LOCATION:Minerva Public Library\, 677 Lynnwood Drive\, Minerva\, OH\, 44657\, United States
END:VEVENT
BEGIN:VEVENT
DTSTART;TZID=UTC:20250731T110000
DTEND;TZID=UTC:20250731T120000
DTSTAMP:20260419T135205
CREATED:20250530T195753Z
LAST-MODIFIED:20250530T195753Z
UID:10000701-1753959600-1753963200@minerva.oh.us
SUMMARY:Animal Reading Friends - Minerva Public Library
DESCRIPTION:School age children sign-up to read with our gentle Animal Reading Friends. \n  \nChildren each have their own 15 minutes to read with one of our two Golden Retriever friends.\nThe gentle dogs are accompanied by their kind owners Ray & Sharon Morgenstern. \nCall the library at 330-868-4101 and ask for Youth Services to sign up for your 15 minutes of reading to a patient\, good-natured dog. \nThursdays 11:00-12:00  June 11 – July 30.
URL:https://minerva.oh.us/event/animal-reading-friends-minerva-public-library/2025-07-31/
LOCATION:Minerva Public Library\, 677 Lynnwood Drive\, Minerva\, OH\, 44657\, United States
END:VEVENT
BEGIN:VEVENT
DTSTART;TZID=UTC:20250730T103000
DTEND;TZID=UTC:20250730T113000
DTSTAMP:20260419T135205
CREATED:20250530T150923Z
LAST-MODIFIED:20250530T150923Z
UID:10000687-1753871400-1753875000@minerva.oh.us
SUMMARY:Summer Reading Story Time
DESCRIPTION:Join us on Wednesday mornings for stories\, songs\, games\, & creative activities for 0-5 year-olds and their caregivers on Wednesdays at 10:30 AM! Promoting Read 1\,000 Books Before Kindergarten.
URL:https://minerva.oh.us/event/summer-reading-story-time/2025-07-30/
LOCATION:Minerva Public Library\, 677 Lynnwood Drive\, Minerva\, OH\, 44657\, United States
END:VEVENT
BEGIN:VEVENT
DTSTART;TZID=UTC:20250724T130000
DTEND;TZID=UTC:20250724T140000
DTSTAMP:20260419T135205
CREATED:20250701T201526Z
LAST-MODIFIED:20250701T201526Z
UID:10000718-1753362000-1753365600@minerva.oh.us
SUMMARY:Can You Spot a Scam? - Minerva Public Library
DESCRIPTION:Can You Spot a Scam?\n\n\nGet to know the different kinds of frauds and scams\, how to avoid becoming a target\, spot when you might be at risk\, and what to do if you end up getting scammed. \n\n\n\n\n\n\n\n\n Thursday\, July 24 2025 1:00 pm – 2:00 pm\n\n In Person\n Adult (Ages 19+)\n Community Room | Half Room\n Minerva Public Library\n677 Lynwood Dr Minerva OH 44657
URL:https://minerva.oh.us/event/can-you-spot-a-scam-minerva-public-library/
LOCATION:Minerva Public Library\, 677 Lynnwood Drive\, Minerva\, OH\, 44657\, United States
END:VEVENT
BEGIN:VEVENT
DTSTART;TZID=UTC:20250724T110000
DTEND;TZID=UTC:20250724T120000
DTSTAMP:20260419T135205
CREATED:20250530T195753Z
LAST-MODIFIED:20250530T195753Z
UID:10000700-1753354800-1753358400@minerva.oh.us
SUMMARY:Animal Reading Friends - Minerva Public Library
DESCRIPTION:School age children sign-up to read with our gentle Animal Reading Friends. \n  \nChildren each have their own 15 minutes to read with one of our two Golden Retriever friends.\nThe gentle dogs are accompanied by their kind owners Ray & Sharon Morgenstern. \nCall the library at 330-868-4101 and ask for Youth Services to sign up for your 15 minutes of reading to a patient\, good-natured dog. \nThursdays 11:00-12:00  June 11 – July 30.
URL:https://minerva.oh.us/event/animal-reading-friends-minerva-public-library/2025-07-24/
LOCATION:Minerva Public Library\, 677 Lynnwood Drive\, Minerva\, OH\, 44657\, United States
END:VEVENT
BEGIN:VEVENT
DTSTART;TZID=UTC:20250723T103000
DTEND;TZID=UTC:20250723T113000
DTSTAMP:20260419T135205
CREATED:20250530T150923Z
LAST-MODIFIED:20250530T150923Z
UID:10000686-1753266600-1753270200@minerva.oh.us
SUMMARY:Summer Reading Story Time
DESCRIPTION:Join us on Wednesday mornings for stories\, songs\, games\, & creative activities for 0-5 year-olds and their caregivers on Wednesdays at 10:30 AM! Promoting Read 1\,000 Books Before Kindergarten.
URL:https://minerva.oh.us/event/summer-reading-story-time/2025-07-23/
LOCATION:Minerva Public Library\, 677 Lynnwood Drive\, Minerva\, OH\, 44657\, United States
END:VEVENT
BEGIN:VEVENT
DTSTART;TZID=UTC:20250717T110000
DTEND;TZID=UTC:20250717T120000
DTSTAMP:20260419T135205
CREATED:20250530T195753Z
LAST-MODIFIED:20250530T195753Z
UID:10000699-1752750000-1752753600@minerva.oh.us
SUMMARY:Animal Reading Friends - Minerva Public Library
DESCRIPTION:School age children sign-up to read with our gentle Animal Reading Friends. \n  \nChildren each have their own 15 minutes to read with one of our two Golden Retriever friends.\nThe gentle dogs are accompanied by their kind owners Ray & Sharon Morgenstern. \nCall the library at 330-868-4101 and ask for Youth Services to sign up for your 15 minutes of reading to a patient\, good-natured dog. \nThursdays 11:00-12:00  June 11 – July 30.
URL:https://minerva.oh.us/event/animal-reading-friends-minerva-public-library/2025-07-17/
LOCATION:Minerva Public Library\, 677 Lynnwood Drive\, Minerva\, OH\, 44657\, United States
END:VEVENT
BEGIN:VEVENT
DTSTART;TZID=UTC:20250716T103000
DTEND;TZID=UTC:20250716T113000
DTSTAMP:20260419T135205
CREATED:20250530T150923Z
LAST-MODIFIED:20250530T150923Z
UID:10000685-1752661800-1752665400@minerva.oh.us
SUMMARY:Summer Reading Story Time
DESCRIPTION:Join us on Wednesday mornings for stories\, songs\, games\, & creative activities for 0-5 year-olds and their caregivers on Wednesdays at 10:30 AM! Promoting Read 1\,000 Books Before Kindergarten.
URL:https://minerva.oh.us/event/summer-reading-story-time/2025-07-16/
LOCATION:Minerva Public Library\, 677 Lynnwood Drive\, Minerva\, OH\, 44657\, United States
END:VEVENT
BEGIN:VEVENT
DTSTART;TZID=UTC:20250711T130000
DTEND;TZID=UTC:20250711T160000
DTSTAMP:20260419T135205
CREATED:20250701T200205Z
LAST-MODIFIED:20250701T200205Z
UID:10000711-1752238800-1752249600@minerva.oh.us
SUMMARY:Mario Kart Tournament
DESCRIPTION:MarioKart Tournament for ages 6-11 at the Minerva Public Library.
URL:https://minerva.oh.us/event/mario-kart-tournament/
LOCATION:Minerva Public Library\, 677 Lynnwood Drive\, Minerva\, OH\, 44657\, United States
END:VEVENT
BEGIN:VEVENT
DTSTART;TZID=UTC:20250710T110000
DTEND;TZID=UTC:20250710T120000
DTSTAMP:20260419T135205
CREATED:20250530T195753Z
LAST-MODIFIED:20250530T195753Z
UID:10000698-1752145200-1752148800@minerva.oh.us
SUMMARY:Animal Reading Friends - Minerva Public Library
DESCRIPTION:School age children sign-up to read with our gentle Animal Reading Friends. \n  \nChildren each have their own 15 minutes to read with one of our two Golden Retriever friends.\nThe gentle dogs are accompanied by their kind owners Ray & Sharon Morgenstern. \nCall the library at 330-868-4101 and ask for Youth Services to sign up for your 15 minutes of reading to a patient\, good-natured dog. \nThursdays 11:00-12:00  June 11 – July 30.
URL:https://minerva.oh.us/event/animal-reading-friends-minerva-public-library/2025-07-10/
LOCATION:Minerva Public Library\, 677 Lynnwood Drive\, Minerva\, OH\, 44657\, United States
END:VEVENT
BEGIN:VEVENT
DTSTART;TZID=UTC:20250709T103000
DTEND;TZID=UTC:20250709T113000
DTSTAMP:20260419T135205
CREATED:20250530T150923Z
LAST-MODIFIED:20250530T150923Z
UID:10000684-1752057000-1752060600@minerva.oh.us
SUMMARY:Summer Reading Story Time
DESCRIPTION:Join us on Wednesday mornings for stories\, songs\, games\, & creative activities for 0-5 year-olds and their caregivers on Wednesdays at 10:30 AM! Promoting Read 1\,000 Books Before Kindergarten.
URL:https://minerva.oh.us/event/summer-reading-story-time/2025-07-09/
LOCATION:Minerva Public Library\, 677 Lynnwood Drive\, Minerva\, OH\, 44657\, United States
END:VEVENT
BEGIN:VEVENT
DTSTART;TZID=UTC:20250708T103000
DTEND;TZID=UTC:20250708T113000
DTSTAMP:20260419T135205
CREATED:20250701T195908Z
LAST-MODIFIED:20250701T195908Z
UID:10000709-1751970600-1751974200@minerva.oh.us
SUMMARY:Adult In-Person Craft: Book Page Pinwheel Wreath
DESCRIPTION:Minerva Public Library\, In-Person Adult Morning Craft\, 10:30 a.m. Join Jennifer and create a book page pinwheel wreath. Registration is required at 330-868-4101.
URL:https://minerva.oh.us/event/adult-in-person-craft-book-page-pinwheel-wreath/
LOCATION:Minerva Public Library\, 677 Lynnwood Drive\, Minerva\, OH\, 44657\, United States
END:VEVENT
BEGIN:VEVENT
DTSTART;TZID=UTC:20250707T173000
DTEND;TZID=UTC:20250707T183000
DTSTAMP:20260419T135205
CREATED:20250701T195729Z
LAST-MODIFIED:20250701T195729Z
UID:10000708-1751909400-1751913000@minerva.oh.us
SUMMARY:Wits Workout - Minerva Public Library
DESCRIPTION:Minerva Public Library\, Wits Workout\, 5:30 pm. Presented by the OSU Carroll County Extension Service. This program is great for folks who love word puzzles and logic games\, or anyone looking to build some brain-boosting habits. Register at 330-868-4101.
URL:https://minerva.oh.us/event/wits-workout-minerva-public-library/
LOCATION:Minerva Public Library\, 677 Lynnwood Drive\, Minerva\, OH\, 44657\, United States
END:VEVENT
BEGIN:VEVENT
DTSTART;TZID=UTC:20250703T110000
DTEND;TZID=UTC:20250703T120000
DTSTAMP:20260419T135205
CREATED:20250530T195753Z
LAST-MODIFIED:20250530T195753Z
UID:10000697-1751540400-1751544000@minerva.oh.us
SUMMARY:Animal Reading Friends - Minerva Public Library
DESCRIPTION:School age children sign-up to read with our gentle Animal Reading Friends. \n  \nChildren each have their own 15 minutes to read with one of our two Golden Retriever friends.\nThe gentle dogs are accompanied by their kind owners Ray & Sharon Morgenstern. \nCall the library at 330-868-4101 and ask for Youth Services to sign up for your 15 minutes of reading to a patient\, good-natured dog. \nThursdays 11:00-12:00  June 11 – July 30.
URL:https://minerva.oh.us/event/animal-reading-friends-minerva-public-library/2025-07-03/
LOCATION:Minerva Public Library\, 677 Lynnwood Drive\, Minerva\, OH\, 44657\, United States
END:VEVENT
BEGIN:VEVENT
DTSTART;TZID=UTC:20250702T103000
DTEND;TZID=UTC:20250702T113000
DTSTAMP:20260419T135205
CREATED:20250530T150923Z
LAST-MODIFIED:20250530T150923Z
UID:10000683-1751452200-1751455800@minerva.oh.us
SUMMARY:Summer Reading Story Time
DESCRIPTION:Join us on Wednesday mornings for stories\, songs\, games\, & creative activities for 0-5 year-olds and their caregivers on Wednesdays at 10:30 AM! Promoting Read 1\,000 Books Before Kindergarten.
URL:https://minerva.oh.us/event/summer-reading-story-time/2025-07-02/
LOCATION:Minerva Public Library\, 677 Lynnwood Drive\, Minerva\, OH\, 44657\, United States
END:VEVENT
BEGIN:VEVENT
DTSTART;TZID=UTC:20250626T110000
DTEND;TZID=UTC:20250626T120000
DTSTAMP:20260419T135205
CREATED:20250530T195753Z
LAST-MODIFIED:20250530T195753Z
UID:10000696-1750935600-1750939200@minerva.oh.us
SUMMARY:Animal Reading Friends - Minerva Public Library
DESCRIPTION:School age children sign-up to read with our gentle Animal Reading Friends. \n  \nChildren each have their own 15 minutes to read with one of our two Golden Retriever friends.\nThe gentle dogs are accompanied by their kind owners Ray & Sharon Morgenstern. \nCall the library at 330-868-4101 and ask for Youth Services to sign up for your 15 minutes of reading to a patient\, good-natured dog. \nThursdays 11:00-12:00  June 11 – July 30.
URL:https://minerva.oh.us/event/animal-reading-friends-minerva-public-library/2025-06-26/
LOCATION:Minerva Public Library\, 677 Lynnwood Drive\, Minerva\, OH\, 44657\, United States
END:VEVENT
BEGIN:VEVENT
DTSTART;TZID=UTC:20250625T103000
DTEND;TZID=UTC:20250625T113000
DTSTAMP:20260419T135205
CREATED:20250530T150923Z
LAST-MODIFIED:20250530T150923Z
UID:10000682-1750847400-1750851000@minerva.oh.us
SUMMARY:Summer Reading Story Time
DESCRIPTION:Join us on Wednesday mornings for stories\, songs\, games\, & creative activities for 0-5 year-olds and their caregivers on Wednesdays at 10:30 AM! Promoting Read 1\,000 Books Before Kindergarten.
URL:https://minerva.oh.us/event/summer-reading-story-time/2025-06-25/
LOCATION:Minerva Public Library\, 677 Lynnwood Drive\, Minerva\, OH\, 44657\, United States
END:VEVENT
BEGIN:VEVENT
DTSTART;TZID=UTC:20250619T110000
DTEND;TZID=UTC:20250619T120000
DTSTAMP:20260419T135205
CREATED:20250530T195753Z
LAST-MODIFIED:20250530T195753Z
UID:10000695-1750330800-1750334400@minerva.oh.us
SUMMARY:Animal Reading Friends - Minerva Public Library
DESCRIPTION:School age children sign-up to read with our gentle Animal Reading Friends. \n  \nChildren each have their own 15 minutes to read with one of our two Golden Retriever friends.\nThe gentle dogs are accompanied by their kind owners Ray & Sharon Morgenstern. \nCall the library at 330-868-4101 and ask for Youth Services to sign up for your 15 minutes of reading to a patient\, good-natured dog. \nThursdays 11:00-12:00  June 11 – July 30.
URL:https://minerva.oh.us/event/animal-reading-friends-minerva-public-library/2025-06-19/
LOCATION:Minerva Public Library\, 677 Lynnwood Drive\, Minerva\, OH\, 44657\, United States
END:VEVENT
BEGIN:VEVENT
DTSTART;TZID=UTC:20250618T103000
DTEND;TZID=UTC:20250618T113000
DTSTAMP:20260419T135205
CREATED:20250530T150923Z
LAST-MODIFIED:20250530T150923Z
UID:10000681-1750242600-1750246200@minerva.oh.us
SUMMARY:Summer Reading Story Time
DESCRIPTION:Join us on Wednesday mornings for stories\, songs\, games\, & creative activities for 0-5 year-olds and their caregivers on Wednesdays at 10:30 AM! Promoting Read 1\,000 Books Before Kindergarten.
URL:https://minerva.oh.us/event/summer-reading-story-time/2025-06-18/
LOCATION:Minerva Public Library\, 677 Lynnwood Drive\, Minerva\, OH\, 44657\, United States
END:VEVENT
BEGIN:VEVENT
DTSTART;TZID=UTC:20250612T110000
DTEND;TZID=UTC:20250612T120000
DTSTAMP:20260419T135205
CREATED:20250530T195753Z
LAST-MODIFIED:20250530T195753Z
UID:10000694-1749726000-1749729600@minerva.oh.us
SUMMARY:Animal Reading Friends - Minerva Public Library
DESCRIPTION:School age children sign-up to read with our gentle Animal Reading Friends. \n  \nChildren each have their own 15 minutes to read with one of our two Golden Retriever friends.\nThe gentle dogs are accompanied by their kind owners Ray & Sharon Morgenstern. \nCall the library at 330-868-4101 and ask for Youth Services to sign up for your 15 minutes of reading to a patient\, good-natured dog. \nThursdays 11:00-12:00  June 11 – July 30.
URL:https://minerva.oh.us/event/animal-reading-friends-minerva-public-library/2025-06-12/
LOCATION:Minerva Public Library\, 677 Lynnwood Drive\, Minerva\, OH\, 44657\, United States
END:VEVENT
END:VCALENDAR