BEGIN:VCALENDAR
VERSION:2.0
PRODID:-//The Village of Minerva - ECPv6.15.20//NONSGML v1.0//EN
CALSCALE:GREGORIAN
METHOD:PUBLISH
X-ORIGINAL-URL:https://minerva.oh.us
X-WR-CALDESC:Events for The Village of Minerva
REFRESH-INTERVAL;VALUE=DURATION:PT1H
X-Robots-Tag:noindex
X-PUBLISHED-TTL:PT1H
BEGIN:VTIMEZONE
TZID:UTC
BEGIN:STANDARD
TZOFFSETFROM:+0000
TZOFFSETTO:+0000
TZNAME:UTC
DTSTART:20230101T000000
END:STANDARD
END:VTIMEZONE
BEGIN:VEVENT
DTSTART;TZID=UTC:20250414T173000
DTEND;TZID=UTC:20250414T183000
DTSTAMP:20260419T183645
CREATED:20250404T124331Z
LAST-MODIFIED:20250404T124331Z
UID:10000539-1744651800-1744655400@minerva.oh.us
SUMMARY:"Dementia: Difficult Conversations"
DESCRIPTION:Dementia Conversations\n\nApril 14 @ 5:30 pm – 6:30 pm\nFree\n\n\nWhen you start noticing signs of dementia\, it’s really important to have open conversations about it. We understand that discussing changes in behavior with family can feel a bit daunting and even a little awkward. But don’t worry! This program offers some fantastic tips to help you ease into those discussions. You’ve got this\, and having these conversations can really help everyone involved!\nPresented by the Alzheimer’s Association
URL:https://minerva.oh.us/event/dementia-difficult-conversations/
LOCATION:Minerva Public Library\, 677 Lynnwood Drive\, Minerva\, OH\, 44657\, United States
END:VEVENT
BEGIN:VEVENT
DTSTART;VALUE=DATE:20250414
DTEND;VALUE=DATE:20250419
DTSTAMP:20260419T183645
CREATED:20250402T152154Z
LAST-MODIFIED:20250402T152154Z
UID:10000525-1744588800-1745020799@minerva.oh.us
SUMMARY:Peeps Diorama Contest Judging
DESCRIPTION:At the Minerva Public Library
URL:https://minerva.oh.us/event/peeps-diorama-contest-judging/
LOCATION:Minerva Public Library\, 677 Lynnwood Drive\, Minerva\, OH\, 44657\, United States
END:VEVENT
BEGIN:VEVENT
DTSTART;TZID=UTC:20250408T103000
DTEND;TZID=UTC:20250408T113000
DTSTAMP:20260419T183645
CREATED:20250402T152530Z
LAST-MODIFIED:20250402T152530Z
UID:10000528-1744108200-1744111800@minerva.oh.us
SUMMARY:Adult In-Person Craft
DESCRIPTION:At the Minerva Public Library \nMandala inspired rock painting
URL:https://minerva.oh.us/event/adult-in-person-craft-2/
LOCATION:Minerva Public Library\, 677 Lynnwood Drive\, Minerva\, OH\, 44657\, United States
END:VEVENT
BEGIN:VEVENT
DTSTART;TZID=UTC:20250407T143000
DTEND;TZID=UTC:20250407T153000
DTSTAMP:20260419T183645
CREATED:20250402T152348Z
LAST-MODIFIED:20250402T152348Z
UID:10000527-1744036200-1744039800@minerva.oh.us
SUMMARY:"Heart Healthy Salads"
DESCRIPTION:At the Minerva Public Library – registration is required.
URL:https://minerva.oh.us/event/heart-healthy-salads/
LOCATION:Minerva Public Library\, 677 Lynnwood Drive\, Minerva\, OH\, 44657\, United States
END:VEVENT
BEGIN:VEVENT
DTSTART;TZID=UTC:20250403T180000
DTEND;TZID=UTC:20250403T190000
DTSTAMP:20260419T183645
CREATED:20250402T152246Z
LAST-MODIFIED:20250402T152246Z
UID:10000526-1743703200-1743706800@minerva.oh.us
SUMMARY:"Starting Seeds"
DESCRIPTION:At the Minerva Public Library – registration required
URL:https://minerva.oh.us/event/starting-seeds/
LOCATION:Minerva Public Library\, 677 Lynnwood Drive\, Minerva\, OH\, 44657\, United States
END:VEVENT
BEGIN:VEVENT
DTSTART;TZID=UTC:20250402T103000
DTEND;TZID=UTC:20250402T113000
DTSTAMP:20260419T183645
CREATED:20250401T190947Z
LAST-MODIFIED:20250401T190947Z
UID:10000519-1743589800-1743593400@minerva.oh.us
SUMMARY:Storytime & Book Beginnings
DESCRIPTION:Minerva Public Library
URL:https://minerva.oh.us/event/storytime-book-beginnings/
LOCATION:Minerva Public Library\, 677 Lynnwood Drive\, Minerva\, OH\, 44657\, United States
END:VEVENT
BEGIN:VEVENT
DTSTART;TZID=UTC:20250327T183000
DTEND;TZID=UTC:20250327T193000
DTSTAMP:20260419T183645
CREATED:20250224T202732Z
LAST-MODIFIED:20250224T202732Z
UID:10000517-1743100200-1743103800@minerva.oh.us
SUMMARY:Family Fun Night - Spring Snow catchers
DESCRIPTION:at the Minerva Public Library
URL:https://minerva.oh.us/event/family-fun-night-spring-snow-catchers/
LOCATION:Minerva Public Library\, 677 Lynnwood Drive\, Minerva\, OH\, 44657\, United States
END:VEVENT
BEGIN:VEVENT
DTSTART;TZID=UTC:20250324T183000
DTEND;TZID=UTC:20250324T193000
DTSTAMP:20260419T183645
CREATED:20250224T202459Z
LAST-MODIFIED:20250224T202459Z
UID:10000516-1742841000-1742844600@minerva.oh.us
SUMMARY:Who Gets Grandma's Yellow Pie Plate?
DESCRIPTION:Inheritance questions – Minerva Public Library at 6:30 pm
URL:https://minerva.oh.us/event/who-gets-grandmas-yellow-pie-plate/
LOCATION:Minerva Public Library\, 677 Lynnwood Drive\, Minerva\, OH\, 44657\, United States
END:VEVENT
BEGIN:VEVENT
DTSTART;TZID=UTC:20250312T103000
DTEND;TZID=UTC:20250312T113000
DTSTAMP:20260419T183645
CREATED:20250224T200940Z
LAST-MODIFIED:20250224T200940Z
UID:10000511-1741775400-1741779000@minerva.oh.us
SUMMARY:St. Patrick's Day Special Storytime & Book Beginnings
DESCRIPTION:At the Minerva Public Library\, 10:30 am
URL:https://minerva.oh.us/event/st-patricks-day-special-storytime-book-beginnings/
LOCATION:Minerva Public Library\, 677 Lynnwood Drive\, Minerva\, OH\, 44657\, United States
END:VEVENT
BEGIN:VEVENT
DTSTART;TZID=UTC:20250311T103000
DTEND;TZID=UTC:20250311T113000
DTSTAMP:20260419T183645
CREATED:20250224T200341Z
LAST-MODIFIED:20250224T200341Z
UID:10000508-1741689000-1741692600@minerva.oh.us
SUMMARY:Adult in-person craft\, Beaded Bookmarks
DESCRIPTION:Adult in-person craft\, Beaded Bookmarks\, at the Minerva Public Library
URL:https://minerva.oh.us/event/adult-in-person-craft-beaded-bookmarks/
LOCATION:Minerva Public Library\, 677 Lynnwood Drive\, Minerva\, OH\, 44657\, United States
END:VEVENT
BEGIN:VEVENT
DTSTART;TZID=UTC:20250303T180000
DTEND;TZID=UTC:20250303T190000
DTSTAMP:20260419T183645
CREATED:20250224T195940Z
LAST-MODIFIED:20250224T195940Z
UID:10000505-1741024800-1741028400@minerva.oh.us
SUMMARY:Medicare 101
DESCRIPTION:Medicare 101 discussion at the Minerva Public Library
URL:https://minerva.oh.us/event/medicare-101/
LOCATION:Minerva Public Library\, 677 Lynnwood Drive\, Minerva\, OH\, 44657\, United States
END:VEVENT
BEGIN:VEVENT
DTSTART;TZID=UTC:20250227T183000
DTEND;TZID=UTC:20250227T193000
DTSTAMP:20260419T183645
CREATED:20250203T175112Z
LAST-MODIFIED:20250203T175112Z
UID:10000500-1740681000-1740684600@minerva.oh.us
SUMMARY:Family Fun Night\, Build a Snowman
DESCRIPTION:Minerva Public Library
URL:https://minerva.oh.us/event/family-fun-night-build-a-snowman/
LOCATION:Minerva Public Library\, 677 Lynnwood Drive\, Minerva\, OH\, 44657\, United States
END:VEVENT
BEGIN:VEVENT
DTSTART;TZID=UTC:20250226T103000
DTEND;TZID=UTC:20250226T113000
DTSTAMP:20260419T183645
CREATED:20250203T174540Z
LAST-MODIFIED:20250203T175031Z
UID:10000499-1740565800-1740569400@minerva.oh.us
SUMMARY:Special Bear Hunt Storytime & Book Beginnings
DESCRIPTION:Minerva Public Library
URL:https://minerva.oh.us/event/special-bear-hunt-storytime-book-beginnings/
LOCATION:Minerva Public Library\, 677 Lynnwood Drive\, Minerva\, OH\, 44657\, United States
END:VEVENT
BEGIN:VEVENT
DTSTART;TZID=UTC:20250224T183000
DTEND;TZID=UTC:20250224T193000
DTSTAMP:20260419T183645
CREATED:20250203T173445Z
LAST-MODIFIED:20250203T173445Z
UID:10000498-1740421800-1740425400@minerva.oh.us
SUMMARY:"William McKinley's stop in Stark County that lasted forever"
DESCRIPTION:Join Mark Holland\, archivist at the McKinley Museum\, as he illustrates with sight and sound a part of William McKinley’s life in Canton before he places himself on the national scene as a Congressman\, Governor of Ohio\, and President of the United States. You will be transported back to Canton\, Ohio in the late 1860’s just after the Civil War.\nSign up by calling 330-868-4101 or online at https://minerva-oh.whofi.com/calendar/event/165847\nThis program is FREE.
URL:https://minerva.oh.us/event/william-mckinleys-stop-in-stark-county-that-lasted-forever/
LOCATION:Minerva Public Library\, 677 Lynnwood Drive\, Minerva\, OH\, 44657\, United States
END:VEVENT
BEGIN:VEVENT
DTSTART;TZID=UTC:20250220T173000
DTEND;TZID=UTC:20250220T183000
DTSTAMP:20260419T183645
CREATED:20250203T173125Z
LAST-MODIFIED:20250203T173125Z
UID:10000496-1740072600-1740076200@minerva.oh.us
SUMMARY:Soulful Soups
DESCRIPTION:OSU Extension\, at Minerva Public Library
URL:https://minerva.oh.us/event/soulful-soups/
LOCATION:Minerva Public Library\, 677 Lynnwood Drive\, Minerva\, OH\, 44657\, United States
END:VEVENT
BEGIN:VEVENT
DTSTART;TZID=UTC:20250212T103000
DTEND;TZID=UTC:20250212T113000
DTSTAMP:20260419T183645
CREATED:20250203T172928Z
LAST-MODIFIED:20250203T172928Z
UID:10000494-1739356200-1739359800@minerva.oh.us
SUMMARY:Special Valentine Storytime & Book Beginnings
DESCRIPTION:Minerva Public Library
URL:https://minerva.oh.us/event/special-valentine-storytime-book-beginnings/
LOCATION:Minerva Public Library\, 677 Lynnwood Drive\, Minerva\, OH\, 44657\, United States
END:VEVENT
BEGIN:VEVENT
DTSTART;TZID=UTC:20250211T103000
DTEND;TZID=UTC:20250211T113000
DTSTAMP:20260419T183645
CREATED:20250203T172555Z
LAST-MODIFIED:20250203T172555Z
UID:10000491-1739269800-1739273400@minerva.oh.us
SUMMARY:Sugar Scrub - Adult In-Person Craft
DESCRIPTION:At the Minerva Public Library
URL:https://minerva.oh.us/event/sugar-scrub-adult-in-person-craft/
LOCATION:Minerva Public Library\, 677 Lynnwood Drive\, Minerva\, OH\, 44657\, United States
END:VEVENT
BEGIN:VEVENT
DTSTART;TZID=UTC:20250130T173000
DTEND;TZID=UTC:20250130T183000
DTSTAMP:20260419T183645
CREATED:20250103T162045Z
LAST-MODIFIED:20250103T162045Z
UID:10000481-1738258200-1738261800@minerva.oh.us
SUMMARY:Winter Wellness
DESCRIPTION:OSU Extension will present Winter Wellness at the Minerva Public Library on Thursday\, January 30 at 5:30 pm.
URL:https://minerva.oh.us/event/winter-wellness/
LOCATION:Minerva Public Library\, 677 Lynnwood Drive\, Minerva\, OH\, 44657\, United States
END:VEVENT
BEGIN:VEVENT
DTSTART;TZID=UTC:20250128T120000
DTEND;TZID=UTC:20250128T133000
DTSTAMP:20260419T183645
CREATED:20250103T161922Z
LAST-MODIFIED:20250103T161945Z
UID:10000480-1738065600-1738071000@minerva.oh.us
SUMMARY:State of the Village Luncheon
DESCRIPTION:The Minerva Chamber of Commerce’s annual State of the Village luncheon will be held on Tuesday\, Jan. 28 at noon at the Minerva Public Library. Please call 330-868-7979 for more information.
URL:https://minerva.oh.us/event/state-of-the-village-luncheon/
LOCATION:Minerva Public Library\, 677 Lynnwood Drive\, Minerva\, OH\, 44657\, United States
END:VEVENT
BEGIN:VEVENT
DTSTART;TZID=UTC:20250114T103000
DTEND;TZID=UTC:20250114T113000
DTSTAMP:20260419T183645
CREATED:20250103T161803Z
LAST-MODIFIED:20250103T161803Z
UID:10000479-1736850600-1736854200@minerva.oh.us
SUMMARY:Adult In-Person Craft
DESCRIPTION:Minerva Public Library will be holding an adult in-person craft: Kusudama book page flowers \nTuesday\, Jan. 14 10:30 am
URL:https://minerva.oh.us/event/adult-in-person-craft/
LOCATION:Minerva Public Library\, 677 Lynnwood Drive\, Minerva\, OH\, 44657\, United States
END:VEVENT
BEGIN:VEVENT
DTSTART;TZID=UTC:20241219T180000
DTEND;TZID=UTC:20241219T190000
DTSTAMP:20260419T183645
CREATED:20241202T172516Z
LAST-MODIFIED:20241202T172516Z
UID:10000468-1734631200-1734634800@minerva.oh.us
SUMMARY:Family Fun Night - crafting ornaments
DESCRIPTION:Family Fun Night – crafting ornaments – Minerva Public Library
URL:https://minerva.oh.us/event/family-fun-night-crafting-ornaments/
LOCATION:Minerva Public Library\, 677 Lynnwood Drive\, Minerva\, OH\, 44657\, United States
END:VEVENT
BEGIN:VEVENT
DTSTART;TZID=UTC:20241207T100000
DTEND;TZID=UTC:20241207T120000
DTSTAMP:20260419T183645
CREATED:20241202T171541Z
LAST-MODIFIED:20241202T171628Z
UID:10000461-1733565600-1733572800@minerva.oh.us
SUMMARY:Minerva Public Library's Grinchmas
DESCRIPTION:
URL:https://minerva.oh.us/event/grinchy-storytime-at-minerva-public-library/
LOCATION:Minerva Public Library\, 677 Lynnwood Drive\, Minerva\, OH\, 44657\, United States
END:VEVENT
BEGIN:VEVENT
DTSTART;TZID=UTC:20241121T180000
DTEND;TZID=UTC:20241121T200000
DTSTAMP:20260419T183645
CREATED:20241101T193822Z
LAST-MODIFIED:20241101T193822Z
UID:10000459-1732212000-1732219200@minerva.oh.us
SUMMARY:Family Fun Night at the Minerva Public Library
DESCRIPTION:Board games at the Minerva Public Library!
URL:https://minerva.oh.us/event/family-fun-night-at-the-minerva-public-library/
LOCATION:Minerva Public Library\, 677 Lynnwood Drive\, Minerva\, OH\, 44657\, United States
END:VEVENT
BEGIN:VEVENT
DTSTART;TZID=UTC:20241112T103000
DTEND;TZID=UTC:20241112T113000
DTSTAMP:20260419T183645
CREATED:20241101T193221Z
LAST-MODIFIED:20241101T193221Z
UID:10000456-1731407400-1731411000@minerva.oh.us
SUMMARY:Adult In-Person Craft\, Minerva Public Library
DESCRIPTION:Adult In-Person Craft at the Minerva Public Library: Folded book page tree art
URL:https://minerva.oh.us/event/adult-in-person-craft-minerva-public-library/
LOCATION:Minerva Public Library\, 677 Lynnwood Drive\, Minerva\, OH\, 44657\, United States
END:VEVENT
BEGIN:VEVENT
DTSTART;TZID=UTC:20241024T180000
DTEND;TZID=UTC:20241024T190000
DTSTAMP:20260419T183645
CREATED:20241022T191514Z
LAST-MODIFIED:20241022T191514Z
UID:10000448-1729792800-1729796400@minerva.oh.us
SUMMARY:Design Your Own Halloween Treat Bags
DESCRIPTION:Design your own Halloween treat bags at the Minerva Public Library. \nThursday\, October 24 from 6-7 pm. Call 330-868-4101 to register OR visit the Library’s website to register online.
URL:https://minerva.oh.us/event/design-your-own-halloween-treat-bags/
LOCATION:Minerva Public Library\, 677 Lynnwood Drive\, Minerva\, OH\, 44657\, United States
END:VEVENT
BEGIN:VEVENT
DTSTART;TZID=UTC:20241019T100000
DTEND;TZID=UTC:20241026T170000
DTSTAMP:20260419T183645
CREATED:20241015T145141Z
LAST-MODIFIED:20241015T145141Z
UID:10000438-1729332000-1729962000@minerva.oh.us
SUMMARY:Fall Book Sale at the Minerva Public Library
DESCRIPTION:Minerva Public Library’s Fall Book Sale will be Oct. 19-26\, featuring an extensive selection of books suitable for all ages and interests at just 25 cents each. There will also be a variety of DVDs\, music CDs\, and audiobooks available for purchase. Proceeds will be used for new library materials and programming\, with 50 percent of the funds allocated to support Dolly Parton’s Imagination Library of Ohio. The sale is open during regular library hours\, and new items are added daily. The last day of the sale\, Saturday\, Oct. 26\, will be the ever-popular $1 a bag sale.
URL:https://minerva.oh.us/event/fall-book-sale-at-the-minerva-public-library/
LOCATION:Minerva Public Library\, 677 Lynnwood Drive\, Minerva\, OH\, 44657\, United States
END:VEVENT
END:VCALENDAR