BEGIN:VCALENDAR
VERSION:2.0
PRODID:-//The Village of Minerva - ECPv6.15.20//NONSGML v1.0//EN
CALSCALE:GREGORIAN
METHOD:PUBLISH
X-WR-CALNAME:The Village of Minerva
X-ORIGINAL-URL:https://minerva.oh.us
X-WR-CALDESC:Events for The Village of Minerva
REFRESH-INTERVAL;VALUE=DURATION:PT1H
X-Robots-Tag:noindex
X-PUBLISHED-TTL:PT1H
BEGIN:VTIMEZONE
TZID:UTC
BEGIN:STANDARD
TZOFFSETFROM:+0000
TZOFFSETTO:+0000
TZNAME:UTC
DTSTART:20250101T000000
END:STANDARD
END:VTIMEZONE
BEGIN:VEVENT
DTSTART;TZID=UTC:20260422T130000
DTEND;TZID=UTC:20260422T150000
DTSTAMP:20260421T112132
CREATED:20260403T160834Z
LAST-MODIFIED:20260403T160834Z
UID:10001266-1776862800-1776870000@minerva.oh.us
SUMMARY:Bingo at the Minerva Senior Center
DESCRIPTION:Bingo at the Minerva Senior Center. Every Wednesday from 1-3. \n1200 Valley St. Minerva.
URL:https://minerva.oh.us/event/bingo-at-the-minerva-senior-center/2026-04-22/
LOCATION:Minerva Senior Center\, 1200 Valley St.\, Minerva\, OH\, 44657\, United States
END:VEVENT
BEGIN:VEVENT
DTSTART;TZID=UTC:20260424T183000
DTEND;TZID=UTC:20260424T203000
DTSTAMP:20260421T112132
CREATED:20260403T160943Z
LAST-MODIFIED:20260403T160943Z
UID:10001528-1777055400-1777062600@minerva.oh.us
SUMMARY:Euchre at the Minerva Senior Center
DESCRIPTION:Euchre at the Minerva Senior Center every Friday at 6:30 PM. \n1200 Valley St. Minerva
URL:https://minerva.oh.us/event/euchre-at-the-minerva-senior-center/2026-04-24/
LOCATION:Minerva Senior Center\, 1200 Valley St.\, Minerva\, OH\, 44657\, United States
END:VEVENT
BEGIN:VEVENT
DTSTART;TZID=UTC:20260429T130000
DTEND;TZID=UTC:20260429T150000
DTSTAMP:20260421T112132
CREATED:20260403T160834Z
LAST-MODIFIED:20260403T160834Z
UID:10001267-1777467600-1777474800@minerva.oh.us
SUMMARY:Bingo at the Minerva Senior Center
DESCRIPTION:Bingo at the Minerva Senior Center. Every Wednesday from 1-3. \n1200 Valley St. Minerva.
URL:https://minerva.oh.us/event/bingo-at-the-minerva-senior-center/2026-04-29/
LOCATION:Minerva Senior Center\, 1200 Valley St.\, Minerva\, OH\, 44657\, United States
END:VEVENT
BEGIN:VEVENT
DTSTART;TZID=UTC:20260501T183000
DTEND;TZID=UTC:20260501T203000
DTSTAMP:20260421T112132
CREATED:20260403T160943Z
LAST-MODIFIED:20260403T160943Z
UID:10001529-1777660200-1777667400@minerva.oh.us
SUMMARY:Euchre at the Minerva Senior Center
DESCRIPTION:Euchre at the Minerva Senior Center every Friday at 6:30 PM. \n1200 Valley St. Minerva
URL:https://minerva.oh.us/event/euchre-at-the-minerva-senior-center/2026-05-01/
LOCATION:Minerva Senior Center\, 1200 Valley St.\, Minerva\, OH\, 44657\, United States
END:VEVENT
BEGIN:VEVENT
DTSTART;TZID=UTC:20260506T130000
DTEND;TZID=UTC:20260506T150000
DTSTAMP:20260421T112132
CREATED:20260403T160834Z
LAST-MODIFIED:20260403T160834Z
UID:10001268-1778072400-1778079600@minerva.oh.us
SUMMARY:Bingo at the Minerva Senior Center
DESCRIPTION:Bingo at the Minerva Senior Center. Every Wednesday from 1-3. \n1200 Valley St. Minerva.
URL:https://minerva.oh.us/event/bingo-at-the-minerva-senior-center/2026-05-06/
LOCATION:Minerva Senior Center\, 1200 Valley St.\, Minerva\, OH\, 44657\, United States
END:VEVENT
BEGIN:VEVENT
DTSTART;TZID=UTC:20260508T183000
DTEND;TZID=UTC:20260508T203000
DTSTAMP:20260421T112132
CREATED:20260403T160943Z
LAST-MODIFIED:20260403T160943Z
UID:10001530-1778265000-1778272200@minerva.oh.us
SUMMARY:Euchre at the Minerva Senior Center
DESCRIPTION:Euchre at the Minerva Senior Center every Friday at 6:30 PM. \n1200 Valley St. Minerva
URL:https://minerva.oh.us/event/euchre-at-the-minerva-senior-center/2026-05-08/
LOCATION:Minerva Senior Center\, 1200 Valley St.\, Minerva\, OH\, 44657\, United States
END:VEVENT
BEGIN:VEVENT
DTSTART;TZID=UTC:20260513T130000
DTEND;TZID=UTC:20260513T150000
DTSTAMP:20260421T112132
CREATED:20260403T160834Z
LAST-MODIFIED:20260403T160834Z
UID:10001269-1778677200-1778684400@minerva.oh.us
SUMMARY:Bingo at the Minerva Senior Center
DESCRIPTION:Bingo at the Minerva Senior Center. Every Wednesday from 1-3. \n1200 Valley St. Minerva.
URL:https://minerva.oh.us/event/bingo-at-the-minerva-senior-center/2026-05-13/
LOCATION:Minerva Senior Center\, 1200 Valley St.\, Minerva\, OH\, 44657\, United States
END:VEVENT
BEGIN:VEVENT
DTSTART;TZID=UTC:20260515T183000
DTEND;TZID=UTC:20260515T203000
DTSTAMP:20260421T112132
CREATED:20260403T160943Z
LAST-MODIFIED:20260403T160943Z
UID:10001531-1778869800-1778877000@minerva.oh.us
SUMMARY:Euchre at the Minerva Senior Center
DESCRIPTION:Euchre at the Minerva Senior Center every Friday at 6:30 PM. \n1200 Valley St. Minerva
URL:https://minerva.oh.us/event/euchre-at-the-minerva-senior-center/2026-05-15/
LOCATION:Minerva Senior Center\, 1200 Valley St.\, Minerva\, OH\, 44657\, United States
END:VEVENT
BEGIN:VEVENT
DTSTART;TZID=UTC:20260520T130000
DTEND;TZID=UTC:20260520T150000
DTSTAMP:20260421T112132
CREATED:20260403T160834Z
LAST-MODIFIED:20260403T160834Z
UID:10001270-1779282000-1779289200@minerva.oh.us
SUMMARY:Bingo at the Minerva Senior Center
DESCRIPTION:Bingo at the Minerva Senior Center. Every Wednesday from 1-3. \n1200 Valley St. Minerva.
URL:https://minerva.oh.us/event/bingo-at-the-minerva-senior-center/2026-05-20/
LOCATION:Minerva Senior Center\, 1200 Valley St.\, Minerva\, OH\, 44657\, United States
END:VEVENT
BEGIN:VEVENT
DTSTART;TZID=UTC:20260522T183000
DTEND;TZID=UTC:20260522T203000
DTSTAMP:20260421T112132
CREATED:20260403T160943Z
LAST-MODIFIED:20260403T160943Z
UID:10001532-1779474600-1779481800@minerva.oh.us
SUMMARY:Euchre at the Minerva Senior Center
DESCRIPTION:Euchre at the Minerva Senior Center every Friday at 6:30 PM. \n1200 Valley St. Minerva
URL:https://minerva.oh.us/event/euchre-at-the-minerva-senior-center/2026-05-22/
LOCATION:Minerva Senior Center\, 1200 Valley St.\, Minerva\, OH\, 44657\, United States
END:VEVENT
BEGIN:VEVENT
DTSTART;TZID=UTC:20260527T130000
DTEND;TZID=UTC:20260527T150000
DTSTAMP:20260421T112132
CREATED:20260403T160834Z
LAST-MODIFIED:20260403T160834Z
UID:10001271-1779886800-1779894000@minerva.oh.us
SUMMARY:Bingo at the Minerva Senior Center
DESCRIPTION:Bingo at the Minerva Senior Center. Every Wednesday from 1-3. \n1200 Valley St. Minerva.
URL:https://minerva.oh.us/event/bingo-at-the-minerva-senior-center/2026-05-27/
LOCATION:Minerva Senior Center\, 1200 Valley St.\, Minerva\, OH\, 44657\, United States
END:VEVENT
BEGIN:VEVENT
DTSTART;TZID=UTC:20260529T183000
DTEND;TZID=UTC:20260529T203000
DTSTAMP:20260421T112132
CREATED:20260403T160943Z
LAST-MODIFIED:20260403T160943Z
UID:10001533-1780079400-1780086600@minerva.oh.us
SUMMARY:Euchre at the Minerva Senior Center
DESCRIPTION:Euchre at the Minerva Senior Center every Friday at 6:30 PM. \n1200 Valley St. Minerva
URL:https://minerva.oh.us/event/euchre-at-the-minerva-senior-center/2026-05-29/
LOCATION:Minerva Senior Center\, 1200 Valley St.\, Minerva\, OH\, 44657\, United States
END:VEVENT
BEGIN:VEVENT
DTSTART;TZID=UTC:20260603T130000
DTEND;TZID=UTC:20260603T150000
DTSTAMP:20260421T112132
CREATED:20260403T160834Z
LAST-MODIFIED:20260403T160834Z
UID:10001272-1780491600-1780498800@minerva.oh.us
SUMMARY:Bingo at the Minerva Senior Center
DESCRIPTION:Bingo at the Minerva Senior Center. Every Wednesday from 1-3. \n1200 Valley St. Minerva.
URL:https://minerva.oh.us/event/bingo-at-the-minerva-senior-center/2026-06-03/
LOCATION:Minerva Senior Center\, 1200 Valley St.\, Minerva\, OH\, 44657\, United States
END:VEVENT
BEGIN:VEVENT
DTSTART;TZID=UTC:20260605T183000
DTEND;TZID=UTC:20260605T203000
DTSTAMP:20260421T112132
CREATED:20260403T160943Z
LAST-MODIFIED:20260403T160943Z
UID:10001534-1780684200-1780691400@minerva.oh.us
SUMMARY:Euchre at the Minerva Senior Center
DESCRIPTION:Euchre at the Minerva Senior Center every Friday at 6:30 PM. \n1200 Valley St. Minerva
URL:https://minerva.oh.us/event/euchre-at-the-minerva-senior-center/2026-06-05/
LOCATION:Minerva Senior Center\, 1200 Valley St.\, Minerva\, OH\, 44657\, United States
END:VEVENT
BEGIN:VEVENT
DTSTART;TZID=UTC:20260610T130000
DTEND;TZID=UTC:20260610T150000
DTSTAMP:20260421T112132
CREATED:20260403T160834Z
LAST-MODIFIED:20260403T160834Z
UID:10001273-1781096400-1781103600@minerva.oh.us
SUMMARY:Bingo at the Minerva Senior Center
DESCRIPTION:Bingo at the Minerva Senior Center. Every Wednesday from 1-3. \n1200 Valley St. Minerva.
URL:https://minerva.oh.us/event/bingo-at-the-minerva-senior-center/2026-06-10/
LOCATION:Minerva Senior Center\, 1200 Valley St.\, Minerva\, OH\, 44657\, United States
END:VEVENT
BEGIN:VEVENT
DTSTART;TZID=UTC:20260612T183000
DTEND;TZID=UTC:20260612T203000
DTSTAMP:20260421T112132
CREATED:20260403T160943Z
LAST-MODIFIED:20260403T160943Z
UID:10001535-1781289000-1781296200@minerva.oh.us
SUMMARY:Euchre at the Minerva Senior Center
DESCRIPTION:Euchre at the Minerva Senior Center every Friday at 6:30 PM. \n1200 Valley St. Minerva
URL:https://minerva.oh.us/event/euchre-at-the-minerva-senior-center/2026-06-12/
LOCATION:Minerva Senior Center\, 1200 Valley St.\, Minerva\, OH\, 44657\, United States
END:VEVENT
BEGIN:VEVENT
DTSTART;TZID=UTC:20260617T130000
DTEND;TZID=UTC:20260617T150000
DTSTAMP:20260421T112132
CREATED:20260403T160834Z
LAST-MODIFIED:20260403T160834Z
UID:10001274-1781701200-1781708400@minerva.oh.us
SUMMARY:Bingo at the Minerva Senior Center
DESCRIPTION:Bingo at the Minerva Senior Center. Every Wednesday from 1-3. \n1200 Valley St. Minerva.
URL:https://minerva.oh.us/event/bingo-at-the-minerva-senior-center/2026-06-17/
LOCATION:Minerva Senior Center\, 1200 Valley St.\, Minerva\, OH\, 44657\, United States
END:VEVENT
BEGIN:VEVENT
DTSTART;TZID=UTC:20260619T183000
DTEND;TZID=UTC:20260619T203000
DTSTAMP:20260421T112132
CREATED:20260403T160943Z
LAST-MODIFIED:20260403T160943Z
UID:10001536-1781893800-1781901000@minerva.oh.us
SUMMARY:Euchre at the Minerva Senior Center
DESCRIPTION:Euchre at the Minerva Senior Center every Friday at 6:30 PM. \n1200 Valley St. Minerva
URL:https://minerva.oh.us/event/euchre-at-the-minerva-senior-center/2026-06-19/
LOCATION:Minerva Senior Center\, 1200 Valley St.\, Minerva\, OH\, 44657\, United States
END:VEVENT
BEGIN:VEVENT
DTSTART;TZID=UTC:20260624T130000
DTEND;TZID=UTC:20260624T150000
DTSTAMP:20260421T112132
CREATED:20260403T160834Z
LAST-MODIFIED:20260403T160834Z
UID:10001275-1782306000-1782313200@minerva.oh.us
SUMMARY:Bingo at the Minerva Senior Center
DESCRIPTION:Bingo at the Minerva Senior Center. Every Wednesday from 1-3. \n1200 Valley St. Minerva.
URL:https://minerva.oh.us/event/bingo-at-the-minerva-senior-center/2026-06-24/
LOCATION:Minerva Senior Center\, 1200 Valley St.\, Minerva\, OH\, 44657\, United States
END:VEVENT
BEGIN:VEVENT
DTSTART;TZID=UTC:20260626T183000
DTEND;TZID=UTC:20260626T203000
DTSTAMP:20260421T112132
CREATED:20260403T160943Z
LAST-MODIFIED:20260403T160943Z
UID:10001537-1782498600-1782505800@minerva.oh.us
SUMMARY:Euchre at the Minerva Senior Center
DESCRIPTION:Euchre at the Minerva Senior Center every Friday at 6:30 PM. \n1200 Valley St. Minerva
URL:https://minerva.oh.us/event/euchre-at-the-minerva-senior-center/2026-06-26/
LOCATION:Minerva Senior Center\, 1200 Valley St.\, Minerva\, OH\, 44657\, United States
END:VEVENT
BEGIN:VEVENT
DTSTART;TZID=UTC:20260701T130000
DTEND;TZID=UTC:20260701T150000
DTSTAMP:20260421T112132
CREATED:20260403T160834Z
LAST-MODIFIED:20260403T160834Z
UID:10001276-1782910800-1782918000@minerva.oh.us
SUMMARY:Bingo at the Minerva Senior Center
DESCRIPTION:Bingo at the Minerva Senior Center. Every Wednesday from 1-3. \n1200 Valley St. Minerva.
URL:https://minerva.oh.us/event/bingo-at-the-minerva-senior-center/2026-07-01/
LOCATION:Minerva Senior Center\, 1200 Valley St.\, Minerva\, OH\, 44657\, United States
END:VEVENT
BEGIN:VEVENT
DTSTART;TZID=UTC:20260703T183000
DTEND;TZID=UTC:20260703T203000
DTSTAMP:20260421T112132
CREATED:20260403T160943Z
LAST-MODIFIED:20260403T160943Z
UID:10001538-1783103400-1783110600@minerva.oh.us
SUMMARY:Euchre at the Minerva Senior Center
DESCRIPTION:Euchre at the Minerva Senior Center every Friday at 6:30 PM. \n1200 Valley St. Minerva
URL:https://minerva.oh.us/event/euchre-at-the-minerva-senior-center/2026-07-03/
LOCATION:Minerva Senior Center\, 1200 Valley St.\, Minerva\, OH\, 44657\, United States
END:VEVENT
BEGIN:VEVENT
DTSTART;TZID=UTC:20260708T130000
DTEND;TZID=UTC:20260708T150000
DTSTAMP:20260421T112132
CREATED:20260403T160834Z
LAST-MODIFIED:20260403T160834Z
UID:10001277-1783515600-1783522800@minerva.oh.us
SUMMARY:Bingo at the Minerva Senior Center
DESCRIPTION:Bingo at the Minerva Senior Center. Every Wednesday from 1-3. \n1200 Valley St. Minerva.
URL:https://minerva.oh.us/event/bingo-at-the-minerva-senior-center/2026-07-08/
LOCATION:Minerva Senior Center\, 1200 Valley St.\, Minerva\, OH\, 44657\, United States
END:VEVENT
BEGIN:VEVENT
DTSTART;TZID=UTC:20260710T183000
DTEND;TZID=UTC:20260710T203000
DTSTAMP:20260421T112132
CREATED:20260403T160943Z
LAST-MODIFIED:20260403T160943Z
UID:10001539-1783708200-1783715400@minerva.oh.us
SUMMARY:Euchre at the Minerva Senior Center
DESCRIPTION:Euchre at the Minerva Senior Center every Friday at 6:30 PM. \n1200 Valley St. Minerva
URL:https://minerva.oh.us/event/euchre-at-the-minerva-senior-center/2026-07-10/
LOCATION:Minerva Senior Center\, 1200 Valley St.\, Minerva\, OH\, 44657\, United States
END:VEVENT
BEGIN:VEVENT
DTSTART;TZID=UTC:20260715T130000
DTEND;TZID=UTC:20260715T150000
DTSTAMP:20260421T112132
CREATED:20260403T160834Z
LAST-MODIFIED:20260403T160834Z
UID:10001278-1784120400-1784127600@minerva.oh.us
SUMMARY:Bingo at the Minerva Senior Center
DESCRIPTION:Bingo at the Minerva Senior Center. Every Wednesday from 1-3. \n1200 Valley St. Minerva.
URL:https://minerva.oh.us/event/bingo-at-the-minerva-senior-center/2026-07-15/
LOCATION:Minerva Senior Center\, 1200 Valley St.\, Minerva\, OH\, 44657\, United States
END:VEVENT
BEGIN:VEVENT
DTSTART;TZID=UTC:20260717T183000
DTEND;TZID=UTC:20260717T203000
DTSTAMP:20260421T112132
CREATED:20260403T160943Z
LAST-MODIFIED:20260403T160943Z
UID:10001540-1784313000-1784320200@minerva.oh.us
SUMMARY:Euchre at the Minerva Senior Center
DESCRIPTION:Euchre at the Minerva Senior Center every Friday at 6:30 PM. \n1200 Valley St. Minerva
URL:https://minerva.oh.us/event/euchre-at-the-minerva-senior-center/2026-07-17/
LOCATION:Minerva Senior Center\, 1200 Valley St.\, Minerva\, OH\, 44657\, United States
END:VEVENT
BEGIN:VEVENT
DTSTART;TZID=UTC:20260722T130000
DTEND;TZID=UTC:20260722T150000
DTSTAMP:20260421T112132
CREATED:20260403T160834Z
LAST-MODIFIED:20260403T160834Z
UID:10001279-1784725200-1784732400@minerva.oh.us
SUMMARY:Bingo at the Minerva Senior Center
DESCRIPTION:Bingo at the Minerva Senior Center. Every Wednesday from 1-3. \n1200 Valley St. Minerva.
URL:https://minerva.oh.us/event/bingo-at-the-minerva-senior-center/2026-07-22/
LOCATION:Minerva Senior Center\, 1200 Valley St.\, Minerva\, OH\, 44657\, United States
END:VEVENT
BEGIN:VEVENT
DTSTART;TZID=UTC:20260724T183000
DTEND;TZID=UTC:20260724T203000
DTSTAMP:20260421T112132
CREATED:20260403T160943Z
LAST-MODIFIED:20260403T160943Z
UID:10001541-1784917800-1784925000@minerva.oh.us
SUMMARY:Euchre at the Minerva Senior Center
DESCRIPTION:Euchre at the Minerva Senior Center every Friday at 6:30 PM. \n1200 Valley St. Minerva
URL:https://minerva.oh.us/event/euchre-at-the-minerva-senior-center/2026-07-24/
LOCATION:Minerva Senior Center\, 1200 Valley St.\, Minerva\, OH\, 44657\, United States
END:VEVENT
BEGIN:VEVENT
DTSTART;TZID=UTC:20260729T130000
DTEND;TZID=UTC:20260729T150000
DTSTAMP:20260421T112132
CREATED:20260403T160834Z
LAST-MODIFIED:20260403T160834Z
UID:10001280-1785330000-1785337200@minerva.oh.us
SUMMARY:Bingo at the Minerva Senior Center
DESCRIPTION:Bingo at the Minerva Senior Center. Every Wednesday from 1-3. \n1200 Valley St. Minerva.
URL:https://minerva.oh.us/event/bingo-at-the-minerva-senior-center/2026-07-29/
LOCATION:Minerva Senior Center\, 1200 Valley St.\, Minerva\, OH\, 44657\, United States
END:VEVENT
BEGIN:VEVENT
DTSTART;TZID=UTC:20260731T183000
DTEND;TZID=UTC:20260731T203000
DTSTAMP:20260421T112132
CREATED:20260403T160943Z
LAST-MODIFIED:20260403T160943Z
UID:10001542-1785522600-1785529800@minerva.oh.us
SUMMARY:Euchre at the Minerva Senior Center
DESCRIPTION:Euchre at the Minerva Senior Center every Friday at 6:30 PM. \n1200 Valley St. Minerva
URL:https://minerva.oh.us/event/euchre-at-the-minerva-senior-center/2026-07-31/
LOCATION:Minerva Senior Center\, 1200 Valley St.\, Minerva\, OH\, 44657\, United States
END:VEVENT
END:VCALENDAR