BEGIN:VCALENDAR
VERSION:2.0
PRODID:-//The Village of Minerva - ECPv6.15.20//NONSGML v1.0//EN
CALSCALE:GREGORIAN
METHOD:PUBLISH
X-WR-CALNAME:The Village of Minerva
X-ORIGINAL-URL:https://minerva.oh.us
X-WR-CALDESC:Events for The Village of Minerva
REFRESH-INTERVAL;VALUE=DURATION:PT1H
X-Robots-Tag:noindex
X-PUBLISHED-TTL:PT1H
BEGIN:VTIMEZONE
TZID:UTC
BEGIN:STANDARD
TZOFFSETFROM:+0000
TZOFFSETTO:+0000
TZNAME:UTC
DTSTART:20260101T000000
END:STANDARD
END:VTIMEZONE
BEGIN:VEVENT
DTSTART;TZID=UTC:20270908T130000
DTEND;TZID=UTC:20270908T150000
DTSTAMP:20260421T095715
CREATED:20260403T160834Z
LAST-MODIFIED:20260403T160834Z
UID:10001338-1820408400-1820415600@minerva.oh.us
SUMMARY:Bingo at the Minerva Senior Center
DESCRIPTION:Bingo at the Minerva Senior Center. Every Wednesday from 1-3. \n1200 Valley St. Minerva.
URL:https://minerva.oh.us/event/bingo-at-the-minerva-senior-center/2027-09-08/
LOCATION:Minerva Senior Center\, 1200 Valley St.\, Minerva\, OH\, 44657\, United States
END:VEVENT
BEGIN:VEVENT
DTSTART;TZID=UTC:20270910T183000
DTEND;TZID=UTC:20270910T203000
DTSTAMP:20260421T095715
CREATED:20260403T160943Z
LAST-MODIFIED:20260403T160943Z
UID:10001600-1820601000-1820608200@minerva.oh.us
SUMMARY:Euchre at the Minerva Senior Center
DESCRIPTION:Euchre at the Minerva Senior Center every Friday at 6:30 PM. \n1200 Valley St. Minerva
URL:https://minerva.oh.us/event/euchre-at-the-minerva-senior-center/2027-09-10/
LOCATION:Minerva Senior Center\, 1200 Valley St.\, Minerva\, OH\, 44657\, United States
END:VEVENT
BEGIN:VEVENT
DTSTART;TZID=UTC:20270915T130000
DTEND;TZID=UTC:20270915T150000
DTSTAMP:20260421T095715
CREATED:20260403T160834Z
LAST-MODIFIED:20260403T160834Z
UID:10001339-1821013200-1821020400@minerva.oh.us
SUMMARY:Bingo at the Minerva Senior Center
DESCRIPTION:Bingo at the Minerva Senior Center. Every Wednesday from 1-3. \n1200 Valley St. Minerva.
URL:https://minerva.oh.us/event/bingo-at-the-minerva-senior-center/2027-09-15/
LOCATION:Minerva Senior Center\, 1200 Valley St.\, Minerva\, OH\, 44657\, United States
END:VEVENT
BEGIN:VEVENT
DTSTART;TZID=UTC:20270917T183000
DTEND;TZID=UTC:20270917T203000
DTSTAMP:20260421T095715
CREATED:20260403T160943Z
LAST-MODIFIED:20260403T160943Z
UID:10001601-1821205800-1821213000@minerva.oh.us
SUMMARY:Euchre at the Minerva Senior Center
DESCRIPTION:Euchre at the Minerva Senior Center every Friday at 6:30 PM. \n1200 Valley St. Minerva
URL:https://minerva.oh.us/event/euchre-at-the-minerva-senior-center/2027-09-17/
LOCATION:Minerva Senior Center\, 1200 Valley St.\, Minerva\, OH\, 44657\, United States
END:VEVENT
BEGIN:VEVENT
DTSTART;TZID=UTC:20270922T130000
DTEND;TZID=UTC:20270922T150000
DTSTAMP:20260421T095715
CREATED:20260403T160834Z
LAST-MODIFIED:20260403T160834Z
UID:10001340-1821618000-1821625200@minerva.oh.us
SUMMARY:Bingo at the Minerva Senior Center
DESCRIPTION:Bingo at the Minerva Senior Center. Every Wednesday from 1-3. \n1200 Valley St. Minerva.
URL:https://minerva.oh.us/event/bingo-at-the-minerva-senior-center/2027-09-22/
LOCATION:Minerva Senior Center\, 1200 Valley St.\, Minerva\, OH\, 44657\, United States
END:VEVENT
BEGIN:VEVENT
DTSTART;TZID=UTC:20270924T183000
DTEND;TZID=UTC:20270924T203000
DTSTAMP:20260421T095715
CREATED:20260403T160943Z
LAST-MODIFIED:20260403T160943Z
UID:10001602-1821810600-1821817800@minerva.oh.us
SUMMARY:Euchre at the Minerva Senior Center
DESCRIPTION:Euchre at the Minerva Senior Center every Friday at 6:30 PM. \n1200 Valley St. Minerva
URL:https://minerva.oh.us/event/euchre-at-the-minerva-senior-center/2027-09-24/
LOCATION:Minerva Senior Center\, 1200 Valley St.\, Minerva\, OH\, 44657\, United States
END:VEVENT
BEGIN:VEVENT
DTSTART;TZID=UTC:20270929T130000
DTEND;TZID=UTC:20270929T150000
DTSTAMP:20260421T095715
CREATED:20260403T160834Z
LAST-MODIFIED:20260403T160834Z
UID:10001341-1822222800-1822230000@minerva.oh.us
SUMMARY:Bingo at the Minerva Senior Center
DESCRIPTION:Bingo at the Minerva Senior Center. Every Wednesday from 1-3. \n1200 Valley St. Minerva.
URL:https://minerva.oh.us/event/bingo-at-the-minerva-senior-center/2027-09-29/
LOCATION:Minerva Senior Center\, 1200 Valley St.\, Minerva\, OH\, 44657\, United States
END:VEVENT
BEGIN:VEVENT
DTSTART;TZID=UTC:20271001T183000
DTEND;TZID=UTC:20271001T203000
DTSTAMP:20260421T095715
CREATED:20260403T160943Z
LAST-MODIFIED:20260403T160943Z
UID:10001603-1822415400-1822422600@minerva.oh.us
SUMMARY:Euchre at the Minerva Senior Center
DESCRIPTION:Euchre at the Minerva Senior Center every Friday at 6:30 PM. \n1200 Valley St. Minerva
URL:https://minerva.oh.us/event/euchre-at-the-minerva-senior-center/2027-10-01/
LOCATION:Minerva Senior Center\, 1200 Valley St.\, Minerva\, OH\, 44657\, United States
END:VEVENT
BEGIN:VEVENT
DTSTART;TZID=UTC:20271006T130000
DTEND;TZID=UTC:20271006T150000
DTSTAMP:20260421T095715
CREATED:20260403T160834Z
LAST-MODIFIED:20260403T160834Z
UID:10001342-1822827600-1822834800@minerva.oh.us
SUMMARY:Bingo at the Minerva Senior Center
DESCRIPTION:Bingo at the Minerva Senior Center. Every Wednesday from 1-3. \n1200 Valley St. Minerva.
URL:https://minerva.oh.us/event/bingo-at-the-minerva-senior-center/2027-10-06/
LOCATION:Minerva Senior Center\, 1200 Valley St.\, Minerva\, OH\, 44657\, United States
END:VEVENT
BEGIN:VEVENT
DTSTART;TZID=UTC:20271008T183000
DTEND;TZID=UTC:20271008T203000
DTSTAMP:20260421T095715
CREATED:20260403T160943Z
LAST-MODIFIED:20260403T160943Z
UID:10001604-1823020200-1823027400@minerva.oh.us
SUMMARY:Euchre at the Minerva Senior Center
DESCRIPTION:Euchre at the Minerva Senior Center every Friday at 6:30 PM. \n1200 Valley St. Minerva
URL:https://minerva.oh.us/event/euchre-at-the-minerva-senior-center/2027-10-08/
LOCATION:Minerva Senior Center\, 1200 Valley St.\, Minerva\, OH\, 44657\, United States
END:VEVENT
BEGIN:VEVENT
DTSTART;TZID=UTC:20271013T130000
DTEND;TZID=UTC:20271013T150000
DTSTAMP:20260421T095715
CREATED:20260403T160834Z
LAST-MODIFIED:20260403T160834Z
UID:10001343-1823432400-1823439600@minerva.oh.us
SUMMARY:Bingo at the Minerva Senior Center
DESCRIPTION:Bingo at the Minerva Senior Center. Every Wednesday from 1-3. \n1200 Valley St. Minerva.
URL:https://minerva.oh.us/event/bingo-at-the-minerva-senior-center/2027-10-13/
LOCATION:Minerva Senior Center\, 1200 Valley St.\, Minerva\, OH\, 44657\, United States
END:VEVENT
BEGIN:VEVENT
DTSTART;TZID=UTC:20271015T183000
DTEND;TZID=UTC:20271015T203000
DTSTAMP:20260421T095715
CREATED:20260403T160943Z
LAST-MODIFIED:20260403T160943Z
UID:10001605-1823625000-1823632200@minerva.oh.us
SUMMARY:Euchre at the Minerva Senior Center
DESCRIPTION:Euchre at the Minerva Senior Center every Friday at 6:30 PM. \n1200 Valley St. Minerva
URL:https://minerva.oh.us/event/euchre-at-the-minerva-senior-center/2027-10-15/
LOCATION:Minerva Senior Center\, 1200 Valley St.\, Minerva\, OH\, 44657\, United States
END:VEVENT
BEGIN:VEVENT
DTSTART;TZID=UTC:20271020T130000
DTEND;TZID=UTC:20271020T150000
DTSTAMP:20260421T095715
CREATED:20260403T160834Z
LAST-MODIFIED:20260403T160834Z
UID:10001344-1824037200-1824044400@minerva.oh.us
SUMMARY:Bingo at the Minerva Senior Center
DESCRIPTION:Bingo at the Minerva Senior Center. Every Wednesday from 1-3. \n1200 Valley St. Minerva.
URL:https://minerva.oh.us/event/bingo-at-the-minerva-senior-center/2027-10-20/
LOCATION:Minerva Senior Center\, 1200 Valley St.\, Minerva\, OH\, 44657\, United States
END:VEVENT
BEGIN:VEVENT
DTSTART;TZID=UTC:20271022T183000
DTEND;TZID=UTC:20271022T203000
DTSTAMP:20260421T095715
CREATED:20260403T160943Z
LAST-MODIFIED:20260403T160943Z
UID:10001606-1824229800-1824237000@minerva.oh.us
SUMMARY:Euchre at the Minerva Senior Center
DESCRIPTION:Euchre at the Minerva Senior Center every Friday at 6:30 PM. \n1200 Valley St. Minerva
URL:https://minerva.oh.us/event/euchre-at-the-minerva-senior-center/2027-10-22/
LOCATION:Minerva Senior Center\, 1200 Valley St.\, Minerva\, OH\, 44657\, United States
END:VEVENT
BEGIN:VEVENT
DTSTART;TZID=UTC:20271027T130000
DTEND;TZID=UTC:20271027T150000
DTSTAMP:20260421T095715
CREATED:20260403T160834Z
LAST-MODIFIED:20260403T160834Z
UID:10001345-1824642000-1824649200@minerva.oh.us
SUMMARY:Bingo at the Minerva Senior Center
DESCRIPTION:Bingo at the Minerva Senior Center. Every Wednesday from 1-3. \n1200 Valley St. Minerva.
URL:https://minerva.oh.us/event/bingo-at-the-minerva-senior-center/2027-10-27/
LOCATION:Minerva Senior Center\, 1200 Valley St.\, Minerva\, OH\, 44657\, United States
END:VEVENT
BEGIN:VEVENT
DTSTART;TZID=UTC:20271029T183000
DTEND;TZID=UTC:20271029T203000
DTSTAMP:20260421T095715
CREATED:20260403T160943Z
LAST-MODIFIED:20260403T160943Z
UID:10001607-1824834600-1824841800@minerva.oh.us
SUMMARY:Euchre at the Minerva Senior Center
DESCRIPTION:Euchre at the Minerva Senior Center every Friday at 6:30 PM. \n1200 Valley St. Minerva
URL:https://minerva.oh.us/event/euchre-at-the-minerva-senior-center/2027-10-29/
LOCATION:Minerva Senior Center\, 1200 Valley St.\, Minerva\, OH\, 44657\, United States
END:VEVENT
BEGIN:VEVENT
DTSTART;TZID=UTC:20271103T130000
DTEND;TZID=UTC:20271103T150000
DTSTAMP:20260421T095715
CREATED:20260403T160834Z
LAST-MODIFIED:20260403T160834Z
UID:10001346-1825246800-1825254000@minerva.oh.us
SUMMARY:Bingo at the Minerva Senior Center
DESCRIPTION:Bingo at the Minerva Senior Center. Every Wednesday from 1-3. \n1200 Valley St. Minerva.
URL:https://minerva.oh.us/event/bingo-at-the-minerva-senior-center/2027-11-03/
LOCATION:Minerva Senior Center\, 1200 Valley St.\, Minerva\, OH\, 44657\, United States
END:VEVENT
BEGIN:VEVENT
DTSTART;TZID=UTC:20271105T183000
DTEND;TZID=UTC:20271105T203000
DTSTAMP:20260421T095715
CREATED:20260403T160943Z
LAST-MODIFIED:20260403T160943Z
UID:10001608-1825439400-1825446600@minerva.oh.us
SUMMARY:Euchre at the Minerva Senior Center
DESCRIPTION:Euchre at the Minerva Senior Center every Friday at 6:30 PM. \n1200 Valley St. Minerva
URL:https://minerva.oh.us/event/euchre-at-the-minerva-senior-center/2027-11-05/
LOCATION:Minerva Senior Center\, 1200 Valley St.\, Minerva\, OH\, 44657\, United States
END:VEVENT
BEGIN:VEVENT
DTSTART;TZID=UTC:20271110T130000
DTEND;TZID=UTC:20271110T150000
DTSTAMP:20260421T095715
CREATED:20260403T160834Z
LAST-MODIFIED:20260403T160834Z
UID:10001347-1825851600-1825858800@minerva.oh.us
SUMMARY:Bingo at the Minerva Senior Center
DESCRIPTION:Bingo at the Minerva Senior Center. Every Wednesday from 1-3. \n1200 Valley St. Minerva.
URL:https://minerva.oh.us/event/bingo-at-the-minerva-senior-center/2027-11-10/
LOCATION:Minerva Senior Center\, 1200 Valley St.\, Minerva\, OH\, 44657\, United States
END:VEVENT
BEGIN:VEVENT
DTSTART;TZID=UTC:20271112T183000
DTEND;TZID=UTC:20271112T203000
DTSTAMP:20260421T095715
CREATED:20260403T160943Z
LAST-MODIFIED:20260403T160943Z
UID:10001609-1826044200-1826051400@minerva.oh.us
SUMMARY:Euchre at the Minerva Senior Center
DESCRIPTION:Euchre at the Minerva Senior Center every Friday at 6:30 PM. \n1200 Valley St. Minerva
URL:https://minerva.oh.us/event/euchre-at-the-minerva-senior-center/2027-11-12/
LOCATION:Minerva Senior Center\, 1200 Valley St.\, Minerva\, OH\, 44657\, United States
END:VEVENT
BEGIN:VEVENT
DTSTART;TZID=UTC:20271117T130000
DTEND;TZID=UTC:20271117T150000
DTSTAMP:20260421T095715
CREATED:20260403T160834Z
LAST-MODIFIED:20260403T160834Z
UID:10001348-1826456400-1826463600@minerva.oh.us
SUMMARY:Bingo at the Minerva Senior Center
DESCRIPTION:Bingo at the Minerva Senior Center. Every Wednesday from 1-3. \n1200 Valley St. Minerva.
URL:https://minerva.oh.us/event/bingo-at-the-minerva-senior-center/2027-11-17/
LOCATION:Minerva Senior Center\, 1200 Valley St.\, Minerva\, OH\, 44657\, United States
END:VEVENT
BEGIN:VEVENT
DTSTART;TZID=UTC:20271119T183000
DTEND;TZID=UTC:20271119T203000
DTSTAMP:20260421T095715
CREATED:20260403T160943Z
LAST-MODIFIED:20260403T160943Z
UID:10001610-1826649000-1826656200@minerva.oh.us
SUMMARY:Euchre at the Minerva Senior Center
DESCRIPTION:Euchre at the Minerva Senior Center every Friday at 6:30 PM. \n1200 Valley St. Minerva
URL:https://minerva.oh.us/event/euchre-at-the-minerva-senior-center/2027-11-19/
LOCATION:Minerva Senior Center\, 1200 Valley St.\, Minerva\, OH\, 44657\, United States
END:VEVENT
BEGIN:VEVENT
DTSTART;TZID=UTC:20271124T130000
DTEND;TZID=UTC:20271124T150000
DTSTAMP:20260421T095715
CREATED:20260403T160834Z
LAST-MODIFIED:20260403T160834Z
UID:10001349-1827061200-1827068400@minerva.oh.us
SUMMARY:Bingo at the Minerva Senior Center
DESCRIPTION:Bingo at the Minerva Senior Center. Every Wednesday from 1-3. \n1200 Valley St. Minerva.
URL:https://minerva.oh.us/event/bingo-at-the-minerva-senior-center/2027-11-24/
LOCATION:Minerva Senior Center\, 1200 Valley St.\, Minerva\, OH\, 44657\, United States
END:VEVENT
BEGIN:VEVENT
DTSTART;TZID=UTC:20271126T183000
DTEND;TZID=UTC:20271126T203000
DTSTAMP:20260421T095715
CREATED:20260403T160943Z
LAST-MODIFIED:20260403T160943Z
UID:10001611-1827253800-1827261000@minerva.oh.us
SUMMARY:Euchre at the Minerva Senior Center
DESCRIPTION:Euchre at the Minerva Senior Center every Friday at 6:30 PM. \n1200 Valley St. Minerva
URL:https://minerva.oh.us/event/euchre-at-the-minerva-senior-center/2027-11-26/
LOCATION:Minerva Senior Center\, 1200 Valley St.\, Minerva\, OH\, 44657\, United States
END:VEVENT
BEGIN:VEVENT
DTSTART;TZID=UTC:20271201T130000
DTEND;TZID=UTC:20271201T150000
DTSTAMP:20260421T095715
CREATED:20260403T160834Z
LAST-MODIFIED:20260403T160834Z
UID:10001350-1827666000-1827673200@minerva.oh.us
SUMMARY:Bingo at the Minerva Senior Center
DESCRIPTION:Bingo at the Minerva Senior Center. Every Wednesday from 1-3. \n1200 Valley St. Minerva.
URL:https://minerva.oh.us/event/bingo-at-the-minerva-senior-center/2027-12-01/
LOCATION:Minerva Senior Center\, 1200 Valley St.\, Minerva\, OH\, 44657\, United States
END:VEVENT
BEGIN:VEVENT
DTSTART;TZID=UTC:20271203T183000
DTEND;TZID=UTC:20271203T203000
DTSTAMP:20260421T095715
CREATED:20260403T160943Z
LAST-MODIFIED:20260403T160943Z
UID:10001612-1827858600-1827865800@minerva.oh.us
SUMMARY:Euchre at the Minerva Senior Center
DESCRIPTION:Euchre at the Minerva Senior Center every Friday at 6:30 PM. \n1200 Valley St. Minerva
URL:https://minerva.oh.us/event/euchre-at-the-minerva-senior-center/2027-12-03/
LOCATION:Minerva Senior Center\, 1200 Valley St.\, Minerva\, OH\, 44657\, United States
END:VEVENT
BEGIN:VEVENT
DTSTART;TZID=UTC:20271208T130000
DTEND;TZID=UTC:20271208T150000
DTSTAMP:20260421T095715
CREATED:20260403T160834Z
LAST-MODIFIED:20260403T160834Z
UID:10001351-1828270800-1828278000@minerva.oh.us
SUMMARY:Bingo at the Minerva Senior Center
DESCRIPTION:Bingo at the Minerva Senior Center. Every Wednesday from 1-3. \n1200 Valley St. Minerva.
URL:https://minerva.oh.us/event/bingo-at-the-minerva-senior-center/2027-12-08/
LOCATION:Minerva Senior Center\, 1200 Valley St.\, Minerva\, OH\, 44657\, United States
END:VEVENT
BEGIN:VEVENT
DTSTART;TZID=UTC:20271210T183000
DTEND;TZID=UTC:20271210T203000
DTSTAMP:20260421T095715
CREATED:20260403T160943Z
LAST-MODIFIED:20260403T160943Z
UID:10001613-1828463400-1828470600@minerva.oh.us
SUMMARY:Euchre at the Minerva Senior Center
DESCRIPTION:Euchre at the Minerva Senior Center every Friday at 6:30 PM. \n1200 Valley St. Minerva
URL:https://minerva.oh.us/event/euchre-at-the-minerva-senior-center/2027-12-10/
LOCATION:Minerva Senior Center\, 1200 Valley St.\, Minerva\, OH\, 44657\, United States
END:VEVENT
BEGIN:VEVENT
DTSTART;TZID=UTC:20271215T130000
DTEND;TZID=UTC:20271215T150000
DTSTAMP:20260421T095715
CREATED:20260403T160834Z
LAST-MODIFIED:20260403T160834Z
UID:10001352-1828875600-1828882800@minerva.oh.us
SUMMARY:Bingo at the Minerva Senior Center
DESCRIPTION:Bingo at the Minerva Senior Center. Every Wednesday from 1-3. \n1200 Valley St. Minerva.
URL:https://minerva.oh.us/event/bingo-at-the-minerva-senior-center/2027-12-15/
LOCATION:Minerva Senior Center\, 1200 Valley St.\, Minerva\, OH\, 44657\, United States
END:VEVENT
BEGIN:VEVENT
DTSTART;TZID=UTC:20271217T183000
DTEND;TZID=UTC:20271217T203000
DTSTAMP:20260421T095715
CREATED:20260403T160943Z
LAST-MODIFIED:20260403T160943Z
UID:10001614-1829068200-1829075400@minerva.oh.us
SUMMARY:Euchre at the Minerva Senior Center
DESCRIPTION:Euchre at the Minerva Senior Center every Friday at 6:30 PM. \n1200 Valley St. Minerva
URL:https://minerva.oh.us/event/euchre-at-the-minerva-senior-center/2027-12-17/
LOCATION:Minerva Senior Center\, 1200 Valley St.\, Minerva\, OH\, 44657\, United States
END:VEVENT
END:VCALENDAR