BEGIN:VCALENDAR
VERSION:2.0
PRODID:-//The Village of Minerva - ECPv6.15.20//NONSGML v1.0//EN
CALSCALE:GREGORIAN
METHOD:PUBLISH
X-WR-CALNAME:The Village of Minerva
X-ORIGINAL-URL:https://minerva.oh.us
X-WR-CALDESC:Events for The Village of Minerva
REFRESH-INTERVAL;VALUE=DURATION:PT1H
X-Robots-Tag:noindex
X-PUBLISHED-TTL:PT1H
BEGIN:VTIMEZONE
TZID:UTC
BEGIN:STANDARD
TZOFFSETFROM:+0000
TZOFFSETTO:+0000
TZNAME:UTC
DTSTART:20260101T000000
END:STANDARD
END:VTIMEZONE
BEGIN:VEVENT
DTSTART;TZID=UTC:20271201T130000
DTEND;TZID=UTC:20271201T150000
DTSTAMP:20260421T130017
CREATED:20260403T160834Z
LAST-MODIFIED:20260403T160834Z
UID:10001350-1827666000-1827673200@minerva.oh.us
SUMMARY:Bingo at the Minerva Senior Center
DESCRIPTION:Bingo at the Minerva Senior Center. Every Wednesday from 1-3. \n1200 Valley St. Minerva.
URL:https://minerva.oh.us/event/bingo-at-the-minerva-senior-center/2027-12-01/
LOCATION:Minerva Senior Center\, 1200 Valley St.\, Minerva\, OH\, 44657\, United States
END:VEVENT
BEGIN:VEVENT
DTSTART;TZID=UTC:20271203T183000
DTEND;TZID=UTC:20271203T203000
DTSTAMP:20260421T130017
CREATED:20260403T160943Z
LAST-MODIFIED:20260403T160943Z
UID:10001612-1827858600-1827865800@minerva.oh.us
SUMMARY:Euchre at the Minerva Senior Center
DESCRIPTION:Euchre at the Minerva Senior Center every Friday at 6:30 PM. \n1200 Valley St. Minerva
URL:https://minerva.oh.us/event/euchre-at-the-minerva-senior-center/2027-12-03/
LOCATION:Minerva Senior Center\, 1200 Valley St.\, Minerva\, OH\, 44657\, United States
END:VEVENT
BEGIN:VEVENT
DTSTART;TZID=UTC:20271208T130000
DTEND;TZID=UTC:20271208T150000
DTSTAMP:20260421T130017
CREATED:20260403T160834Z
LAST-MODIFIED:20260403T160834Z
UID:10001351-1828270800-1828278000@minerva.oh.us
SUMMARY:Bingo at the Minerva Senior Center
DESCRIPTION:Bingo at the Minerva Senior Center. Every Wednesday from 1-3. \n1200 Valley St. Minerva.
URL:https://minerva.oh.us/event/bingo-at-the-minerva-senior-center/2027-12-08/
LOCATION:Minerva Senior Center\, 1200 Valley St.\, Minerva\, OH\, 44657\, United States
END:VEVENT
BEGIN:VEVENT
DTSTART;TZID=UTC:20271210T183000
DTEND;TZID=UTC:20271210T203000
DTSTAMP:20260421T130017
CREATED:20260403T160943Z
LAST-MODIFIED:20260403T160943Z
UID:10001613-1828463400-1828470600@minerva.oh.us
SUMMARY:Euchre at the Minerva Senior Center
DESCRIPTION:Euchre at the Minerva Senior Center every Friday at 6:30 PM. \n1200 Valley St. Minerva
URL:https://minerva.oh.us/event/euchre-at-the-minerva-senior-center/2027-12-10/
LOCATION:Minerva Senior Center\, 1200 Valley St.\, Minerva\, OH\, 44657\, United States
END:VEVENT
BEGIN:VEVENT
DTSTART;TZID=UTC:20271215T130000
DTEND;TZID=UTC:20271215T150000
DTSTAMP:20260421T130017
CREATED:20260403T160834Z
LAST-MODIFIED:20260403T160834Z
UID:10001352-1828875600-1828882800@minerva.oh.us
SUMMARY:Bingo at the Minerva Senior Center
DESCRIPTION:Bingo at the Minerva Senior Center. Every Wednesday from 1-3. \n1200 Valley St. Minerva.
URL:https://minerva.oh.us/event/bingo-at-the-minerva-senior-center/2027-12-15/
LOCATION:Minerva Senior Center\, 1200 Valley St.\, Minerva\, OH\, 44657\, United States
END:VEVENT
BEGIN:VEVENT
DTSTART;TZID=UTC:20271217T183000
DTEND;TZID=UTC:20271217T203000
DTSTAMP:20260421T130017
CREATED:20260403T160943Z
LAST-MODIFIED:20260403T160943Z
UID:10001614-1829068200-1829075400@minerva.oh.us
SUMMARY:Euchre at the Minerva Senior Center
DESCRIPTION:Euchre at the Minerva Senior Center every Friday at 6:30 PM. \n1200 Valley St. Minerva
URL:https://minerva.oh.us/event/euchre-at-the-minerva-senior-center/2027-12-17/
LOCATION:Minerva Senior Center\, 1200 Valley St.\, Minerva\, OH\, 44657\, United States
END:VEVENT
BEGIN:VEVENT
DTSTART;TZID=UTC:20271222T130000
DTEND;TZID=UTC:20271222T150000
DTSTAMP:20260421T130017
CREATED:20260403T160834Z
LAST-MODIFIED:20260403T160834Z
UID:10001353-1829480400-1829487600@minerva.oh.us
SUMMARY:Bingo at the Minerva Senior Center
DESCRIPTION:Bingo at the Minerva Senior Center. Every Wednesday from 1-3. \n1200 Valley St. Minerva.
URL:https://minerva.oh.us/event/bingo-at-the-minerva-senior-center/2027-12-22/
LOCATION:Minerva Senior Center\, 1200 Valley St.\, Minerva\, OH\, 44657\, United States
END:VEVENT
BEGIN:VEVENT
DTSTART;TZID=UTC:20271224T183000
DTEND;TZID=UTC:20271224T203000
DTSTAMP:20260421T130017
CREATED:20260403T160943Z
LAST-MODIFIED:20260403T160943Z
UID:10001615-1829673000-1829680200@minerva.oh.us
SUMMARY:Euchre at the Minerva Senior Center
DESCRIPTION:Euchre at the Minerva Senior Center every Friday at 6:30 PM. \n1200 Valley St. Minerva
URL:https://minerva.oh.us/event/euchre-at-the-minerva-senior-center/2027-12-24/
LOCATION:Minerva Senior Center\, 1200 Valley St.\, Minerva\, OH\, 44657\, United States
END:VEVENT
BEGIN:VEVENT
DTSTART;TZID=UTC:20271229T130000
DTEND;TZID=UTC:20271229T150000
DTSTAMP:20260421T130017
CREATED:20260403T160834Z
LAST-MODIFIED:20260403T160834Z
UID:10001354-1830085200-1830092400@minerva.oh.us
SUMMARY:Bingo at the Minerva Senior Center
DESCRIPTION:Bingo at the Minerva Senior Center. Every Wednesday from 1-3. \n1200 Valley St. Minerva.
URL:https://minerva.oh.us/event/bingo-at-the-minerva-senior-center/2027-12-29/
LOCATION:Minerva Senior Center\, 1200 Valley St.\, Minerva\, OH\, 44657\, United States
END:VEVENT
BEGIN:VEVENT
DTSTART;TZID=UTC:20271231T183000
DTEND;TZID=UTC:20271231T203000
DTSTAMP:20260421T130017
CREATED:20260403T160943Z
LAST-MODIFIED:20260403T160943Z
UID:10001616-1830277800-1830285000@minerva.oh.us
SUMMARY:Euchre at the Minerva Senior Center
DESCRIPTION:Euchre at the Minerva Senior Center every Friday at 6:30 PM. \n1200 Valley St. Minerva
URL:https://minerva.oh.us/event/euchre-at-the-minerva-senior-center/2027-12-31/
LOCATION:Minerva Senior Center\, 1200 Valley St.\, Minerva\, OH\, 44657\, United States
END:VEVENT
BEGIN:VEVENT
DTSTART;TZID=UTC:20280105T130000
DTEND;TZID=UTC:20280105T150000
DTSTAMP:20260421T130017
CREATED:20260403T160834Z
LAST-MODIFIED:20260403T160834Z
UID:10001355-1830690000-1830697200@minerva.oh.us
SUMMARY:Bingo at the Minerva Senior Center
DESCRIPTION:Bingo at the Minerva Senior Center. Every Wednesday from 1-3. \n1200 Valley St. Minerva.
URL:https://minerva.oh.us/event/bingo-at-the-minerva-senior-center/2028-01-05/
LOCATION:Minerva Senior Center\, 1200 Valley St.\, Minerva\, OH\, 44657\, United States
END:VEVENT
BEGIN:VEVENT
DTSTART;TZID=UTC:20280107T183000
DTEND;TZID=UTC:20280107T203000
DTSTAMP:20260421T130017
CREATED:20260403T160943Z
LAST-MODIFIED:20260403T160943Z
UID:10001617-1830882600-1830889800@minerva.oh.us
SUMMARY:Euchre at the Minerva Senior Center
DESCRIPTION:Euchre at the Minerva Senior Center every Friday at 6:30 PM. \n1200 Valley St. Minerva
URL:https://minerva.oh.us/event/euchre-at-the-minerva-senior-center/2028-01-07/
LOCATION:Minerva Senior Center\, 1200 Valley St.\, Minerva\, OH\, 44657\, United States
END:VEVENT
BEGIN:VEVENT
DTSTART;TZID=UTC:20280112T130000
DTEND;TZID=UTC:20280112T150000
DTSTAMP:20260421T130017
CREATED:20260403T160834Z
LAST-MODIFIED:20260403T160834Z
UID:10001356-1831294800-1831302000@minerva.oh.us
SUMMARY:Bingo at the Minerva Senior Center
DESCRIPTION:Bingo at the Minerva Senior Center. Every Wednesday from 1-3. \n1200 Valley St. Minerva.
URL:https://minerva.oh.us/event/bingo-at-the-minerva-senior-center/2028-01-12/
LOCATION:Minerva Senior Center\, 1200 Valley St.\, Minerva\, OH\, 44657\, United States
END:VEVENT
BEGIN:VEVENT
DTSTART;TZID=UTC:20280114T183000
DTEND;TZID=UTC:20280114T203000
DTSTAMP:20260421T130017
CREATED:20260403T160943Z
LAST-MODIFIED:20260403T160943Z
UID:10001618-1831487400-1831494600@minerva.oh.us
SUMMARY:Euchre at the Minerva Senior Center
DESCRIPTION:Euchre at the Minerva Senior Center every Friday at 6:30 PM. \n1200 Valley St. Minerva
URL:https://minerva.oh.us/event/euchre-at-the-minerva-senior-center/2028-01-14/
LOCATION:Minerva Senior Center\, 1200 Valley St.\, Minerva\, OH\, 44657\, United States
END:VEVENT
BEGIN:VEVENT
DTSTART;TZID=UTC:20280119T130000
DTEND;TZID=UTC:20280119T150000
DTSTAMP:20260421T130017
CREATED:20260403T160834Z
LAST-MODIFIED:20260403T160834Z
UID:10001357-1831899600-1831906800@minerva.oh.us
SUMMARY:Bingo at the Minerva Senior Center
DESCRIPTION:Bingo at the Minerva Senior Center. Every Wednesday from 1-3. \n1200 Valley St. Minerva.
URL:https://minerva.oh.us/event/bingo-at-the-minerva-senior-center/2028-01-19/
LOCATION:Minerva Senior Center\, 1200 Valley St.\, Minerva\, OH\, 44657\, United States
END:VEVENT
BEGIN:VEVENT
DTSTART;TZID=UTC:20280121T183000
DTEND;TZID=UTC:20280121T203000
DTSTAMP:20260421T130017
CREATED:20260403T160943Z
LAST-MODIFIED:20260403T160943Z
UID:10001619-1832092200-1832099400@minerva.oh.us
SUMMARY:Euchre at the Minerva Senior Center
DESCRIPTION:Euchre at the Minerva Senior Center every Friday at 6:30 PM. \n1200 Valley St. Minerva
URL:https://minerva.oh.us/event/euchre-at-the-minerva-senior-center/2028-01-21/
LOCATION:Minerva Senior Center\, 1200 Valley St.\, Minerva\, OH\, 44657\, United States
END:VEVENT
BEGIN:VEVENT
DTSTART;TZID=UTC:20280126T130000
DTEND;TZID=UTC:20280126T150000
DTSTAMP:20260421T130017
CREATED:20260403T160834Z
LAST-MODIFIED:20260403T160834Z
UID:10001358-1832504400-1832511600@minerva.oh.us
SUMMARY:Bingo at the Minerva Senior Center
DESCRIPTION:Bingo at the Minerva Senior Center. Every Wednesday from 1-3. \n1200 Valley St. Minerva.
URL:https://minerva.oh.us/event/bingo-at-the-minerva-senior-center/2028-01-26/
LOCATION:Minerva Senior Center\, 1200 Valley St.\, Minerva\, OH\, 44657\, United States
END:VEVENT
BEGIN:VEVENT
DTSTART;TZID=UTC:20280128T183000
DTEND;TZID=UTC:20280128T203000
DTSTAMP:20260421T130017
CREATED:20260403T160943Z
LAST-MODIFIED:20260403T160943Z
UID:10001620-1832697000-1832704200@minerva.oh.us
SUMMARY:Euchre at the Minerva Senior Center
DESCRIPTION:Euchre at the Minerva Senior Center every Friday at 6:30 PM. \n1200 Valley St. Minerva
URL:https://minerva.oh.us/event/euchre-at-the-minerva-senior-center/2028-01-28/
LOCATION:Minerva Senior Center\, 1200 Valley St.\, Minerva\, OH\, 44657\, United States
END:VEVENT
BEGIN:VEVENT
DTSTART;TZID=UTC:20280202T130000
DTEND;TZID=UTC:20280202T150000
DTSTAMP:20260421T130017
CREATED:20260403T160834Z
LAST-MODIFIED:20260403T160834Z
UID:10001359-1833109200-1833116400@minerva.oh.us
SUMMARY:Bingo at the Minerva Senior Center
DESCRIPTION:Bingo at the Minerva Senior Center. Every Wednesday from 1-3. \n1200 Valley St. Minerva.
URL:https://minerva.oh.us/event/bingo-at-the-minerva-senior-center/2028-02-02/
LOCATION:Minerva Senior Center\, 1200 Valley St.\, Minerva\, OH\, 44657\, United States
END:VEVENT
BEGIN:VEVENT
DTSTART;TZID=UTC:20280204T183000
DTEND;TZID=UTC:20280204T203000
DTSTAMP:20260421T130017
CREATED:20260403T160943Z
LAST-MODIFIED:20260403T160943Z
UID:10001621-1833301800-1833309000@minerva.oh.us
SUMMARY:Euchre at the Minerva Senior Center
DESCRIPTION:Euchre at the Minerva Senior Center every Friday at 6:30 PM. \n1200 Valley St. Minerva
URL:https://minerva.oh.us/event/euchre-at-the-minerva-senior-center/2028-02-04/
LOCATION:Minerva Senior Center\, 1200 Valley St.\, Minerva\, OH\, 44657\, United States
END:VEVENT
BEGIN:VEVENT
DTSTART;TZID=UTC:20280209T130000
DTEND;TZID=UTC:20280209T150000
DTSTAMP:20260421T130017
CREATED:20260403T160834Z
LAST-MODIFIED:20260403T160834Z
UID:10001360-1833714000-1833721200@minerva.oh.us
SUMMARY:Bingo at the Minerva Senior Center
DESCRIPTION:Bingo at the Minerva Senior Center. Every Wednesday from 1-3. \n1200 Valley St. Minerva.
URL:https://minerva.oh.us/event/bingo-at-the-minerva-senior-center/2028-02-09/
LOCATION:Minerva Senior Center\, 1200 Valley St.\, Minerva\, OH\, 44657\, United States
END:VEVENT
BEGIN:VEVENT
DTSTART;TZID=UTC:20280211T183000
DTEND;TZID=UTC:20280211T203000
DTSTAMP:20260421T130017
CREATED:20260403T160943Z
LAST-MODIFIED:20260403T160943Z
UID:10001622-1833906600-1833913800@minerva.oh.us
SUMMARY:Euchre at the Minerva Senior Center
DESCRIPTION:Euchre at the Minerva Senior Center every Friday at 6:30 PM. \n1200 Valley St. Minerva
URL:https://minerva.oh.us/event/euchre-at-the-minerva-senior-center/2028-02-11/
LOCATION:Minerva Senior Center\, 1200 Valley St.\, Minerva\, OH\, 44657\, United States
END:VEVENT
BEGIN:VEVENT
DTSTART;TZID=UTC:20280216T130000
DTEND;TZID=UTC:20280216T150000
DTSTAMP:20260421T130017
CREATED:20260403T160834Z
LAST-MODIFIED:20260403T160834Z
UID:10001361-1834318800-1834326000@minerva.oh.us
SUMMARY:Bingo at the Minerva Senior Center
DESCRIPTION:Bingo at the Minerva Senior Center. Every Wednesday from 1-3. \n1200 Valley St. Minerva.
URL:https://minerva.oh.us/event/bingo-at-the-minerva-senior-center/2028-02-16/
LOCATION:Minerva Senior Center\, 1200 Valley St.\, Minerva\, OH\, 44657\, United States
END:VEVENT
BEGIN:VEVENT
DTSTART;TZID=UTC:20280218T183000
DTEND;TZID=UTC:20280218T203000
DTSTAMP:20260421T130017
CREATED:20260403T160943Z
LAST-MODIFIED:20260403T160943Z
UID:10001623-1834511400-1834518600@minerva.oh.us
SUMMARY:Euchre at the Minerva Senior Center
DESCRIPTION:Euchre at the Minerva Senior Center every Friday at 6:30 PM. \n1200 Valley St. Minerva
URL:https://minerva.oh.us/event/euchre-at-the-minerva-senior-center/2028-02-18/
LOCATION:Minerva Senior Center\, 1200 Valley St.\, Minerva\, OH\, 44657\, United States
END:VEVENT
BEGIN:VEVENT
DTSTART;TZID=UTC:20280223T130000
DTEND;TZID=UTC:20280223T150000
DTSTAMP:20260421T130017
CREATED:20260403T160834Z
LAST-MODIFIED:20260403T160834Z
UID:10001362-1834923600-1834930800@minerva.oh.us
SUMMARY:Bingo at the Minerva Senior Center
DESCRIPTION:Bingo at the Minerva Senior Center. Every Wednesday from 1-3. \n1200 Valley St. Minerva.
URL:https://minerva.oh.us/event/bingo-at-the-minerva-senior-center/2028-02-23/
LOCATION:Minerva Senior Center\, 1200 Valley St.\, Minerva\, OH\, 44657\, United States
END:VEVENT
BEGIN:VEVENT
DTSTART;TZID=UTC:20280225T183000
DTEND;TZID=UTC:20280225T203000
DTSTAMP:20260421T130017
CREATED:20260403T160943Z
LAST-MODIFIED:20260403T160943Z
UID:10001624-1835116200-1835123400@minerva.oh.us
SUMMARY:Euchre at the Minerva Senior Center
DESCRIPTION:Euchre at the Minerva Senior Center every Friday at 6:30 PM. \n1200 Valley St. Minerva
URL:https://minerva.oh.us/event/euchre-at-the-minerva-senior-center/2028-02-25/
LOCATION:Minerva Senior Center\, 1200 Valley St.\, Minerva\, OH\, 44657\, United States
END:VEVENT
BEGIN:VEVENT
DTSTART;TZID=UTC:20280301T130000
DTEND;TZID=UTC:20280301T150000
DTSTAMP:20260421T130017
CREATED:20260403T160834Z
LAST-MODIFIED:20260403T160834Z
UID:10001363-1835528400-1835535600@minerva.oh.us
SUMMARY:Bingo at the Minerva Senior Center
DESCRIPTION:Bingo at the Minerva Senior Center. Every Wednesday from 1-3. \n1200 Valley St. Minerva.
URL:https://minerva.oh.us/event/bingo-at-the-minerva-senior-center/2028-03-01/
LOCATION:Minerva Senior Center\, 1200 Valley St.\, Minerva\, OH\, 44657\, United States
END:VEVENT
BEGIN:VEVENT
DTSTART;TZID=UTC:20280303T183000
DTEND;TZID=UTC:20280303T203000
DTSTAMP:20260421T130017
CREATED:20260403T160943Z
LAST-MODIFIED:20260403T160943Z
UID:10001625-1835721000-1835728200@minerva.oh.us
SUMMARY:Euchre at the Minerva Senior Center
DESCRIPTION:Euchre at the Minerva Senior Center every Friday at 6:30 PM. \n1200 Valley St. Minerva
URL:https://minerva.oh.us/event/euchre-at-the-minerva-senior-center/2028-03-03/
LOCATION:Minerva Senior Center\, 1200 Valley St.\, Minerva\, OH\, 44657\, United States
END:VEVENT
BEGIN:VEVENT
DTSTART;TZID=UTC:20280308T130000
DTEND;TZID=UTC:20280308T150000
DTSTAMP:20260421T130017
CREATED:20260403T160834Z
LAST-MODIFIED:20260403T160834Z
UID:10001364-1836133200-1836140400@minerva.oh.us
SUMMARY:Bingo at the Minerva Senior Center
DESCRIPTION:Bingo at the Minerva Senior Center. Every Wednesday from 1-3. \n1200 Valley St. Minerva.
URL:https://minerva.oh.us/event/bingo-at-the-minerva-senior-center/2028-03-08/
LOCATION:Minerva Senior Center\, 1200 Valley St.\, Minerva\, OH\, 44657\, United States
END:VEVENT
BEGIN:VEVENT
DTSTART;TZID=UTC:20280310T183000
DTEND;TZID=UTC:20280310T203000
DTSTAMP:20260421T130017
CREATED:20260403T160943Z
LAST-MODIFIED:20260403T160943Z
UID:10001626-1836325800-1836333000@minerva.oh.us
SUMMARY:Euchre at the Minerva Senior Center
DESCRIPTION:Euchre at the Minerva Senior Center every Friday at 6:30 PM. \n1200 Valley St. Minerva
URL:https://minerva.oh.us/event/euchre-at-the-minerva-senior-center/2028-03-10/
LOCATION:Minerva Senior Center\, 1200 Valley St.\, Minerva\, OH\, 44657\, United States
END:VEVENT
END:VCALENDAR