BEGIN:VCALENDAR
VERSION:2.0
PRODID:-//The Village of Minerva - ECPv6.15.20//NONSGML v1.0//EN
CALSCALE:GREGORIAN
METHOD:PUBLISH
X-ORIGINAL-URL:https://minerva.oh.us
X-WR-CALDESC:Events for The Village of Minerva
REFRESH-INTERVAL;VALUE=DURATION:PT1H
X-Robots-Tag:noindex
X-PUBLISHED-TTL:PT1H
BEGIN:VTIMEZONE
TZID:UTC
BEGIN:STANDARD
TZOFFSETFROM:+0000
TZOFFSETTO:+0000
TZNAME:UTC
DTSTART:20270101T000000
END:STANDARD
END:VTIMEZONE
BEGIN:VEVENT
DTSTART;TZID=UTC:20280223T130000
DTEND;TZID=UTC:20280223T150000
DTSTAMP:20260421T160825
CREATED:20260403T160834Z
LAST-MODIFIED:20260403T160834Z
UID:10001362-1834923600-1834930800@minerva.oh.us
SUMMARY:Bingo at the Minerva Senior Center
DESCRIPTION:Bingo at the Minerva Senior Center. Every Wednesday from 1-3. \n1200 Valley St. Minerva.
URL:https://minerva.oh.us/event/bingo-at-the-minerva-senior-center/2028-02-23/
LOCATION:Minerva Senior Center\, 1200 Valley St.\, Minerva\, OH\, 44657\, United States
END:VEVENT
BEGIN:VEVENT
DTSTART;TZID=UTC:20280225T183000
DTEND;TZID=UTC:20280225T203000
DTSTAMP:20260421T160825
CREATED:20260403T160943Z
LAST-MODIFIED:20260403T160943Z
UID:10001624-1835116200-1835123400@minerva.oh.us
SUMMARY:Euchre at the Minerva Senior Center
DESCRIPTION:Euchre at the Minerva Senior Center every Friday at 6:30 PM. \n1200 Valley St. Minerva
URL:https://minerva.oh.us/event/euchre-at-the-minerva-senior-center/2028-02-25/
LOCATION:Minerva Senior Center\, 1200 Valley St.\, Minerva\, OH\, 44657\, United States
END:VEVENT
BEGIN:VEVENT
DTSTART;TZID=UTC:20280301T130000
DTEND;TZID=UTC:20280301T150000
DTSTAMP:20260421T160825
CREATED:20260403T160834Z
LAST-MODIFIED:20260403T160834Z
UID:10001363-1835528400-1835535600@minerva.oh.us
SUMMARY:Bingo at the Minerva Senior Center
DESCRIPTION:Bingo at the Minerva Senior Center. Every Wednesday from 1-3. \n1200 Valley St. Minerva.
URL:https://minerva.oh.us/event/bingo-at-the-minerva-senior-center/2028-03-01/
LOCATION:Minerva Senior Center\, 1200 Valley St.\, Minerva\, OH\, 44657\, United States
END:VEVENT
BEGIN:VEVENT
DTSTART;TZID=UTC:20280303T183000
DTEND;TZID=UTC:20280303T203000
DTSTAMP:20260421T160825
CREATED:20260403T160943Z
LAST-MODIFIED:20260403T160943Z
UID:10001625-1835721000-1835728200@minerva.oh.us
SUMMARY:Euchre at the Minerva Senior Center
DESCRIPTION:Euchre at the Minerva Senior Center every Friday at 6:30 PM. \n1200 Valley St. Minerva
URL:https://minerva.oh.us/event/euchre-at-the-minerva-senior-center/2028-03-03/
LOCATION:Minerva Senior Center\, 1200 Valley St.\, Minerva\, OH\, 44657\, United States
END:VEVENT
BEGIN:VEVENT
DTSTART;TZID=UTC:20280308T130000
DTEND;TZID=UTC:20280308T150000
DTSTAMP:20260421T160825
CREATED:20260403T160834Z
LAST-MODIFIED:20260403T160834Z
UID:10001364-1836133200-1836140400@minerva.oh.us
SUMMARY:Bingo at the Minerva Senior Center
DESCRIPTION:Bingo at the Minerva Senior Center. Every Wednesday from 1-3. \n1200 Valley St. Minerva.
URL:https://minerva.oh.us/event/bingo-at-the-minerva-senior-center/2028-03-08/
LOCATION:Minerva Senior Center\, 1200 Valley St.\, Minerva\, OH\, 44657\, United States
END:VEVENT
BEGIN:VEVENT
DTSTART;TZID=UTC:20280310T183000
DTEND;TZID=UTC:20280310T203000
DTSTAMP:20260421T160825
CREATED:20260403T160943Z
LAST-MODIFIED:20260403T160943Z
UID:10001626-1836325800-1836333000@minerva.oh.us
SUMMARY:Euchre at the Minerva Senior Center
DESCRIPTION:Euchre at the Minerva Senior Center every Friday at 6:30 PM. \n1200 Valley St. Minerva
URL:https://minerva.oh.us/event/euchre-at-the-minerva-senior-center/2028-03-10/
LOCATION:Minerva Senior Center\, 1200 Valley St.\, Minerva\, OH\, 44657\, United States
END:VEVENT
BEGIN:VEVENT
DTSTART;TZID=UTC:20280315T130000
DTEND;TZID=UTC:20280315T150000
DTSTAMP:20260421T160825
CREATED:20260403T160834Z
LAST-MODIFIED:20260403T160834Z
UID:10001365-1836738000-1836745200@minerva.oh.us
SUMMARY:Bingo at the Minerva Senior Center
DESCRIPTION:Bingo at the Minerva Senior Center. Every Wednesday from 1-3. \n1200 Valley St. Minerva.
URL:https://minerva.oh.us/event/bingo-at-the-minerva-senior-center/2028-03-15/
LOCATION:Minerva Senior Center\, 1200 Valley St.\, Minerva\, OH\, 44657\, United States
END:VEVENT
BEGIN:VEVENT
DTSTART;TZID=UTC:20280317T183000
DTEND;TZID=UTC:20280317T203000
DTSTAMP:20260421T160825
CREATED:20260403T160943Z
LAST-MODIFIED:20260403T160943Z
UID:10001627-1836930600-1836937800@minerva.oh.us
SUMMARY:Euchre at the Minerva Senior Center
DESCRIPTION:Euchre at the Minerva Senior Center every Friday at 6:30 PM. \n1200 Valley St. Minerva
URL:https://minerva.oh.us/event/euchre-at-the-minerva-senior-center/2028-03-17/
LOCATION:Minerva Senior Center\, 1200 Valley St.\, Minerva\, OH\, 44657\, United States
END:VEVENT
BEGIN:VEVENT
DTSTART;TZID=UTC:20280322T130000
DTEND;TZID=UTC:20280322T150000
DTSTAMP:20260421T160825
CREATED:20260403T160834Z
LAST-MODIFIED:20260403T160834Z
UID:10001366-1837342800-1837350000@minerva.oh.us
SUMMARY:Bingo at the Minerva Senior Center
DESCRIPTION:Bingo at the Minerva Senior Center. Every Wednesday from 1-3. \n1200 Valley St. Minerva.
URL:https://minerva.oh.us/event/bingo-at-the-minerva-senior-center/2028-03-22/
LOCATION:Minerva Senior Center\, 1200 Valley St.\, Minerva\, OH\, 44657\, United States
END:VEVENT
BEGIN:VEVENT
DTSTART;TZID=UTC:20280324T183000
DTEND;TZID=UTC:20280324T203000
DTSTAMP:20260421T160825
CREATED:20260403T160943Z
LAST-MODIFIED:20260403T160943Z
UID:10001628-1837535400-1837542600@minerva.oh.us
SUMMARY:Euchre at the Minerva Senior Center
DESCRIPTION:Euchre at the Minerva Senior Center every Friday at 6:30 PM. \n1200 Valley St. Minerva
URL:https://minerva.oh.us/event/euchre-at-the-minerva-senior-center/2028-03-24/
LOCATION:Minerva Senior Center\, 1200 Valley St.\, Minerva\, OH\, 44657\, United States
END:VEVENT
BEGIN:VEVENT
DTSTART;TZID=UTC:20280329T130000
DTEND;TZID=UTC:20280329T150000
DTSTAMP:20260421T160825
CREATED:20260403T160834Z
LAST-MODIFIED:20260403T160834Z
UID:10001367-1837947600-1837954800@minerva.oh.us
SUMMARY:Bingo at the Minerva Senior Center
DESCRIPTION:Bingo at the Minerva Senior Center. Every Wednesday from 1-3. \n1200 Valley St. Minerva.
URL:https://minerva.oh.us/event/bingo-at-the-minerva-senior-center/2028-03-29/
LOCATION:Minerva Senior Center\, 1200 Valley St.\, Minerva\, OH\, 44657\, United States
END:VEVENT
BEGIN:VEVENT
DTSTART;TZID=UTC:20280331T183000
DTEND;TZID=UTC:20280331T203000
DTSTAMP:20260421T160825
CREATED:20260403T160943Z
LAST-MODIFIED:20260403T160943Z
UID:10001629-1838140200-1838147400@minerva.oh.us
SUMMARY:Euchre at the Minerva Senior Center
DESCRIPTION:Euchre at the Minerva Senior Center every Friday at 6:30 PM. \n1200 Valley St. Minerva
URL:https://minerva.oh.us/event/euchre-at-the-minerva-senior-center/2028-03-31/
LOCATION:Minerva Senior Center\, 1200 Valley St.\, Minerva\, OH\, 44657\, United States
END:VEVENT
BEGIN:VEVENT
DTSTART;TZID=UTC:20280405T130000
DTEND;TZID=UTC:20280405T150000
DTSTAMP:20260421T160825
CREATED:20260403T160834Z
LAST-MODIFIED:20260403T160834Z
UID:10001368-1838552400-1838559600@minerva.oh.us
SUMMARY:Bingo at the Minerva Senior Center
DESCRIPTION:Bingo at the Minerva Senior Center. Every Wednesday from 1-3. \n1200 Valley St. Minerva.
URL:https://minerva.oh.us/event/bingo-at-the-minerva-senior-center/2028-04-05/
LOCATION:Minerva Senior Center\, 1200 Valley St.\, Minerva\, OH\, 44657\, United States
END:VEVENT
BEGIN:VEVENT
DTSTART;TZID=UTC:20280407T183000
DTEND;TZID=UTC:20280407T203000
DTSTAMP:20260421T160825
CREATED:20260403T160943Z
LAST-MODIFIED:20260403T160943Z
UID:10001630-1838745000-1838752200@minerva.oh.us
SUMMARY:Euchre at the Minerva Senior Center
DESCRIPTION:Euchre at the Minerva Senior Center every Friday at 6:30 PM. \n1200 Valley St. Minerva
URL:https://minerva.oh.us/event/euchre-at-the-minerva-senior-center/2028-04-07/
LOCATION:Minerva Senior Center\, 1200 Valley St.\, Minerva\, OH\, 44657\, United States
END:VEVENT
BEGIN:VEVENT
DTSTART;TZID=UTC:20280412T130000
DTEND;TZID=UTC:20280412T150000
DTSTAMP:20260421T160825
CREATED:20260403T160834Z
LAST-MODIFIED:20260403T160834Z
UID:10001369-1839157200-1839164400@minerva.oh.us
SUMMARY:Bingo at the Minerva Senior Center
DESCRIPTION:Bingo at the Minerva Senior Center. Every Wednesday from 1-3. \n1200 Valley St. Minerva.
URL:https://minerva.oh.us/event/bingo-at-the-minerva-senior-center/2028-04-12/
LOCATION:Minerva Senior Center\, 1200 Valley St.\, Minerva\, OH\, 44657\, United States
END:VEVENT
BEGIN:VEVENT
DTSTART;TZID=UTC:20280414T183000
DTEND;TZID=UTC:20280414T203000
DTSTAMP:20260421T160825
CREATED:20260403T160943Z
LAST-MODIFIED:20260403T160943Z
UID:10001631-1839349800-1839357000@minerva.oh.us
SUMMARY:Euchre at the Minerva Senior Center
DESCRIPTION:Euchre at the Minerva Senior Center every Friday at 6:30 PM. \n1200 Valley St. Minerva
URL:https://minerva.oh.us/event/euchre-at-the-minerva-senior-center/2028-04-14/
LOCATION:Minerva Senior Center\, 1200 Valley St.\, Minerva\, OH\, 44657\, United States
END:VEVENT
BEGIN:VEVENT
DTSTART;TZID=UTC:20280419T130000
DTEND;TZID=UTC:20280419T150000
DTSTAMP:20260421T160825
CREATED:20260403T160834Z
LAST-MODIFIED:20260403T160834Z
UID:10001370-1839762000-1839769200@minerva.oh.us
SUMMARY:Bingo at the Minerva Senior Center
DESCRIPTION:Bingo at the Minerva Senior Center. Every Wednesday from 1-3. \n1200 Valley St. Minerva.
URL:https://minerva.oh.us/event/bingo-at-the-minerva-senior-center/2028-04-19/
LOCATION:Minerva Senior Center\, 1200 Valley St.\, Minerva\, OH\, 44657\, United States
END:VEVENT
BEGIN:VEVENT
DTSTART;TZID=UTC:20280421T183000
DTEND;TZID=UTC:20280421T203000
DTSTAMP:20260421T160825
CREATED:20260403T160943Z
LAST-MODIFIED:20260403T160943Z
UID:10001632-1839954600-1839961800@minerva.oh.us
SUMMARY:Euchre at the Minerva Senior Center
DESCRIPTION:Euchre at the Minerva Senior Center every Friday at 6:30 PM. \n1200 Valley St. Minerva
URL:https://minerva.oh.us/event/euchre-at-the-minerva-senior-center/2028-04-21/
LOCATION:Minerva Senior Center\, 1200 Valley St.\, Minerva\, OH\, 44657\, United States
END:VEVENT
BEGIN:VEVENT
DTSTART;TZID=UTC:20280426T130000
DTEND;TZID=UTC:20280426T150000
DTSTAMP:20260421T160825
CREATED:20260403T160834Z
LAST-MODIFIED:20260403T160834Z
UID:10001371-1840366800-1840374000@minerva.oh.us
SUMMARY:Bingo at the Minerva Senior Center
DESCRIPTION:Bingo at the Minerva Senior Center. Every Wednesday from 1-3. \n1200 Valley St. Minerva.
URL:https://minerva.oh.us/event/bingo-at-the-minerva-senior-center/2028-04-26/
LOCATION:Minerva Senior Center\, 1200 Valley St.\, Minerva\, OH\, 44657\, United States
END:VEVENT
BEGIN:VEVENT
DTSTART;TZID=UTC:20280428T183000
DTEND;TZID=UTC:20280428T203000
DTSTAMP:20260421T160825
CREATED:20260403T160943Z
LAST-MODIFIED:20260403T160943Z
UID:10001633-1840559400-1840566600@minerva.oh.us
SUMMARY:Euchre at the Minerva Senior Center
DESCRIPTION:Euchre at the Minerva Senior Center every Friday at 6:30 PM. \n1200 Valley St. Minerva
URL:https://minerva.oh.us/event/euchre-at-the-minerva-senior-center/2028-04-28/
LOCATION:Minerva Senior Center\, 1200 Valley St.\, Minerva\, OH\, 44657\, United States
END:VEVENT
BEGIN:VEVENT
DTSTART;TZID=UTC:20280503T130000
DTEND;TZID=UTC:20280503T150000
DTSTAMP:20260421T160825
CREATED:20260403T160834Z
LAST-MODIFIED:20260403T160834Z
UID:10001372-1840971600-1840978800@minerva.oh.us
SUMMARY:Bingo at the Minerva Senior Center
DESCRIPTION:Bingo at the Minerva Senior Center. Every Wednesday from 1-3. \n1200 Valley St. Minerva.
URL:https://minerva.oh.us/event/bingo-at-the-minerva-senior-center/2028-05-03/
LOCATION:Minerva Senior Center\, 1200 Valley St.\, Minerva\, OH\, 44657\, United States
END:VEVENT
BEGIN:VEVENT
DTSTART;TZID=UTC:20280505T183000
DTEND;TZID=UTC:20280505T203000
DTSTAMP:20260421T160825
CREATED:20260403T160943Z
LAST-MODIFIED:20260403T160943Z
UID:10001634-1841164200-1841171400@minerva.oh.us
SUMMARY:Euchre at the Minerva Senior Center
DESCRIPTION:Euchre at the Minerva Senior Center every Friday at 6:30 PM. \n1200 Valley St. Minerva
URL:https://minerva.oh.us/event/euchre-at-the-minerva-senior-center/2028-05-05/
LOCATION:Minerva Senior Center\, 1200 Valley St.\, Minerva\, OH\, 44657\, United States
END:VEVENT
BEGIN:VEVENT
DTSTART;TZID=UTC:20280510T130000
DTEND;TZID=UTC:20280510T150000
DTSTAMP:20260421T160825
CREATED:20260403T160834Z
LAST-MODIFIED:20260403T160834Z
UID:10001373-1841576400-1841583600@minerva.oh.us
SUMMARY:Bingo at the Minerva Senior Center
DESCRIPTION:Bingo at the Minerva Senior Center. Every Wednesday from 1-3. \n1200 Valley St. Minerva.
URL:https://minerva.oh.us/event/bingo-at-the-minerva-senior-center/2028-05-10/
LOCATION:Minerva Senior Center\, 1200 Valley St.\, Minerva\, OH\, 44657\, United States
END:VEVENT
BEGIN:VEVENT
DTSTART;TZID=UTC:20280512T183000
DTEND;TZID=UTC:20280512T203000
DTSTAMP:20260421T160825
CREATED:20260403T160943Z
LAST-MODIFIED:20260403T160943Z
UID:10001635-1841769000-1841776200@minerva.oh.us
SUMMARY:Euchre at the Minerva Senior Center
DESCRIPTION:Euchre at the Minerva Senior Center every Friday at 6:30 PM. \n1200 Valley St. Minerva
URL:https://minerva.oh.us/event/euchre-at-the-minerva-senior-center/2028-05-12/
LOCATION:Minerva Senior Center\, 1200 Valley St.\, Minerva\, OH\, 44657\, United States
END:VEVENT
BEGIN:VEVENT
DTSTART;TZID=UTC:20280517T130000
DTEND;TZID=UTC:20280517T150000
DTSTAMP:20260421T160825
CREATED:20260403T160834Z
LAST-MODIFIED:20260403T160834Z
UID:10001374-1842181200-1842188400@minerva.oh.us
SUMMARY:Bingo at the Minerva Senior Center
DESCRIPTION:Bingo at the Minerva Senior Center. Every Wednesday from 1-3. \n1200 Valley St. Minerva.
URL:https://minerva.oh.us/event/bingo-at-the-minerva-senior-center/2028-05-17/
LOCATION:Minerva Senior Center\, 1200 Valley St.\, Minerva\, OH\, 44657\, United States
END:VEVENT
BEGIN:VEVENT
DTSTART;TZID=UTC:20280519T183000
DTEND;TZID=UTC:20280519T203000
DTSTAMP:20260421T160825
CREATED:20260403T160943Z
LAST-MODIFIED:20260403T160943Z
UID:10001636-1842373800-1842381000@minerva.oh.us
SUMMARY:Euchre at the Minerva Senior Center
DESCRIPTION:Euchre at the Minerva Senior Center every Friday at 6:30 PM. \n1200 Valley St. Minerva
URL:https://minerva.oh.us/event/euchre-at-the-minerva-senior-center/2028-05-19/
LOCATION:Minerva Senior Center\, 1200 Valley St.\, Minerva\, OH\, 44657\, United States
END:VEVENT
BEGIN:VEVENT
DTSTART;TZID=UTC:20280524T130000
DTEND;TZID=UTC:20280524T150000
DTSTAMP:20260421T160825
CREATED:20260403T160834Z
LAST-MODIFIED:20260403T160834Z
UID:10001375-1842786000-1842793200@minerva.oh.us
SUMMARY:Bingo at the Minerva Senior Center
DESCRIPTION:Bingo at the Minerva Senior Center. Every Wednesday from 1-3. \n1200 Valley St. Minerva.
URL:https://minerva.oh.us/event/bingo-at-the-minerva-senior-center/2028-05-24/
LOCATION:Minerva Senior Center\, 1200 Valley St.\, Minerva\, OH\, 44657\, United States
END:VEVENT
BEGIN:VEVENT
DTSTART;TZID=UTC:20280526T183000
DTEND;TZID=UTC:20280526T203000
DTSTAMP:20260421T160825
CREATED:20260403T160943Z
LAST-MODIFIED:20260403T160943Z
UID:10001637-1842978600-1842985800@minerva.oh.us
SUMMARY:Euchre at the Minerva Senior Center
DESCRIPTION:Euchre at the Minerva Senior Center every Friday at 6:30 PM. \n1200 Valley St. Minerva
URL:https://minerva.oh.us/event/euchre-at-the-minerva-senior-center/2028-05-26/
LOCATION:Minerva Senior Center\, 1200 Valley St.\, Minerva\, OH\, 44657\, United States
END:VEVENT
BEGIN:VEVENT
DTSTART;TZID=UTC:20280531T130000
DTEND;TZID=UTC:20280531T150000
DTSTAMP:20260421T160825
CREATED:20260403T160834Z
LAST-MODIFIED:20260403T160834Z
UID:10001376-1843390800-1843398000@minerva.oh.us
SUMMARY:Bingo at the Minerva Senior Center
DESCRIPTION:Bingo at the Minerva Senior Center. Every Wednesday from 1-3. \n1200 Valley St. Minerva.
URL:https://minerva.oh.us/event/bingo-at-the-minerva-senior-center/2028-05-31/
LOCATION:Minerva Senior Center\, 1200 Valley St.\, Minerva\, OH\, 44657\, United States
END:VEVENT
BEGIN:VEVENT
DTSTART;TZID=UTC:20280602T183000
DTEND;TZID=UTC:20280602T203000
DTSTAMP:20260421T160825
CREATED:20260403T160943Z
LAST-MODIFIED:20260403T160943Z
UID:10001638-1843583400-1843590600@minerva.oh.us
SUMMARY:Euchre at the Minerva Senior Center
DESCRIPTION:Euchre at the Minerva Senior Center every Friday at 6:30 PM. \n1200 Valley St. Minerva
URL:https://minerva.oh.us/event/euchre-at-the-minerva-senior-center/2028-06-02/
LOCATION:Minerva Senior Center\, 1200 Valley St.\, Minerva\, OH\, 44657\, United States
END:VEVENT
END:VCALENDAR