BEGIN:VCALENDAR
VERSION:2.0
PRODID:-//The Village of Minerva - ECPv6.15.20//NONSGML v1.0//EN
CALSCALE:GREGORIAN
METHOD:PUBLISH
X-WR-CALNAME:The Village of Minerva
X-ORIGINAL-URL:https://minerva.oh.us
X-WR-CALDESC:Events for The Village of Minerva
REFRESH-INTERVAL;VALUE=DURATION:PT1H
X-Robots-Tag:noindex
X-PUBLISHED-TTL:PT1H
BEGIN:VTIMEZONE
TZID:UTC
BEGIN:STANDARD
TZOFFSETFROM:+0000
TZOFFSETTO:+0000
TZNAME:UTC
DTSTART:20270101T000000
END:STANDARD
END:VTIMEZONE
BEGIN:VEVENT
DTSTART;TZID=UTC:20280517T130000
DTEND;TZID=UTC:20280517T150000
DTSTAMP:20260421T192958
CREATED:20260403T160834Z
LAST-MODIFIED:20260403T160834Z
UID:10001374-1842181200-1842188400@minerva.oh.us
SUMMARY:Bingo at the Minerva Senior Center
DESCRIPTION:Bingo at the Minerva Senior Center. Every Wednesday from 1-3. \n1200 Valley St. Minerva.
URL:https://minerva.oh.us/event/bingo-at-the-minerva-senior-center/2028-05-17/
LOCATION:Minerva Senior Center\, 1200 Valley St.\, Minerva\, OH\, 44657\, United States
END:VEVENT
BEGIN:VEVENT
DTSTART;TZID=UTC:20280519T183000
DTEND;TZID=UTC:20280519T203000
DTSTAMP:20260421T192958
CREATED:20260403T160943Z
LAST-MODIFIED:20260403T160943Z
UID:10001636-1842373800-1842381000@minerva.oh.us
SUMMARY:Euchre at the Minerva Senior Center
DESCRIPTION:Euchre at the Minerva Senior Center every Friday at 6:30 PM. \n1200 Valley St. Minerva
URL:https://minerva.oh.us/event/euchre-at-the-minerva-senior-center/2028-05-19/
LOCATION:Minerva Senior Center\, 1200 Valley St.\, Minerva\, OH\, 44657\, United States
END:VEVENT
BEGIN:VEVENT
DTSTART;TZID=UTC:20280524T130000
DTEND;TZID=UTC:20280524T150000
DTSTAMP:20260421T192958
CREATED:20260403T160834Z
LAST-MODIFIED:20260403T160834Z
UID:10001375-1842786000-1842793200@minerva.oh.us
SUMMARY:Bingo at the Minerva Senior Center
DESCRIPTION:Bingo at the Minerva Senior Center. Every Wednesday from 1-3. \n1200 Valley St. Minerva.
URL:https://minerva.oh.us/event/bingo-at-the-minerva-senior-center/2028-05-24/
LOCATION:Minerva Senior Center\, 1200 Valley St.\, Minerva\, OH\, 44657\, United States
END:VEVENT
BEGIN:VEVENT
DTSTART;TZID=UTC:20280526T183000
DTEND;TZID=UTC:20280526T203000
DTSTAMP:20260421T192958
CREATED:20260403T160943Z
LAST-MODIFIED:20260403T160943Z
UID:10001637-1842978600-1842985800@minerva.oh.us
SUMMARY:Euchre at the Minerva Senior Center
DESCRIPTION:Euchre at the Minerva Senior Center every Friday at 6:30 PM. \n1200 Valley St. Minerva
URL:https://minerva.oh.us/event/euchre-at-the-minerva-senior-center/2028-05-26/
LOCATION:Minerva Senior Center\, 1200 Valley St.\, Minerva\, OH\, 44657\, United States
END:VEVENT
BEGIN:VEVENT
DTSTART;TZID=UTC:20280531T130000
DTEND;TZID=UTC:20280531T150000
DTSTAMP:20260421T192958
CREATED:20260403T160834Z
LAST-MODIFIED:20260403T160834Z
UID:10001376-1843390800-1843398000@minerva.oh.us
SUMMARY:Bingo at the Minerva Senior Center
DESCRIPTION:Bingo at the Minerva Senior Center. Every Wednesday from 1-3. \n1200 Valley St. Minerva.
URL:https://minerva.oh.us/event/bingo-at-the-minerva-senior-center/2028-05-31/
LOCATION:Minerva Senior Center\, 1200 Valley St.\, Minerva\, OH\, 44657\, United States
END:VEVENT
BEGIN:VEVENT
DTSTART;TZID=UTC:20280602T183000
DTEND;TZID=UTC:20280602T203000
DTSTAMP:20260421T192958
CREATED:20260403T160943Z
LAST-MODIFIED:20260403T160943Z
UID:10001638-1843583400-1843590600@minerva.oh.us
SUMMARY:Euchre at the Minerva Senior Center
DESCRIPTION:Euchre at the Minerva Senior Center every Friday at 6:30 PM. \n1200 Valley St. Minerva
URL:https://minerva.oh.us/event/euchre-at-the-minerva-senior-center/2028-06-02/
LOCATION:Minerva Senior Center\, 1200 Valley St.\, Minerva\, OH\, 44657\, United States
END:VEVENT
BEGIN:VEVENT
DTSTART;TZID=UTC:20280607T130000
DTEND;TZID=UTC:20280607T150000
DTSTAMP:20260421T192958
CREATED:20260403T160834Z
LAST-MODIFIED:20260403T160834Z
UID:10001377-1843995600-1844002800@minerva.oh.us
SUMMARY:Bingo at the Minerva Senior Center
DESCRIPTION:Bingo at the Minerva Senior Center. Every Wednesday from 1-3. \n1200 Valley St. Minerva.
URL:https://minerva.oh.us/event/bingo-at-the-minerva-senior-center/2028-06-07/
LOCATION:Minerva Senior Center\, 1200 Valley St.\, Minerva\, OH\, 44657\, United States
END:VEVENT
BEGIN:VEVENT
DTSTART;TZID=UTC:20280609T183000
DTEND;TZID=UTC:20280609T203000
DTSTAMP:20260421T192958
CREATED:20260403T160943Z
LAST-MODIFIED:20260403T160943Z
UID:10001639-1844188200-1844195400@minerva.oh.us
SUMMARY:Euchre at the Minerva Senior Center
DESCRIPTION:Euchre at the Minerva Senior Center every Friday at 6:30 PM. \n1200 Valley St. Minerva
URL:https://minerva.oh.us/event/euchre-at-the-minerva-senior-center/2028-06-09/
LOCATION:Minerva Senior Center\, 1200 Valley St.\, Minerva\, OH\, 44657\, United States
END:VEVENT
BEGIN:VEVENT
DTSTART;TZID=UTC:20280614T130000
DTEND;TZID=UTC:20280614T150000
DTSTAMP:20260421T192958
CREATED:20260403T160834Z
LAST-MODIFIED:20260403T160834Z
UID:10001378-1844600400-1844607600@minerva.oh.us
SUMMARY:Bingo at the Minerva Senior Center
DESCRIPTION:Bingo at the Minerva Senior Center. Every Wednesday from 1-3. \n1200 Valley St. Minerva.
URL:https://minerva.oh.us/event/bingo-at-the-minerva-senior-center/2028-06-14/
LOCATION:Minerva Senior Center\, 1200 Valley St.\, Minerva\, OH\, 44657\, United States
END:VEVENT
BEGIN:VEVENT
DTSTART;TZID=UTC:20280616T183000
DTEND;TZID=UTC:20280616T203000
DTSTAMP:20260421T192958
CREATED:20260403T160943Z
LAST-MODIFIED:20260403T160943Z
UID:10001640-1844793000-1844800200@minerva.oh.us
SUMMARY:Euchre at the Minerva Senior Center
DESCRIPTION:Euchre at the Minerva Senior Center every Friday at 6:30 PM. \n1200 Valley St. Minerva
URL:https://minerva.oh.us/event/euchre-at-the-minerva-senior-center/2028-06-16/
LOCATION:Minerva Senior Center\, 1200 Valley St.\, Minerva\, OH\, 44657\, United States
END:VEVENT
BEGIN:VEVENT
DTSTART;TZID=UTC:20280621T130000
DTEND;TZID=UTC:20280621T150000
DTSTAMP:20260421T192958
CREATED:20260403T160834Z
LAST-MODIFIED:20260403T160834Z
UID:10001379-1845205200-1845212400@minerva.oh.us
SUMMARY:Bingo at the Minerva Senior Center
DESCRIPTION:Bingo at the Minerva Senior Center. Every Wednesday from 1-3. \n1200 Valley St. Minerva.
URL:https://minerva.oh.us/event/bingo-at-the-minerva-senior-center/2028-06-21/
LOCATION:Minerva Senior Center\, 1200 Valley St.\, Minerva\, OH\, 44657\, United States
END:VEVENT
BEGIN:VEVENT
DTSTART;TZID=UTC:20280623T183000
DTEND;TZID=UTC:20280623T203000
DTSTAMP:20260421T192958
CREATED:20260403T160943Z
LAST-MODIFIED:20260403T160943Z
UID:10001641-1845397800-1845405000@minerva.oh.us
SUMMARY:Euchre at the Minerva Senior Center
DESCRIPTION:Euchre at the Minerva Senior Center every Friday at 6:30 PM. \n1200 Valley St. Minerva
URL:https://minerva.oh.us/event/euchre-at-the-minerva-senior-center/2028-06-23/
LOCATION:Minerva Senior Center\, 1200 Valley St.\, Minerva\, OH\, 44657\, United States
END:VEVENT
BEGIN:VEVENT
DTSTART;TZID=UTC:20280628T130000
DTEND;TZID=UTC:20280628T150000
DTSTAMP:20260421T192958
CREATED:20260403T160834Z
LAST-MODIFIED:20260403T160834Z
UID:10001380-1845810000-1845817200@minerva.oh.us
SUMMARY:Bingo at the Minerva Senior Center
DESCRIPTION:Bingo at the Minerva Senior Center. Every Wednesday from 1-3. \n1200 Valley St. Minerva.
URL:https://minerva.oh.us/event/bingo-at-the-minerva-senior-center/2028-06-28/
LOCATION:Minerva Senior Center\, 1200 Valley St.\, Minerva\, OH\, 44657\, United States
END:VEVENT
BEGIN:VEVENT
DTSTART;TZID=UTC:20280630T183000
DTEND;TZID=UTC:20280630T203000
DTSTAMP:20260421T192958
CREATED:20260403T160943Z
LAST-MODIFIED:20260403T160943Z
UID:10001642-1846002600-1846009800@minerva.oh.us
SUMMARY:Euchre at the Minerva Senior Center
DESCRIPTION:Euchre at the Minerva Senior Center every Friday at 6:30 PM. \n1200 Valley St. Minerva
URL:https://minerva.oh.us/event/euchre-at-the-minerva-senior-center/2028-06-30/
LOCATION:Minerva Senior Center\, 1200 Valley St.\, Minerva\, OH\, 44657\, United States
END:VEVENT
BEGIN:VEVENT
DTSTART;TZID=UTC:20280705T130000
DTEND;TZID=UTC:20280705T150000
DTSTAMP:20260421T192958
CREATED:20260403T160834Z
LAST-MODIFIED:20260403T160834Z
UID:10001381-1846414800-1846422000@minerva.oh.us
SUMMARY:Bingo at the Minerva Senior Center
DESCRIPTION:Bingo at the Minerva Senior Center. Every Wednesday from 1-3. \n1200 Valley St. Minerva.
URL:https://minerva.oh.us/event/bingo-at-the-minerva-senior-center/2028-07-05/
LOCATION:Minerva Senior Center\, 1200 Valley St.\, Minerva\, OH\, 44657\, United States
END:VEVENT
BEGIN:VEVENT
DTSTART;TZID=UTC:20280707T183000
DTEND;TZID=UTC:20280707T203000
DTSTAMP:20260421T192958
CREATED:20260403T160943Z
LAST-MODIFIED:20260403T160943Z
UID:10001643-1846607400-1846614600@minerva.oh.us
SUMMARY:Euchre at the Minerva Senior Center
DESCRIPTION:Euchre at the Minerva Senior Center every Friday at 6:30 PM. \n1200 Valley St. Minerva
URL:https://minerva.oh.us/event/euchre-at-the-minerva-senior-center/2028-07-07/
LOCATION:Minerva Senior Center\, 1200 Valley St.\, Minerva\, OH\, 44657\, United States
END:VEVENT
BEGIN:VEVENT
DTSTART;TZID=UTC:20280712T130000
DTEND;TZID=UTC:20280712T150000
DTSTAMP:20260421T192958
CREATED:20260403T160834Z
LAST-MODIFIED:20260403T160834Z
UID:10001382-1847019600-1847026800@minerva.oh.us
SUMMARY:Bingo at the Minerva Senior Center
DESCRIPTION:Bingo at the Minerva Senior Center. Every Wednesday from 1-3. \n1200 Valley St. Minerva.
URL:https://minerva.oh.us/event/bingo-at-the-minerva-senior-center/2028-07-12/
LOCATION:Minerva Senior Center\, 1200 Valley St.\, Minerva\, OH\, 44657\, United States
END:VEVENT
BEGIN:VEVENT
DTSTART;TZID=UTC:20280714T183000
DTEND;TZID=UTC:20280714T203000
DTSTAMP:20260421T192958
CREATED:20260403T160943Z
LAST-MODIFIED:20260403T160943Z
UID:10001644-1847212200-1847219400@minerva.oh.us
SUMMARY:Euchre at the Minerva Senior Center
DESCRIPTION:Euchre at the Minerva Senior Center every Friday at 6:30 PM. \n1200 Valley St. Minerva
URL:https://minerva.oh.us/event/euchre-at-the-minerva-senior-center/2028-07-14/
LOCATION:Minerva Senior Center\, 1200 Valley St.\, Minerva\, OH\, 44657\, United States
END:VEVENT
BEGIN:VEVENT
DTSTART;TZID=UTC:20280719T130000
DTEND;TZID=UTC:20280719T150000
DTSTAMP:20260421T192958
CREATED:20260403T160834Z
LAST-MODIFIED:20260403T160834Z
UID:10001383-1847624400-1847631600@minerva.oh.us
SUMMARY:Bingo at the Minerva Senior Center
DESCRIPTION:Bingo at the Minerva Senior Center. Every Wednesday from 1-3. \n1200 Valley St. Minerva.
URL:https://minerva.oh.us/event/bingo-at-the-minerva-senior-center/2028-07-19/
LOCATION:Minerva Senior Center\, 1200 Valley St.\, Minerva\, OH\, 44657\, United States
END:VEVENT
BEGIN:VEVENT
DTSTART;TZID=UTC:20280721T183000
DTEND;TZID=UTC:20280721T203000
DTSTAMP:20260421T192958
CREATED:20260403T160943Z
LAST-MODIFIED:20260403T160943Z
UID:10001645-1847817000-1847824200@minerva.oh.us
SUMMARY:Euchre at the Minerva Senior Center
DESCRIPTION:Euchre at the Minerva Senior Center every Friday at 6:30 PM. \n1200 Valley St. Minerva
URL:https://minerva.oh.us/event/euchre-at-the-minerva-senior-center/2028-07-21/
LOCATION:Minerva Senior Center\, 1200 Valley St.\, Minerva\, OH\, 44657\, United States
END:VEVENT
BEGIN:VEVENT
DTSTART;TZID=UTC:20280726T130000
DTEND;TZID=UTC:20280726T150000
DTSTAMP:20260421T192958
CREATED:20260403T160834Z
LAST-MODIFIED:20260403T160834Z
UID:10001384-1848229200-1848236400@minerva.oh.us
SUMMARY:Bingo at the Minerva Senior Center
DESCRIPTION:Bingo at the Minerva Senior Center. Every Wednesday from 1-3. \n1200 Valley St. Minerva.
URL:https://minerva.oh.us/event/bingo-at-the-minerva-senior-center/2028-07-26/
LOCATION:Minerva Senior Center\, 1200 Valley St.\, Minerva\, OH\, 44657\, United States
END:VEVENT
BEGIN:VEVENT
DTSTART;TZID=UTC:20280728T183000
DTEND;TZID=UTC:20280728T203000
DTSTAMP:20260421T192958
CREATED:20260403T160943Z
LAST-MODIFIED:20260403T160943Z
UID:10001646-1848421800-1848429000@minerva.oh.us
SUMMARY:Euchre at the Minerva Senior Center
DESCRIPTION:Euchre at the Minerva Senior Center every Friday at 6:30 PM. \n1200 Valley St. Minerva
URL:https://minerva.oh.us/event/euchre-at-the-minerva-senior-center/2028-07-28/
LOCATION:Minerva Senior Center\, 1200 Valley St.\, Minerva\, OH\, 44657\, United States
END:VEVENT
BEGIN:VEVENT
DTSTART;TZID=UTC:20280802T130000
DTEND;TZID=UTC:20280802T150000
DTSTAMP:20260421T192958
CREATED:20260403T160834Z
LAST-MODIFIED:20260403T160834Z
UID:10001385-1848834000-1848841200@minerva.oh.us
SUMMARY:Bingo at the Minerva Senior Center
DESCRIPTION:Bingo at the Minerva Senior Center. Every Wednesday from 1-3. \n1200 Valley St. Minerva.
URL:https://minerva.oh.us/event/bingo-at-the-minerva-senior-center/2028-08-02/
LOCATION:Minerva Senior Center\, 1200 Valley St.\, Minerva\, OH\, 44657\, United States
END:VEVENT
BEGIN:VEVENT
DTSTART;TZID=UTC:20280804T183000
DTEND;TZID=UTC:20280804T203000
DTSTAMP:20260421T192958
CREATED:20260403T160943Z
LAST-MODIFIED:20260403T160943Z
UID:10001647-1849026600-1849033800@minerva.oh.us
SUMMARY:Euchre at the Minerva Senior Center
DESCRIPTION:Euchre at the Minerva Senior Center every Friday at 6:30 PM. \n1200 Valley St. Minerva
URL:https://minerva.oh.us/event/euchre-at-the-minerva-senior-center/2028-08-04/
LOCATION:Minerva Senior Center\, 1200 Valley St.\, Minerva\, OH\, 44657\, United States
END:VEVENT
BEGIN:VEVENT
DTSTART;TZID=UTC:20280809T130000
DTEND;TZID=UTC:20280809T150000
DTSTAMP:20260421T192958
CREATED:20260403T160834Z
LAST-MODIFIED:20260403T160834Z
UID:10001386-1849438800-1849446000@minerva.oh.us
SUMMARY:Bingo at the Minerva Senior Center
DESCRIPTION:Bingo at the Minerva Senior Center. Every Wednesday from 1-3. \n1200 Valley St. Minerva.
URL:https://minerva.oh.us/event/bingo-at-the-minerva-senior-center/2028-08-09/
LOCATION:Minerva Senior Center\, 1200 Valley St.\, Minerva\, OH\, 44657\, United States
END:VEVENT
BEGIN:VEVENT
DTSTART;TZID=UTC:20280811T183000
DTEND;TZID=UTC:20280811T203000
DTSTAMP:20260421T192958
CREATED:20260403T160943Z
LAST-MODIFIED:20260403T160943Z
UID:10001648-1849631400-1849638600@minerva.oh.us
SUMMARY:Euchre at the Minerva Senior Center
DESCRIPTION:Euchre at the Minerva Senior Center every Friday at 6:30 PM. \n1200 Valley St. Minerva
URL:https://minerva.oh.us/event/euchre-at-the-minerva-senior-center/2028-08-11/
LOCATION:Minerva Senior Center\, 1200 Valley St.\, Minerva\, OH\, 44657\, United States
END:VEVENT
BEGIN:VEVENT
DTSTART;TZID=UTC:20280816T130000
DTEND;TZID=UTC:20280816T150000
DTSTAMP:20260421T192958
CREATED:20260403T160834Z
LAST-MODIFIED:20260403T160834Z
UID:10001387-1850043600-1850050800@minerva.oh.us
SUMMARY:Bingo at the Minerva Senior Center
DESCRIPTION:Bingo at the Minerva Senior Center. Every Wednesday from 1-3. \n1200 Valley St. Minerva.
URL:https://minerva.oh.us/event/bingo-at-the-minerva-senior-center/2028-08-16/
LOCATION:Minerva Senior Center\, 1200 Valley St.\, Minerva\, OH\, 44657\, United States
END:VEVENT
BEGIN:VEVENT
DTSTART;TZID=UTC:20280818T183000
DTEND;TZID=UTC:20280818T203000
DTSTAMP:20260421T192958
CREATED:20260403T160943Z
LAST-MODIFIED:20260403T160943Z
UID:10001649-1850236200-1850243400@minerva.oh.us
SUMMARY:Euchre at the Minerva Senior Center
DESCRIPTION:Euchre at the Minerva Senior Center every Friday at 6:30 PM. \n1200 Valley St. Minerva
URL:https://minerva.oh.us/event/euchre-at-the-minerva-senior-center/2028-08-18/
LOCATION:Minerva Senior Center\, 1200 Valley St.\, Minerva\, OH\, 44657\, United States
END:VEVENT
BEGIN:VEVENT
DTSTART;TZID=UTC:20280823T130000
DTEND;TZID=UTC:20280823T150000
DTSTAMP:20260421T192958
CREATED:20260403T160834Z
LAST-MODIFIED:20260403T160834Z
UID:10001388-1850648400-1850655600@minerva.oh.us
SUMMARY:Bingo at the Minerva Senior Center
DESCRIPTION:Bingo at the Minerva Senior Center. Every Wednesday from 1-3. \n1200 Valley St. Minerva.
URL:https://minerva.oh.us/event/bingo-at-the-minerva-senior-center/2028-08-23/
LOCATION:Minerva Senior Center\, 1200 Valley St.\, Minerva\, OH\, 44657\, United States
END:VEVENT
BEGIN:VEVENT
DTSTART;TZID=UTC:20280825T183000
DTEND;TZID=UTC:20280825T203000
DTSTAMP:20260421T192958
CREATED:20260403T160943Z
LAST-MODIFIED:20260403T160943Z
UID:10001650-1850841000-1850848200@minerva.oh.us
SUMMARY:Euchre at the Minerva Senior Center
DESCRIPTION:Euchre at the Minerva Senior Center every Friday at 6:30 PM. \n1200 Valley St. Minerva
URL:https://minerva.oh.us/event/euchre-at-the-minerva-senior-center/2028-08-25/
LOCATION:Minerva Senior Center\, 1200 Valley St.\, Minerva\, OH\, 44657\, United States
END:VEVENT
END:VCALENDAR