BEGIN:VCALENDAR
VERSION:2.0
PRODID:-//The Village of Minerva - ECPv6.15.20//NONSGML v1.0//EN
CALSCALE:GREGORIAN
METHOD:PUBLISH
X-ORIGINAL-URL:https://minerva.oh.us
X-WR-CALDESC:Events for The Village of Minerva
REFRESH-INTERVAL;VALUE=DURATION:PT1H
X-Robots-Tag:noindex
X-PUBLISHED-TTL:PT1H
BEGIN:VTIMEZONE
TZID:UTC
BEGIN:STANDARD
TZOFFSETFROM:+0000
TZOFFSETTO:+0000
TZNAME:UTC
DTSTART:20270101T000000
END:STANDARD
END:VTIMEZONE
BEGIN:VEVENT
DTSTART;TZID=UTC:20281101T130000
DTEND;TZID=UTC:20281101T150000
DTSTAMP:20260422T011402
CREATED:20260403T160834Z
LAST-MODIFIED:20260403T160834Z
UID:10001398-1856696400-1856703600@minerva.oh.us
SUMMARY:Bingo at the Minerva Senior Center
DESCRIPTION:Bingo at the Minerva Senior Center. Every Wednesday from 1-3. \n1200 Valley St. Minerva.
URL:https://minerva.oh.us/event/bingo-at-the-minerva-senior-center/2028-11-01/
LOCATION:Minerva Senior Center\, 1200 Valley St.\, Minerva\, OH\, 44657\, United States
END:VEVENT
BEGIN:VEVENT
DTSTART;TZID=UTC:20281103T183000
DTEND;TZID=UTC:20281103T203000
DTSTAMP:20260422T011402
CREATED:20260403T160943Z
LAST-MODIFIED:20260403T160943Z
UID:10001660-1856889000-1856896200@minerva.oh.us
SUMMARY:Euchre at the Minerva Senior Center
DESCRIPTION:Euchre at the Minerva Senior Center every Friday at 6:30 PM. \n1200 Valley St. Minerva
URL:https://minerva.oh.us/event/euchre-at-the-minerva-senior-center/2028-11-03/
LOCATION:Minerva Senior Center\, 1200 Valley St.\, Minerva\, OH\, 44657\, United States
END:VEVENT
BEGIN:VEVENT
DTSTART;TZID=UTC:20281108T130000
DTEND;TZID=UTC:20281108T150000
DTSTAMP:20260422T011402
CREATED:20260403T160834Z
LAST-MODIFIED:20260403T160834Z
UID:10001399-1857301200-1857308400@minerva.oh.us
SUMMARY:Bingo at the Minerva Senior Center
DESCRIPTION:Bingo at the Minerva Senior Center. Every Wednesday from 1-3. \n1200 Valley St. Minerva.
URL:https://minerva.oh.us/event/bingo-at-the-minerva-senior-center/2028-11-08/
LOCATION:Minerva Senior Center\, 1200 Valley St.\, Minerva\, OH\, 44657\, United States
END:VEVENT
BEGIN:VEVENT
DTSTART;TZID=UTC:20281110T183000
DTEND;TZID=UTC:20281110T203000
DTSTAMP:20260422T011402
CREATED:20260403T160943Z
LAST-MODIFIED:20260403T160943Z
UID:10001661-1857493800-1857501000@minerva.oh.us
SUMMARY:Euchre at the Minerva Senior Center
DESCRIPTION:Euchre at the Minerva Senior Center every Friday at 6:30 PM. \n1200 Valley St. Minerva
URL:https://minerva.oh.us/event/euchre-at-the-minerva-senior-center/2028-11-10/
LOCATION:Minerva Senior Center\, 1200 Valley St.\, Minerva\, OH\, 44657\, United States
END:VEVENT
BEGIN:VEVENT
DTSTART;TZID=UTC:20281115T130000
DTEND;TZID=UTC:20281115T150000
DTSTAMP:20260422T011402
CREATED:20260403T160834Z
LAST-MODIFIED:20260403T160834Z
UID:10001400-1857906000-1857913200@minerva.oh.us
SUMMARY:Bingo at the Minerva Senior Center
DESCRIPTION:Bingo at the Minerva Senior Center. Every Wednesday from 1-3. \n1200 Valley St. Minerva.
URL:https://minerva.oh.us/event/bingo-at-the-minerva-senior-center/2028-11-15/
LOCATION:Minerva Senior Center\, 1200 Valley St.\, Minerva\, OH\, 44657\, United States
END:VEVENT
BEGIN:VEVENT
DTSTART;TZID=UTC:20281117T183000
DTEND;TZID=UTC:20281117T203000
DTSTAMP:20260422T011402
CREATED:20260403T160943Z
LAST-MODIFIED:20260403T160943Z
UID:10001662-1858098600-1858105800@minerva.oh.us
SUMMARY:Euchre at the Minerva Senior Center
DESCRIPTION:Euchre at the Minerva Senior Center every Friday at 6:30 PM. \n1200 Valley St. Minerva
URL:https://minerva.oh.us/event/euchre-at-the-minerva-senior-center/2028-11-17/
LOCATION:Minerva Senior Center\, 1200 Valley St.\, Minerva\, OH\, 44657\, United States
END:VEVENT
BEGIN:VEVENT
DTSTART;TZID=UTC:20281122T130000
DTEND;TZID=UTC:20281122T150000
DTSTAMP:20260422T011402
CREATED:20260403T160834Z
LAST-MODIFIED:20260403T160834Z
UID:10001401-1858510800-1858518000@minerva.oh.us
SUMMARY:Bingo at the Minerva Senior Center
DESCRIPTION:Bingo at the Minerva Senior Center. Every Wednesday from 1-3. \n1200 Valley St. Minerva.
URL:https://minerva.oh.us/event/bingo-at-the-minerva-senior-center/2028-11-22/
LOCATION:Minerva Senior Center\, 1200 Valley St.\, Minerva\, OH\, 44657\, United States
END:VEVENT
BEGIN:VEVENT
DTSTART;TZID=UTC:20281124T183000
DTEND;TZID=UTC:20281124T203000
DTSTAMP:20260422T011402
CREATED:20260403T160943Z
LAST-MODIFIED:20260403T160943Z
UID:10001663-1858703400-1858710600@minerva.oh.us
SUMMARY:Euchre at the Minerva Senior Center
DESCRIPTION:Euchre at the Minerva Senior Center every Friday at 6:30 PM. \n1200 Valley St. Minerva
URL:https://minerva.oh.us/event/euchre-at-the-minerva-senior-center/2028-11-24/
LOCATION:Minerva Senior Center\, 1200 Valley St.\, Minerva\, OH\, 44657\, United States
END:VEVENT
BEGIN:VEVENT
DTSTART;TZID=UTC:20281129T130000
DTEND;TZID=UTC:20281129T150000
DTSTAMP:20260422T011402
CREATED:20260403T160834Z
LAST-MODIFIED:20260403T160834Z
UID:10001402-1859115600-1859122800@minerva.oh.us
SUMMARY:Bingo at the Minerva Senior Center
DESCRIPTION:Bingo at the Minerva Senior Center. Every Wednesday from 1-3. \n1200 Valley St. Minerva.
URL:https://minerva.oh.us/event/bingo-at-the-minerva-senior-center/2028-11-29/
LOCATION:Minerva Senior Center\, 1200 Valley St.\, Minerva\, OH\, 44657\, United States
END:VEVENT
BEGIN:VEVENT
DTSTART;TZID=UTC:20281201T183000
DTEND;TZID=UTC:20281201T203000
DTSTAMP:20260422T011402
CREATED:20260403T160943Z
LAST-MODIFIED:20260403T160943Z
UID:10001664-1859308200-1859315400@minerva.oh.us
SUMMARY:Euchre at the Minerva Senior Center
DESCRIPTION:Euchre at the Minerva Senior Center every Friday at 6:30 PM. \n1200 Valley St. Minerva
URL:https://minerva.oh.us/event/euchre-at-the-minerva-senior-center/2028-12-01/
LOCATION:Minerva Senior Center\, 1200 Valley St.\, Minerva\, OH\, 44657\, United States
END:VEVENT
BEGIN:VEVENT
DTSTART;TZID=UTC:20281206T130000
DTEND;TZID=UTC:20281206T150000
DTSTAMP:20260422T011402
CREATED:20260403T160834Z
LAST-MODIFIED:20260403T160834Z
UID:10001403-1859720400-1859727600@minerva.oh.us
SUMMARY:Bingo at the Minerva Senior Center
DESCRIPTION:Bingo at the Minerva Senior Center. Every Wednesday from 1-3. \n1200 Valley St. Minerva.
URL:https://minerva.oh.us/event/bingo-at-the-minerva-senior-center/2028-12-06/
LOCATION:Minerva Senior Center\, 1200 Valley St.\, Minerva\, OH\, 44657\, United States
END:VEVENT
BEGIN:VEVENT
DTSTART;TZID=UTC:20281208T183000
DTEND;TZID=UTC:20281208T203000
DTSTAMP:20260422T011402
CREATED:20260403T160943Z
LAST-MODIFIED:20260403T160943Z
UID:10001665-1859913000-1859920200@minerva.oh.us
SUMMARY:Euchre at the Minerva Senior Center
DESCRIPTION:Euchre at the Minerva Senior Center every Friday at 6:30 PM. \n1200 Valley St. Minerva
URL:https://minerva.oh.us/event/euchre-at-the-minerva-senior-center/2028-12-08/
LOCATION:Minerva Senior Center\, 1200 Valley St.\, Minerva\, OH\, 44657\, United States
END:VEVENT
BEGIN:VEVENT
DTSTART;TZID=UTC:20281213T130000
DTEND;TZID=UTC:20281213T150000
DTSTAMP:20260422T011402
CREATED:20260403T160834Z
LAST-MODIFIED:20260403T160834Z
UID:10001404-1860325200-1860332400@minerva.oh.us
SUMMARY:Bingo at the Minerva Senior Center
DESCRIPTION:Bingo at the Minerva Senior Center. Every Wednesday from 1-3. \n1200 Valley St. Minerva.
URL:https://minerva.oh.us/event/bingo-at-the-minerva-senior-center/2028-12-13/
LOCATION:Minerva Senior Center\, 1200 Valley St.\, Minerva\, OH\, 44657\, United States
END:VEVENT
BEGIN:VEVENT
DTSTART;TZID=UTC:20281215T183000
DTEND;TZID=UTC:20281215T203000
DTSTAMP:20260422T011402
CREATED:20260403T160943Z
LAST-MODIFIED:20260403T160943Z
UID:10001666-1860517800-1860525000@minerva.oh.us
SUMMARY:Euchre at the Minerva Senior Center
DESCRIPTION:Euchre at the Minerva Senior Center every Friday at 6:30 PM. \n1200 Valley St. Minerva
URL:https://minerva.oh.us/event/euchre-at-the-minerva-senior-center/2028-12-15/
LOCATION:Minerva Senior Center\, 1200 Valley St.\, Minerva\, OH\, 44657\, United States
END:VEVENT
BEGIN:VEVENT
DTSTART;TZID=UTC:20281220T130000
DTEND;TZID=UTC:20281220T150000
DTSTAMP:20260422T011402
CREATED:20260403T160834Z
LAST-MODIFIED:20260403T160834Z
UID:10001405-1860930000-1860937200@minerva.oh.us
SUMMARY:Bingo at the Minerva Senior Center
DESCRIPTION:Bingo at the Minerva Senior Center. Every Wednesday from 1-3. \n1200 Valley St. Minerva.
URL:https://minerva.oh.us/event/bingo-at-the-minerva-senior-center/2028-12-20/
LOCATION:Minerva Senior Center\, 1200 Valley St.\, Minerva\, OH\, 44657\, United States
END:VEVENT
BEGIN:VEVENT
DTSTART;TZID=UTC:20281222T183000
DTEND;TZID=UTC:20281222T203000
DTSTAMP:20260422T011402
CREATED:20260403T160943Z
LAST-MODIFIED:20260403T160943Z
UID:10001667-1861122600-1861129800@minerva.oh.us
SUMMARY:Euchre at the Minerva Senior Center
DESCRIPTION:Euchre at the Minerva Senior Center every Friday at 6:30 PM. \n1200 Valley St. Minerva
URL:https://minerva.oh.us/event/euchre-at-the-minerva-senior-center/2028-12-22/
LOCATION:Minerva Senior Center\, 1200 Valley St.\, Minerva\, OH\, 44657\, United States
END:VEVENT
BEGIN:VEVENT
DTSTART;TZID=UTC:20281227T130000
DTEND;TZID=UTC:20281227T150000
DTSTAMP:20260422T011402
CREATED:20260403T160834Z
LAST-MODIFIED:20260403T160834Z
UID:10001406-1861534800-1861542000@minerva.oh.us
SUMMARY:Bingo at the Minerva Senior Center
DESCRIPTION:Bingo at the Minerva Senior Center. Every Wednesday from 1-3. \n1200 Valley St. Minerva.
URL:https://minerva.oh.us/event/bingo-at-the-minerva-senior-center/2028-12-27/
LOCATION:Minerva Senior Center\, 1200 Valley St.\, Minerva\, OH\, 44657\, United States
END:VEVENT
BEGIN:VEVENT
DTSTART;TZID=UTC:20281229T183000
DTEND;TZID=UTC:20281229T203000
DTSTAMP:20260422T011402
CREATED:20260403T160943Z
LAST-MODIFIED:20260403T160943Z
UID:10001668-1861727400-1861734600@minerva.oh.us
SUMMARY:Euchre at the Minerva Senior Center
DESCRIPTION:Euchre at the Minerva Senior Center every Friday at 6:30 PM. \n1200 Valley St. Minerva
URL:https://minerva.oh.us/event/euchre-at-the-minerva-senior-center/2028-12-29/
LOCATION:Minerva Senior Center\, 1200 Valley St.\, Minerva\, OH\, 44657\, United States
END:VEVENT
BEGIN:VEVENT
DTSTART;TZID=UTC:20290103T130000
DTEND;TZID=UTC:20290103T150000
DTSTAMP:20260422T011402
CREATED:20260403T160834Z
LAST-MODIFIED:20260403T160834Z
UID:10001407-1862139600-1862146800@minerva.oh.us
SUMMARY:Bingo at the Minerva Senior Center
DESCRIPTION:Bingo at the Minerva Senior Center. Every Wednesday from 1-3. \n1200 Valley St. Minerva.
URL:https://minerva.oh.us/event/bingo-at-the-minerva-senior-center/2029-01-03/
LOCATION:Minerva Senior Center\, 1200 Valley St.\, Minerva\, OH\, 44657\, United States
END:VEVENT
BEGIN:VEVENT
DTSTART;TZID=UTC:20290105T183000
DTEND;TZID=UTC:20290105T203000
DTSTAMP:20260422T011402
CREATED:20260403T160943Z
LAST-MODIFIED:20260403T160943Z
UID:10001669-1862332200-1862339400@minerva.oh.us
SUMMARY:Euchre at the Minerva Senior Center
DESCRIPTION:Euchre at the Minerva Senior Center every Friday at 6:30 PM. \n1200 Valley St. Minerva
URL:https://minerva.oh.us/event/euchre-at-the-minerva-senior-center/2029-01-05/
LOCATION:Minerva Senior Center\, 1200 Valley St.\, Minerva\, OH\, 44657\, United States
END:VEVENT
BEGIN:VEVENT
DTSTART;TZID=UTC:20290110T130000
DTEND;TZID=UTC:20290110T150000
DTSTAMP:20260422T011402
CREATED:20260403T160834Z
LAST-MODIFIED:20260403T160834Z
UID:10001408-1862744400-1862751600@minerva.oh.us
SUMMARY:Bingo at the Minerva Senior Center
DESCRIPTION:Bingo at the Minerva Senior Center. Every Wednesday from 1-3. \n1200 Valley St. Minerva.
URL:https://minerva.oh.us/event/bingo-at-the-minerva-senior-center/2029-01-10/
LOCATION:Minerva Senior Center\, 1200 Valley St.\, Minerva\, OH\, 44657\, United States
END:VEVENT
BEGIN:VEVENT
DTSTART;TZID=UTC:20290112T183000
DTEND;TZID=UTC:20290112T203000
DTSTAMP:20260422T011402
CREATED:20260403T160943Z
LAST-MODIFIED:20260403T160943Z
UID:10001670-1862937000-1862944200@minerva.oh.us
SUMMARY:Euchre at the Minerva Senior Center
DESCRIPTION:Euchre at the Minerva Senior Center every Friday at 6:30 PM. \n1200 Valley St. Minerva
URL:https://minerva.oh.us/event/euchre-at-the-minerva-senior-center/2029-01-12/
LOCATION:Minerva Senior Center\, 1200 Valley St.\, Minerva\, OH\, 44657\, United States
END:VEVENT
BEGIN:VEVENT
DTSTART;TZID=UTC:20290117T130000
DTEND;TZID=UTC:20290117T150000
DTSTAMP:20260422T011402
CREATED:20260403T160834Z
LAST-MODIFIED:20260403T160834Z
UID:10001409-1863349200-1863356400@minerva.oh.us
SUMMARY:Bingo at the Minerva Senior Center
DESCRIPTION:Bingo at the Minerva Senior Center. Every Wednesday from 1-3. \n1200 Valley St. Minerva.
URL:https://minerva.oh.us/event/bingo-at-the-minerva-senior-center/2029-01-17/
LOCATION:Minerva Senior Center\, 1200 Valley St.\, Minerva\, OH\, 44657\, United States
END:VEVENT
BEGIN:VEVENT
DTSTART;TZID=UTC:20290119T183000
DTEND;TZID=UTC:20290119T203000
DTSTAMP:20260422T011402
CREATED:20260403T160943Z
LAST-MODIFIED:20260403T160943Z
UID:10001671-1863541800-1863549000@minerva.oh.us
SUMMARY:Euchre at the Minerva Senior Center
DESCRIPTION:Euchre at the Minerva Senior Center every Friday at 6:30 PM. \n1200 Valley St. Minerva
URL:https://minerva.oh.us/event/euchre-at-the-minerva-senior-center/2029-01-19/
LOCATION:Minerva Senior Center\, 1200 Valley St.\, Minerva\, OH\, 44657\, United States
END:VEVENT
BEGIN:VEVENT
DTSTART;TZID=UTC:20290124T130000
DTEND;TZID=UTC:20290124T150000
DTSTAMP:20260422T011402
CREATED:20260403T160834Z
LAST-MODIFIED:20260403T160834Z
UID:10001410-1863954000-1863961200@minerva.oh.us
SUMMARY:Bingo at the Minerva Senior Center
DESCRIPTION:Bingo at the Minerva Senior Center. Every Wednesday from 1-3. \n1200 Valley St. Minerva.
URL:https://minerva.oh.us/event/bingo-at-the-minerva-senior-center/2029-01-24/
LOCATION:Minerva Senior Center\, 1200 Valley St.\, Minerva\, OH\, 44657\, United States
END:VEVENT
BEGIN:VEVENT
DTSTART;TZID=UTC:20290126T183000
DTEND;TZID=UTC:20290126T203000
DTSTAMP:20260422T011402
CREATED:20260403T160943Z
LAST-MODIFIED:20260403T160943Z
UID:10001672-1864146600-1864153800@minerva.oh.us
SUMMARY:Euchre at the Minerva Senior Center
DESCRIPTION:Euchre at the Minerva Senior Center every Friday at 6:30 PM. \n1200 Valley St. Minerva
URL:https://minerva.oh.us/event/euchre-at-the-minerva-senior-center/2029-01-26/
LOCATION:Minerva Senior Center\, 1200 Valley St.\, Minerva\, OH\, 44657\, United States
END:VEVENT
BEGIN:VEVENT
DTSTART;TZID=UTC:20290131T130000
DTEND;TZID=UTC:20290131T150000
DTSTAMP:20260422T011402
CREATED:20260403T160834Z
LAST-MODIFIED:20260403T160834Z
UID:10001411-1864558800-1864566000@minerva.oh.us
SUMMARY:Bingo at the Minerva Senior Center
DESCRIPTION:Bingo at the Minerva Senior Center. Every Wednesday from 1-3. \n1200 Valley St. Minerva.
URL:https://minerva.oh.us/event/bingo-at-the-minerva-senior-center/2029-01-31/
LOCATION:Minerva Senior Center\, 1200 Valley St.\, Minerva\, OH\, 44657\, United States
END:VEVENT
BEGIN:VEVENT
DTSTART;TZID=UTC:20290202T183000
DTEND;TZID=UTC:20290202T203000
DTSTAMP:20260422T011402
CREATED:20260403T160943Z
LAST-MODIFIED:20260403T160943Z
UID:10001673-1864751400-1864758600@minerva.oh.us
SUMMARY:Euchre at the Minerva Senior Center
DESCRIPTION:Euchre at the Minerva Senior Center every Friday at 6:30 PM. \n1200 Valley St. Minerva
URL:https://minerva.oh.us/event/euchre-at-the-minerva-senior-center/2029-02-02/
LOCATION:Minerva Senior Center\, 1200 Valley St.\, Minerva\, OH\, 44657\, United States
END:VEVENT
BEGIN:VEVENT
DTSTART;TZID=UTC:20290207T130000
DTEND;TZID=UTC:20290207T150000
DTSTAMP:20260422T011402
CREATED:20260403T160834Z
LAST-MODIFIED:20260403T160834Z
UID:10001412-1865163600-1865170800@minerva.oh.us
SUMMARY:Bingo at the Minerva Senior Center
DESCRIPTION:Bingo at the Minerva Senior Center. Every Wednesday from 1-3. \n1200 Valley St. Minerva.
URL:https://minerva.oh.us/event/bingo-at-the-minerva-senior-center/2029-02-07/
LOCATION:Minerva Senior Center\, 1200 Valley St.\, Minerva\, OH\, 44657\, United States
END:VEVENT
BEGIN:VEVENT
DTSTART;TZID=UTC:20290209T183000
DTEND;TZID=UTC:20290209T203000
DTSTAMP:20260422T011402
CREATED:20260403T160943Z
LAST-MODIFIED:20260403T160943Z
UID:10001674-1865356200-1865363400@minerva.oh.us
SUMMARY:Euchre at the Minerva Senior Center
DESCRIPTION:Euchre at the Minerva Senior Center every Friday at 6:30 PM. \n1200 Valley St. Minerva
URL:https://minerva.oh.us/event/euchre-at-the-minerva-senior-center/2029-02-09/
LOCATION:Minerva Senior Center\, 1200 Valley St.\, Minerva\, OH\, 44657\, United States
END:VEVENT
END:VCALENDAR