BEGIN:VCALENDAR
VERSION:2.0
PRODID:-//The Village of Minerva - ECPv6.15.20//NONSGML v1.0//EN
CALSCALE:GREGORIAN
METHOD:PUBLISH
X-ORIGINAL-URL:https://minerva.oh.us
X-WR-CALDESC:Events for The Village of Minerva
REFRESH-INTERVAL;VALUE=DURATION:PT1H
X-Robots-Tag:noindex
X-PUBLISHED-TTL:PT1H
BEGIN:VTIMEZONE
TZID:UTC
BEGIN:STANDARD
TZOFFSETFROM:+0000
TZOFFSETTO:+0000
TZNAME:UTC
DTSTART:20280101T000000
END:STANDARD
END:VTIMEZONE
BEGIN:VEVENT
DTSTART;TZID=UTC:20290418T130000
DTEND;TZID=UTC:20290418T150000
DTSTAMP:20260422T072539
CREATED:20260403T160834Z
LAST-MODIFIED:20260403T160834Z
UID:10001422-1871211600-1871218800@minerva.oh.us
SUMMARY:Bingo at the Minerva Senior Center
DESCRIPTION:Bingo at the Minerva Senior Center. Every Wednesday from 1-3. \n1200 Valley St. Minerva.
URL:https://minerva.oh.us/event/bingo-at-the-minerva-senior-center/2029-04-18/
LOCATION:Minerva Senior Center\, 1200 Valley St.\, Minerva\, OH\, 44657\, United States
END:VEVENT
BEGIN:VEVENT
DTSTART;TZID=UTC:20290420T183000
DTEND;TZID=UTC:20290420T203000
DTSTAMP:20260422T072539
CREATED:20260403T160943Z
LAST-MODIFIED:20260403T160943Z
UID:10001684-1871404200-1871411400@minerva.oh.us
SUMMARY:Euchre at the Minerva Senior Center
DESCRIPTION:Euchre at the Minerva Senior Center every Friday at 6:30 PM. \n1200 Valley St. Minerva
URL:https://minerva.oh.us/event/euchre-at-the-minerva-senior-center/2029-04-20/
LOCATION:Minerva Senior Center\, 1200 Valley St.\, Minerva\, OH\, 44657\, United States
END:VEVENT
BEGIN:VEVENT
DTSTART;TZID=UTC:20290425T130000
DTEND;TZID=UTC:20290425T150000
DTSTAMP:20260422T072539
CREATED:20260403T160834Z
LAST-MODIFIED:20260403T160834Z
UID:10001423-1871816400-1871823600@minerva.oh.us
SUMMARY:Bingo at the Minerva Senior Center
DESCRIPTION:Bingo at the Minerva Senior Center. Every Wednesday from 1-3. \n1200 Valley St. Minerva.
URL:https://minerva.oh.us/event/bingo-at-the-minerva-senior-center/2029-04-25/
LOCATION:Minerva Senior Center\, 1200 Valley St.\, Minerva\, OH\, 44657\, United States
END:VEVENT
BEGIN:VEVENT
DTSTART;TZID=UTC:20290427T183000
DTEND;TZID=UTC:20290427T203000
DTSTAMP:20260422T072539
CREATED:20260403T160943Z
LAST-MODIFIED:20260403T160943Z
UID:10001685-1872009000-1872016200@minerva.oh.us
SUMMARY:Euchre at the Minerva Senior Center
DESCRIPTION:Euchre at the Minerva Senior Center every Friday at 6:30 PM. \n1200 Valley St. Minerva
URL:https://minerva.oh.us/event/euchre-at-the-minerva-senior-center/2029-04-27/
LOCATION:Minerva Senior Center\, 1200 Valley St.\, Minerva\, OH\, 44657\, United States
END:VEVENT
BEGIN:VEVENT
DTSTART;TZID=UTC:20290502T130000
DTEND;TZID=UTC:20290502T150000
DTSTAMP:20260422T072539
CREATED:20260403T160834Z
LAST-MODIFIED:20260403T160834Z
UID:10001424-1872421200-1872428400@minerva.oh.us
SUMMARY:Bingo at the Minerva Senior Center
DESCRIPTION:Bingo at the Minerva Senior Center. Every Wednesday from 1-3. \n1200 Valley St. Minerva.
URL:https://minerva.oh.us/event/bingo-at-the-minerva-senior-center/2029-05-02/
LOCATION:Minerva Senior Center\, 1200 Valley St.\, Minerva\, OH\, 44657\, United States
END:VEVENT
BEGIN:VEVENT
DTSTART;TZID=UTC:20290504T183000
DTEND;TZID=UTC:20290504T203000
DTSTAMP:20260422T072539
CREATED:20260403T160943Z
LAST-MODIFIED:20260403T160943Z
UID:10001686-1872613800-1872621000@minerva.oh.us
SUMMARY:Euchre at the Minerva Senior Center
DESCRIPTION:Euchre at the Minerva Senior Center every Friday at 6:30 PM. \n1200 Valley St. Minerva
URL:https://minerva.oh.us/event/euchre-at-the-minerva-senior-center/2029-05-04/
LOCATION:Minerva Senior Center\, 1200 Valley St.\, Minerva\, OH\, 44657\, United States
END:VEVENT
BEGIN:VEVENT
DTSTART;TZID=UTC:20290509T130000
DTEND;TZID=UTC:20290509T150000
DTSTAMP:20260422T072539
CREATED:20260403T160834Z
LAST-MODIFIED:20260403T160834Z
UID:10001425-1873026000-1873033200@minerva.oh.us
SUMMARY:Bingo at the Minerva Senior Center
DESCRIPTION:Bingo at the Minerva Senior Center. Every Wednesday from 1-3. \n1200 Valley St. Minerva.
URL:https://minerva.oh.us/event/bingo-at-the-minerva-senior-center/2029-05-09/
LOCATION:Minerva Senior Center\, 1200 Valley St.\, Minerva\, OH\, 44657\, United States
END:VEVENT
BEGIN:VEVENT
DTSTART;TZID=UTC:20290511T183000
DTEND;TZID=UTC:20290511T203000
DTSTAMP:20260422T072539
CREATED:20260403T160943Z
LAST-MODIFIED:20260403T160943Z
UID:10001687-1873218600-1873225800@minerva.oh.us
SUMMARY:Euchre at the Minerva Senior Center
DESCRIPTION:Euchre at the Minerva Senior Center every Friday at 6:30 PM. \n1200 Valley St. Minerva
URL:https://minerva.oh.us/event/euchre-at-the-minerva-senior-center/2029-05-11/
LOCATION:Minerva Senior Center\, 1200 Valley St.\, Minerva\, OH\, 44657\, United States
END:VEVENT
BEGIN:VEVENT
DTSTART;TZID=UTC:20290516T130000
DTEND;TZID=UTC:20290516T150000
DTSTAMP:20260422T072539
CREATED:20260403T160834Z
LAST-MODIFIED:20260403T160834Z
UID:10001426-1873630800-1873638000@minerva.oh.us
SUMMARY:Bingo at the Minerva Senior Center
DESCRIPTION:Bingo at the Minerva Senior Center. Every Wednesday from 1-3. \n1200 Valley St. Minerva.
URL:https://minerva.oh.us/event/bingo-at-the-minerva-senior-center/2029-05-16/
LOCATION:Minerva Senior Center\, 1200 Valley St.\, Minerva\, OH\, 44657\, United States
END:VEVENT
BEGIN:VEVENT
DTSTART;TZID=UTC:20290518T183000
DTEND;TZID=UTC:20290518T203000
DTSTAMP:20260422T072539
CREATED:20260403T160943Z
LAST-MODIFIED:20260403T160943Z
UID:10001688-1873823400-1873830600@minerva.oh.us
SUMMARY:Euchre at the Minerva Senior Center
DESCRIPTION:Euchre at the Minerva Senior Center every Friday at 6:30 PM. \n1200 Valley St. Minerva
URL:https://minerva.oh.us/event/euchre-at-the-minerva-senior-center/2029-05-18/
LOCATION:Minerva Senior Center\, 1200 Valley St.\, Minerva\, OH\, 44657\, United States
END:VEVENT
BEGIN:VEVENT
DTSTART;TZID=UTC:20290523T130000
DTEND;TZID=UTC:20290523T150000
DTSTAMP:20260422T072539
CREATED:20260403T160834Z
LAST-MODIFIED:20260403T160834Z
UID:10001427-1874235600-1874242800@minerva.oh.us
SUMMARY:Bingo at the Minerva Senior Center
DESCRIPTION:Bingo at the Minerva Senior Center. Every Wednesday from 1-3. \n1200 Valley St. Minerva.
URL:https://minerva.oh.us/event/bingo-at-the-minerva-senior-center/2029-05-23/
LOCATION:Minerva Senior Center\, 1200 Valley St.\, Minerva\, OH\, 44657\, United States
END:VEVENT
BEGIN:VEVENT
DTSTART;TZID=UTC:20290525T183000
DTEND;TZID=UTC:20290525T203000
DTSTAMP:20260422T072539
CREATED:20260403T160943Z
LAST-MODIFIED:20260403T160943Z
UID:10001689-1874428200-1874435400@minerva.oh.us
SUMMARY:Euchre at the Minerva Senior Center
DESCRIPTION:Euchre at the Minerva Senior Center every Friday at 6:30 PM. \n1200 Valley St. Minerva
URL:https://minerva.oh.us/event/euchre-at-the-minerva-senior-center/2029-05-25/
LOCATION:Minerva Senior Center\, 1200 Valley St.\, Minerva\, OH\, 44657\, United States
END:VEVENT
BEGIN:VEVENT
DTSTART;TZID=UTC:20290530T130000
DTEND;TZID=UTC:20290530T150000
DTSTAMP:20260422T072539
CREATED:20260403T160834Z
LAST-MODIFIED:20260403T160834Z
UID:10001428-1874840400-1874847600@minerva.oh.us
SUMMARY:Bingo at the Minerva Senior Center
DESCRIPTION:Bingo at the Minerva Senior Center. Every Wednesday from 1-3. \n1200 Valley St. Minerva.
URL:https://minerva.oh.us/event/bingo-at-the-minerva-senior-center/2029-05-30/
LOCATION:Minerva Senior Center\, 1200 Valley St.\, Minerva\, OH\, 44657\, United States
END:VEVENT
BEGIN:VEVENT
DTSTART;TZID=UTC:20290601T183000
DTEND;TZID=UTC:20290601T203000
DTSTAMP:20260422T072539
CREATED:20260403T160943Z
LAST-MODIFIED:20260403T160943Z
UID:10001690-1875033000-1875040200@minerva.oh.us
SUMMARY:Euchre at the Minerva Senior Center
DESCRIPTION:Euchre at the Minerva Senior Center every Friday at 6:30 PM. \n1200 Valley St. Minerva
URL:https://minerva.oh.us/event/euchre-at-the-minerva-senior-center/2029-06-01/
LOCATION:Minerva Senior Center\, 1200 Valley St.\, Minerva\, OH\, 44657\, United States
END:VEVENT
BEGIN:VEVENT
DTSTART;TZID=UTC:20290606T130000
DTEND;TZID=UTC:20290606T150000
DTSTAMP:20260422T072539
CREATED:20260403T160834Z
LAST-MODIFIED:20260403T160834Z
UID:10001429-1875445200-1875452400@minerva.oh.us
SUMMARY:Bingo at the Minerva Senior Center
DESCRIPTION:Bingo at the Minerva Senior Center. Every Wednesday from 1-3. \n1200 Valley St. Minerva.
URL:https://minerva.oh.us/event/bingo-at-the-minerva-senior-center/2029-06-06/
LOCATION:Minerva Senior Center\, 1200 Valley St.\, Minerva\, OH\, 44657\, United States
END:VEVENT
BEGIN:VEVENT
DTSTART;TZID=UTC:20290608T183000
DTEND;TZID=UTC:20290608T203000
DTSTAMP:20260422T072539
CREATED:20260403T160943Z
LAST-MODIFIED:20260403T160943Z
UID:10001691-1875637800-1875645000@minerva.oh.us
SUMMARY:Euchre at the Minerva Senior Center
DESCRIPTION:Euchre at the Minerva Senior Center every Friday at 6:30 PM. \n1200 Valley St. Minerva
URL:https://minerva.oh.us/event/euchre-at-the-minerva-senior-center/2029-06-08/
LOCATION:Minerva Senior Center\, 1200 Valley St.\, Minerva\, OH\, 44657\, United States
END:VEVENT
BEGIN:VEVENT
DTSTART;TZID=UTC:20290613T130000
DTEND;TZID=UTC:20290613T150000
DTSTAMP:20260422T072539
CREATED:20260403T160834Z
LAST-MODIFIED:20260403T160834Z
UID:10001430-1876050000-1876057200@minerva.oh.us
SUMMARY:Bingo at the Minerva Senior Center
DESCRIPTION:Bingo at the Minerva Senior Center. Every Wednesday from 1-3. \n1200 Valley St. Minerva.
URL:https://minerva.oh.us/event/bingo-at-the-minerva-senior-center/2029-06-13/
LOCATION:Minerva Senior Center\, 1200 Valley St.\, Minerva\, OH\, 44657\, United States
END:VEVENT
BEGIN:VEVENT
DTSTART;TZID=UTC:20290615T183000
DTEND;TZID=UTC:20290615T203000
DTSTAMP:20260422T072539
CREATED:20260403T160943Z
LAST-MODIFIED:20260403T160943Z
UID:10001692-1876242600-1876249800@minerva.oh.us
SUMMARY:Euchre at the Minerva Senior Center
DESCRIPTION:Euchre at the Minerva Senior Center every Friday at 6:30 PM. \n1200 Valley St. Minerva
URL:https://minerva.oh.us/event/euchre-at-the-minerva-senior-center/2029-06-15/
LOCATION:Minerva Senior Center\, 1200 Valley St.\, Minerva\, OH\, 44657\, United States
END:VEVENT
BEGIN:VEVENT
DTSTART;TZID=UTC:20290620T130000
DTEND;TZID=UTC:20290620T150000
DTSTAMP:20260422T072539
CREATED:20260403T160834Z
LAST-MODIFIED:20260403T160834Z
UID:10001431-1876654800-1876662000@minerva.oh.us
SUMMARY:Bingo at the Minerva Senior Center
DESCRIPTION:Bingo at the Minerva Senior Center. Every Wednesday from 1-3. \n1200 Valley St. Minerva.
URL:https://minerva.oh.us/event/bingo-at-the-minerva-senior-center/2029-06-20/
LOCATION:Minerva Senior Center\, 1200 Valley St.\, Minerva\, OH\, 44657\, United States
END:VEVENT
BEGIN:VEVENT
DTSTART;TZID=UTC:20290622T183000
DTEND;TZID=UTC:20290622T203000
DTSTAMP:20260422T072539
CREATED:20260403T160943Z
LAST-MODIFIED:20260403T160943Z
UID:10001693-1876847400-1876854600@minerva.oh.us
SUMMARY:Euchre at the Minerva Senior Center
DESCRIPTION:Euchre at the Minerva Senior Center every Friday at 6:30 PM. \n1200 Valley St. Minerva
URL:https://minerva.oh.us/event/euchre-at-the-minerva-senior-center/2029-06-22/
LOCATION:Minerva Senior Center\, 1200 Valley St.\, Minerva\, OH\, 44657\, United States
END:VEVENT
BEGIN:VEVENT
DTSTART;TZID=UTC:20290627T130000
DTEND;TZID=UTC:20290627T150000
DTSTAMP:20260422T072539
CREATED:20260403T160834Z
LAST-MODIFIED:20260403T160834Z
UID:10001432-1877259600-1877266800@minerva.oh.us
SUMMARY:Bingo at the Minerva Senior Center
DESCRIPTION:Bingo at the Minerva Senior Center. Every Wednesday from 1-3. \n1200 Valley St. Minerva.
URL:https://minerva.oh.us/event/bingo-at-the-minerva-senior-center/2029-06-27/
LOCATION:Minerva Senior Center\, 1200 Valley St.\, Minerva\, OH\, 44657\, United States
END:VEVENT
BEGIN:VEVENT
DTSTART;TZID=UTC:20290629T183000
DTEND;TZID=UTC:20290629T203000
DTSTAMP:20260422T072539
CREATED:20260403T160943Z
LAST-MODIFIED:20260403T160943Z
UID:10001694-1877452200-1877459400@minerva.oh.us
SUMMARY:Euchre at the Minerva Senior Center
DESCRIPTION:Euchre at the Minerva Senior Center every Friday at 6:30 PM. \n1200 Valley St. Minerva
URL:https://minerva.oh.us/event/euchre-at-the-minerva-senior-center/2029-06-29/
LOCATION:Minerva Senior Center\, 1200 Valley St.\, Minerva\, OH\, 44657\, United States
END:VEVENT
BEGIN:VEVENT
DTSTART;TZID=UTC:20290704T130000
DTEND;TZID=UTC:20290704T150000
DTSTAMP:20260422T072539
CREATED:20260403T160834Z
LAST-MODIFIED:20260403T160834Z
UID:10001433-1877864400-1877871600@minerva.oh.us
SUMMARY:Bingo at the Minerva Senior Center
DESCRIPTION:Bingo at the Minerva Senior Center. Every Wednesday from 1-3. \n1200 Valley St. Minerva.
URL:https://minerva.oh.us/event/bingo-at-the-minerva-senior-center/2029-07-04/
LOCATION:Minerva Senior Center\, 1200 Valley St.\, Minerva\, OH\, 44657\, United States
END:VEVENT
BEGIN:VEVENT
DTSTART;TZID=UTC:20290706T183000
DTEND;TZID=UTC:20290706T203000
DTSTAMP:20260422T072539
CREATED:20260403T160943Z
LAST-MODIFIED:20260403T160943Z
UID:10001695-1878057000-1878064200@minerva.oh.us
SUMMARY:Euchre at the Minerva Senior Center
DESCRIPTION:Euchre at the Minerva Senior Center every Friday at 6:30 PM. \n1200 Valley St. Minerva
URL:https://minerva.oh.us/event/euchre-at-the-minerva-senior-center/2029-07-06/
LOCATION:Minerva Senior Center\, 1200 Valley St.\, Minerva\, OH\, 44657\, United States
END:VEVENT
BEGIN:VEVENT
DTSTART;TZID=UTC:20290711T130000
DTEND;TZID=UTC:20290711T150000
DTSTAMP:20260422T072539
CREATED:20260403T160834Z
LAST-MODIFIED:20260403T160834Z
UID:10001434-1878469200-1878476400@minerva.oh.us
SUMMARY:Bingo at the Minerva Senior Center
DESCRIPTION:Bingo at the Minerva Senior Center. Every Wednesday from 1-3. \n1200 Valley St. Minerva.
URL:https://minerva.oh.us/event/bingo-at-the-minerva-senior-center/2029-07-11/
LOCATION:Minerva Senior Center\, 1200 Valley St.\, Minerva\, OH\, 44657\, United States
END:VEVENT
BEGIN:VEVENT
DTSTART;TZID=UTC:20290713T183000
DTEND;TZID=UTC:20290713T203000
DTSTAMP:20260422T072539
CREATED:20260403T160943Z
LAST-MODIFIED:20260403T160943Z
UID:10001696-1878661800-1878669000@minerva.oh.us
SUMMARY:Euchre at the Minerva Senior Center
DESCRIPTION:Euchre at the Minerva Senior Center every Friday at 6:30 PM. \n1200 Valley St. Minerva
URL:https://minerva.oh.us/event/euchre-at-the-minerva-senior-center/2029-07-13/
LOCATION:Minerva Senior Center\, 1200 Valley St.\, Minerva\, OH\, 44657\, United States
END:VEVENT
BEGIN:VEVENT
DTSTART;TZID=UTC:20290718T130000
DTEND;TZID=UTC:20290718T150000
DTSTAMP:20260422T072539
CREATED:20260403T160834Z
LAST-MODIFIED:20260403T160834Z
UID:10001435-1879074000-1879081200@minerva.oh.us
SUMMARY:Bingo at the Minerva Senior Center
DESCRIPTION:Bingo at the Minerva Senior Center. Every Wednesday from 1-3. \n1200 Valley St. Minerva.
URL:https://minerva.oh.us/event/bingo-at-the-minerva-senior-center/2029-07-18/
LOCATION:Minerva Senior Center\, 1200 Valley St.\, Minerva\, OH\, 44657\, United States
END:VEVENT
BEGIN:VEVENT
DTSTART;TZID=UTC:20290720T183000
DTEND;TZID=UTC:20290720T203000
DTSTAMP:20260422T072539
CREATED:20260403T160943Z
LAST-MODIFIED:20260403T160943Z
UID:10001697-1879266600-1879273800@minerva.oh.us
SUMMARY:Euchre at the Minerva Senior Center
DESCRIPTION:Euchre at the Minerva Senior Center every Friday at 6:30 PM. \n1200 Valley St. Minerva
URL:https://minerva.oh.us/event/euchre-at-the-minerva-senior-center/2029-07-20/
LOCATION:Minerva Senior Center\, 1200 Valley St.\, Minerva\, OH\, 44657\, United States
END:VEVENT
BEGIN:VEVENT
DTSTART;TZID=UTC:20290725T130000
DTEND;TZID=UTC:20290725T150000
DTSTAMP:20260422T072539
CREATED:20260403T160834Z
LAST-MODIFIED:20260403T160834Z
UID:10001436-1879678800-1879686000@minerva.oh.us
SUMMARY:Bingo at the Minerva Senior Center
DESCRIPTION:Bingo at the Minerva Senior Center. Every Wednesday from 1-3. \n1200 Valley St. Minerva.
URL:https://minerva.oh.us/event/bingo-at-the-minerva-senior-center/2029-07-25/
LOCATION:Minerva Senior Center\, 1200 Valley St.\, Minerva\, OH\, 44657\, United States
END:VEVENT
BEGIN:VEVENT
DTSTART;TZID=UTC:20290727T183000
DTEND;TZID=UTC:20290727T203000
DTSTAMP:20260422T072539
CREATED:20260403T160943Z
LAST-MODIFIED:20260403T160943Z
UID:10001698-1879871400-1879878600@minerva.oh.us
SUMMARY:Euchre at the Minerva Senior Center
DESCRIPTION:Euchre at the Minerva Senior Center every Friday at 6:30 PM. \n1200 Valley St. Minerva
URL:https://minerva.oh.us/event/euchre-at-the-minerva-senior-center/2029-07-27/
LOCATION:Minerva Senior Center\, 1200 Valley St.\, Minerva\, OH\, 44657\, United States
END:VEVENT
END:VCALENDAR