BEGIN:VCALENDAR
VERSION:2.0
PRODID:-//The Village of Minerva - ECPv6.15.20//NONSGML v1.0//EN
CALSCALE:GREGORIAN
METHOD:PUBLISH
X-WR-CALNAME:The Village of Minerva
X-ORIGINAL-URL:https://minerva.oh.us
X-WR-CALDESC:Events for The Village of Minerva
REFRESH-INTERVAL;VALUE=DURATION:PT1H
X-Robots-Tag:noindex
X-PUBLISHED-TTL:PT1H
BEGIN:VTIMEZONE
TZID:UTC
BEGIN:STANDARD
TZOFFSETFROM:+0000
TZOFFSETTO:+0000
TZNAME:UTC
DTSTART:20280101T000000
END:STANDARD
END:VTIMEZONE
BEGIN:VEVENT
DTSTART;TZID=UTC:20290824T183000
DTEND;TZID=UTC:20290824T203000
DTSTAMP:20260424T103110
CREATED:20260403T160943Z
LAST-MODIFIED:20260403T160943Z
UID:10001702-1882290600-1882297800@minerva.oh.us
SUMMARY:Euchre at the Minerva Senior Center
DESCRIPTION:Euchre at the Minerva Senior Center every Friday at 6:30 PM. \n1200 Valley St. Minerva
URL:https://minerva.oh.us/event/euchre-at-the-minerva-senior-center/2029-08-24/
LOCATION:Minerva Senior Center\, 1200 Valley St.\, Minerva\, OH\, 44657\, United States
END:VEVENT
BEGIN:VEVENT
DTSTART;TZID=UTC:20290829T130000
DTEND;TZID=UTC:20290829T150000
DTSTAMP:20260424T103110
CREATED:20260403T160834Z
LAST-MODIFIED:20260403T160834Z
UID:10001441-1882702800-1882710000@minerva.oh.us
SUMMARY:Bingo at the Minerva Senior Center
DESCRIPTION:Bingo at the Minerva Senior Center. Every Wednesday from 1-3. \n1200 Valley St. Minerva.
URL:https://minerva.oh.us/event/bingo-at-the-minerva-senior-center/2029-08-29/
LOCATION:Minerva Senior Center\, 1200 Valley St.\, Minerva\, OH\, 44657\, United States
END:VEVENT
BEGIN:VEVENT
DTSTART;TZID=UTC:20290831T183000
DTEND;TZID=UTC:20290831T203000
DTSTAMP:20260424T103110
CREATED:20260403T160943Z
LAST-MODIFIED:20260403T160943Z
UID:10001703-1882895400-1882902600@minerva.oh.us
SUMMARY:Euchre at the Minerva Senior Center
DESCRIPTION:Euchre at the Minerva Senior Center every Friday at 6:30 PM. \n1200 Valley St. Minerva
URL:https://minerva.oh.us/event/euchre-at-the-minerva-senior-center/2029-08-31/
LOCATION:Minerva Senior Center\, 1200 Valley St.\, Minerva\, OH\, 44657\, United States
END:VEVENT
BEGIN:VEVENT
DTSTART;TZID=UTC:20290905T130000
DTEND;TZID=UTC:20290905T150000
DTSTAMP:20260424T103110
CREATED:20260403T160834Z
LAST-MODIFIED:20260403T160834Z
UID:10001442-1883307600-1883314800@minerva.oh.us
SUMMARY:Bingo at the Minerva Senior Center
DESCRIPTION:Bingo at the Minerva Senior Center. Every Wednesday from 1-3. \n1200 Valley St. Minerva.
URL:https://minerva.oh.us/event/bingo-at-the-minerva-senior-center/2029-09-05/
LOCATION:Minerva Senior Center\, 1200 Valley St.\, Minerva\, OH\, 44657\, United States
END:VEVENT
BEGIN:VEVENT
DTSTART;TZID=UTC:20290907T183000
DTEND;TZID=UTC:20290907T203000
DTSTAMP:20260424T103110
CREATED:20260403T160943Z
LAST-MODIFIED:20260403T160943Z
UID:10001704-1883500200-1883507400@minerva.oh.us
SUMMARY:Euchre at the Minerva Senior Center
DESCRIPTION:Euchre at the Minerva Senior Center every Friday at 6:30 PM. \n1200 Valley St. Minerva
URL:https://minerva.oh.us/event/euchre-at-the-minerva-senior-center/2029-09-07/
LOCATION:Minerva Senior Center\, 1200 Valley St.\, Minerva\, OH\, 44657\, United States
END:VEVENT
BEGIN:VEVENT
DTSTART;TZID=UTC:20290912T130000
DTEND;TZID=UTC:20290912T150000
DTSTAMP:20260424T103110
CREATED:20260403T160834Z
LAST-MODIFIED:20260403T160834Z
UID:10001443-1883912400-1883919600@minerva.oh.us
SUMMARY:Bingo at the Minerva Senior Center
DESCRIPTION:Bingo at the Minerva Senior Center. Every Wednesday from 1-3. \n1200 Valley St. Minerva.
URL:https://minerva.oh.us/event/bingo-at-the-minerva-senior-center/2029-09-12/
LOCATION:Minerva Senior Center\, 1200 Valley St.\, Minerva\, OH\, 44657\, United States
END:VEVENT
BEGIN:VEVENT
DTSTART;TZID=UTC:20290914T183000
DTEND;TZID=UTC:20290914T203000
DTSTAMP:20260424T103110
CREATED:20260403T160943Z
LAST-MODIFIED:20260403T160943Z
UID:10001705-1884105000-1884112200@minerva.oh.us
SUMMARY:Euchre at the Minerva Senior Center
DESCRIPTION:Euchre at the Minerva Senior Center every Friday at 6:30 PM. \n1200 Valley St. Minerva
URL:https://minerva.oh.us/event/euchre-at-the-minerva-senior-center/2029-09-14/
LOCATION:Minerva Senior Center\, 1200 Valley St.\, Minerva\, OH\, 44657\, United States
END:VEVENT
BEGIN:VEVENT
DTSTART;TZID=UTC:20290919T130000
DTEND;TZID=UTC:20290919T150000
DTSTAMP:20260424T103110
CREATED:20260403T160834Z
LAST-MODIFIED:20260403T160834Z
UID:10001444-1884517200-1884524400@minerva.oh.us
SUMMARY:Bingo at the Minerva Senior Center
DESCRIPTION:Bingo at the Minerva Senior Center. Every Wednesday from 1-3. \n1200 Valley St. Minerva.
URL:https://minerva.oh.us/event/bingo-at-the-minerva-senior-center/2029-09-19/
LOCATION:Minerva Senior Center\, 1200 Valley St.\, Minerva\, OH\, 44657\, United States
END:VEVENT
BEGIN:VEVENT
DTSTART;TZID=UTC:20290921T183000
DTEND;TZID=UTC:20290921T203000
DTSTAMP:20260424T103110
CREATED:20260403T160943Z
LAST-MODIFIED:20260403T160943Z
UID:10001706-1884709800-1884717000@minerva.oh.us
SUMMARY:Euchre at the Minerva Senior Center
DESCRIPTION:Euchre at the Minerva Senior Center every Friday at 6:30 PM. \n1200 Valley St. Minerva
URL:https://minerva.oh.us/event/euchre-at-the-minerva-senior-center/2029-09-21/
LOCATION:Minerva Senior Center\, 1200 Valley St.\, Minerva\, OH\, 44657\, United States
END:VEVENT
BEGIN:VEVENT
DTSTART;TZID=UTC:20290926T130000
DTEND;TZID=UTC:20290926T150000
DTSTAMP:20260424T103110
CREATED:20260403T160834Z
LAST-MODIFIED:20260403T160834Z
UID:10001445-1885122000-1885129200@minerva.oh.us
SUMMARY:Bingo at the Minerva Senior Center
DESCRIPTION:Bingo at the Minerva Senior Center. Every Wednesday from 1-3. \n1200 Valley St. Minerva.
URL:https://minerva.oh.us/event/bingo-at-the-minerva-senior-center/2029-09-26/
LOCATION:Minerva Senior Center\, 1200 Valley St.\, Minerva\, OH\, 44657\, United States
END:VEVENT
BEGIN:VEVENT
DTSTART;TZID=UTC:20290928T183000
DTEND;TZID=UTC:20290928T203000
DTSTAMP:20260424T103110
CREATED:20260403T160943Z
LAST-MODIFIED:20260403T160943Z
UID:10001707-1885314600-1885321800@minerva.oh.us
SUMMARY:Euchre at the Minerva Senior Center
DESCRIPTION:Euchre at the Minerva Senior Center every Friday at 6:30 PM. \n1200 Valley St. Minerva
URL:https://minerva.oh.us/event/euchre-at-the-minerva-senior-center/2029-09-28/
LOCATION:Minerva Senior Center\, 1200 Valley St.\, Minerva\, OH\, 44657\, United States
END:VEVENT
BEGIN:VEVENT
DTSTART;TZID=UTC:20291003T130000
DTEND;TZID=UTC:20291003T150000
DTSTAMP:20260424T103110
CREATED:20260403T160834Z
LAST-MODIFIED:20260403T160834Z
UID:10001446-1885726800-1885734000@minerva.oh.us
SUMMARY:Bingo at the Minerva Senior Center
DESCRIPTION:Bingo at the Minerva Senior Center. Every Wednesday from 1-3. \n1200 Valley St. Minerva.
URL:https://minerva.oh.us/event/bingo-at-the-minerva-senior-center/2029-10-03/
LOCATION:Minerva Senior Center\, 1200 Valley St.\, Minerva\, OH\, 44657\, United States
END:VEVENT
BEGIN:VEVENT
DTSTART;TZID=UTC:20291005T183000
DTEND;TZID=UTC:20291005T203000
DTSTAMP:20260424T103110
CREATED:20260403T160943Z
LAST-MODIFIED:20260403T160943Z
UID:10001708-1885919400-1885926600@minerva.oh.us
SUMMARY:Euchre at the Minerva Senior Center
DESCRIPTION:Euchre at the Minerva Senior Center every Friday at 6:30 PM. \n1200 Valley St. Minerva
URL:https://minerva.oh.us/event/euchre-at-the-minerva-senior-center/2029-10-05/
LOCATION:Minerva Senior Center\, 1200 Valley St.\, Minerva\, OH\, 44657\, United States
END:VEVENT
BEGIN:VEVENT
DTSTART;TZID=UTC:20291010T130000
DTEND;TZID=UTC:20291010T150000
DTSTAMP:20260424T103110
CREATED:20260403T160834Z
LAST-MODIFIED:20260403T160834Z
UID:10001447-1886331600-1886338800@minerva.oh.us
SUMMARY:Bingo at the Minerva Senior Center
DESCRIPTION:Bingo at the Minerva Senior Center. Every Wednesday from 1-3. \n1200 Valley St. Minerva.
URL:https://minerva.oh.us/event/bingo-at-the-minerva-senior-center/2029-10-10/
LOCATION:Minerva Senior Center\, 1200 Valley St.\, Minerva\, OH\, 44657\, United States
END:VEVENT
BEGIN:VEVENT
DTSTART;TZID=UTC:20291012T183000
DTEND;TZID=UTC:20291012T203000
DTSTAMP:20260424T103110
CREATED:20260403T160943Z
LAST-MODIFIED:20260403T160943Z
UID:10001709-1886524200-1886531400@minerva.oh.us
SUMMARY:Euchre at the Minerva Senior Center
DESCRIPTION:Euchre at the Minerva Senior Center every Friday at 6:30 PM. \n1200 Valley St. Minerva
URL:https://minerva.oh.us/event/euchre-at-the-minerva-senior-center/2029-10-12/
LOCATION:Minerva Senior Center\, 1200 Valley St.\, Minerva\, OH\, 44657\, United States
END:VEVENT
BEGIN:VEVENT
DTSTART;TZID=UTC:20291017T130000
DTEND;TZID=UTC:20291017T150000
DTSTAMP:20260424T103110
CREATED:20260403T160834Z
LAST-MODIFIED:20260403T160834Z
UID:10001448-1886936400-1886943600@minerva.oh.us
SUMMARY:Bingo at the Minerva Senior Center
DESCRIPTION:Bingo at the Minerva Senior Center. Every Wednesday from 1-3. \n1200 Valley St. Minerva.
URL:https://minerva.oh.us/event/bingo-at-the-minerva-senior-center/2029-10-17/
LOCATION:Minerva Senior Center\, 1200 Valley St.\, Minerva\, OH\, 44657\, United States
END:VEVENT
BEGIN:VEVENT
DTSTART;TZID=UTC:20291019T183000
DTEND;TZID=UTC:20291019T203000
DTSTAMP:20260424T103110
CREATED:20260403T160943Z
LAST-MODIFIED:20260403T160943Z
UID:10001710-1887129000-1887136200@minerva.oh.us
SUMMARY:Euchre at the Minerva Senior Center
DESCRIPTION:Euchre at the Minerva Senior Center every Friday at 6:30 PM. \n1200 Valley St. Minerva
URL:https://minerva.oh.us/event/euchre-at-the-minerva-senior-center/2029-10-19/
LOCATION:Minerva Senior Center\, 1200 Valley St.\, Minerva\, OH\, 44657\, United States
END:VEVENT
BEGIN:VEVENT
DTSTART;TZID=UTC:20291024T130000
DTEND;TZID=UTC:20291024T150000
DTSTAMP:20260424T103110
CREATED:20260403T160834Z
LAST-MODIFIED:20260403T160834Z
UID:10001449-1887541200-1887548400@minerva.oh.us
SUMMARY:Bingo at the Minerva Senior Center
DESCRIPTION:Bingo at the Minerva Senior Center. Every Wednesday from 1-3. \n1200 Valley St. Minerva.
URL:https://minerva.oh.us/event/bingo-at-the-minerva-senior-center/2029-10-24/
LOCATION:Minerva Senior Center\, 1200 Valley St.\, Minerva\, OH\, 44657\, United States
END:VEVENT
BEGIN:VEVENT
DTSTART;TZID=UTC:20291026T183000
DTEND;TZID=UTC:20291026T203000
DTSTAMP:20260424T103110
CREATED:20260403T160943Z
LAST-MODIFIED:20260403T160943Z
UID:10001711-1887733800-1887741000@minerva.oh.us
SUMMARY:Euchre at the Minerva Senior Center
DESCRIPTION:Euchre at the Minerva Senior Center every Friday at 6:30 PM. \n1200 Valley St. Minerva
URL:https://minerva.oh.us/event/euchre-at-the-minerva-senior-center/2029-10-26/
LOCATION:Minerva Senior Center\, 1200 Valley St.\, Minerva\, OH\, 44657\, United States
END:VEVENT
BEGIN:VEVENT
DTSTART;TZID=UTC:20291031T130000
DTEND;TZID=UTC:20291031T150000
DTSTAMP:20260424T103110
CREATED:20260403T160834Z
LAST-MODIFIED:20260403T160834Z
UID:10001450-1888146000-1888153200@minerva.oh.us
SUMMARY:Bingo at the Minerva Senior Center
DESCRIPTION:Bingo at the Minerva Senior Center. Every Wednesday from 1-3. \n1200 Valley St. Minerva.
URL:https://minerva.oh.us/event/bingo-at-the-minerva-senior-center/2029-10-31/
LOCATION:Minerva Senior Center\, 1200 Valley St.\, Minerva\, OH\, 44657\, United States
END:VEVENT
BEGIN:VEVENT
DTSTART;TZID=UTC:20291102T183000
DTEND;TZID=UTC:20291102T203000
DTSTAMP:20260424T103110
CREATED:20260403T160943Z
LAST-MODIFIED:20260403T160943Z
UID:10001712-1888338600-1888345800@minerva.oh.us
SUMMARY:Euchre at the Minerva Senior Center
DESCRIPTION:Euchre at the Minerva Senior Center every Friday at 6:30 PM. \n1200 Valley St. Minerva
URL:https://minerva.oh.us/event/euchre-at-the-minerva-senior-center/2029-11-02/
LOCATION:Minerva Senior Center\, 1200 Valley St.\, Minerva\, OH\, 44657\, United States
END:VEVENT
BEGIN:VEVENT
DTSTART;TZID=UTC:20291107T130000
DTEND;TZID=UTC:20291107T150000
DTSTAMP:20260424T103110
CREATED:20260403T160834Z
LAST-MODIFIED:20260403T160834Z
UID:10001451-1888750800-1888758000@minerva.oh.us
SUMMARY:Bingo at the Minerva Senior Center
DESCRIPTION:Bingo at the Minerva Senior Center. Every Wednesday from 1-3. \n1200 Valley St. Minerva.
URL:https://minerva.oh.us/event/bingo-at-the-minerva-senior-center/2029-11-07/
LOCATION:Minerva Senior Center\, 1200 Valley St.\, Minerva\, OH\, 44657\, United States
END:VEVENT
BEGIN:VEVENT
DTSTART;TZID=UTC:20291109T183000
DTEND;TZID=UTC:20291109T203000
DTSTAMP:20260424T103110
CREATED:20260403T160943Z
LAST-MODIFIED:20260403T160943Z
UID:10001713-1888943400-1888950600@minerva.oh.us
SUMMARY:Euchre at the Minerva Senior Center
DESCRIPTION:Euchre at the Minerva Senior Center every Friday at 6:30 PM. \n1200 Valley St. Minerva
URL:https://minerva.oh.us/event/euchre-at-the-minerva-senior-center/2029-11-09/
LOCATION:Minerva Senior Center\, 1200 Valley St.\, Minerva\, OH\, 44657\, United States
END:VEVENT
BEGIN:VEVENT
DTSTART;TZID=UTC:20291114T130000
DTEND;TZID=UTC:20291114T150000
DTSTAMP:20260424T103110
CREATED:20260403T160834Z
LAST-MODIFIED:20260403T160834Z
UID:10001452-1889355600-1889362800@minerva.oh.us
SUMMARY:Bingo at the Minerva Senior Center
DESCRIPTION:Bingo at the Minerva Senior Center. Every Wednesday from 1-3. \n1200 Valley St. Minerva.
URL:https://minerva.oh.us/event/bingo-at-the-minerva-senior-center/2029-11-14/
LOCATION:Minerva Senior Center\, 1200 Valley St.\, Minerva\, OH\, 44657\, United States
END:VEVENT
BEGIN:VEVENT
DTSTART;TZID=UTC:20291116T183000
DTEND;TZID=UTC:20291116T203000
DTSTAMP:20260424T103110
CREATED:20260403T160943Z
LAST-MODIFIED:20260403T160943Z
UID:10001714-1889548200-1889555400@minerva.oh.us
SUMMARY:Euchre at the Minerva Senior Center
DESCRIPTION:Euchre at the Minerva Senior Center every Friday at 6:30 PM. \n1200 Valley St. Minerva
URL:https://minerva.oh.us/event/euchre-at-the-minerva-senior-center/2029-11-16/
LOCATION:Minerva Senior Center\, 1200 Valley St.\, Minerva\, OH\, 44657\, United States
END:VEVENT
BEGIN:VEVENT
DTSTART;TZID=UTC:20291121T130000
DTEND;TZID=UTC:20291121T150000
DTSTAMP:20260424T103110
CREATED:20260403T160834Z
LAST-MODIFIED:20260403T160834Z
UID:10001453-1889960400-1889967600@minerva.oh.us
SUMMARY:Bingo at the Minerva Senior Center
DESCRIPTION:Bingo at the Minerva Senior Center. Every Wednesday from 1-3. \n1200 Valley St. Minerva.
URL:https://minerva.oh.us/event/bingo-at-the-minerva-senior-center/2029-11-21/
LOCATION:Minerva Senior Center\, 1200 Valley St.\, Minerva\, OH\, 44657\, United States
END:VEVENT
BEGIN:VEVENT
DTSTART;TZID=UTC:20291123T183000
DTEND;TZID=UTC:20291123T203000
DTSTAMP:20260424T103110
CREATED:20260403T160943Z
LAST-MODIFIED:20260403T160943Z
UID:10001715-1890153000-1890160200@minerva.oh.us
SUMMARY:Euchre at the Minerva Senior Center
DESCRIPTION:Euchre at the Minerva Senior Center every Friday at 6:30 PM. \n1200 Valley St. Minerva
URL:https://minerva.oh.us/event/euchre-at-the-minerva-senior-center/2029-11-23/
LOCATION:Minerva Senior Center\, 1200 Valley St.\, Minerva\, OH\, 44657\, United States
END:VEVENT
BEGIN:VEVENT
DTSTART;TZID=UTC:20291128T130000
DTEND;TZID=UTC:20291128T150000
DTSTAMP:20260424T103110
CREATED:20260403T160834Z
LAST-MODIFIED:20260403T160834Z
UID:10001454-1890565200-1890572400@minerva.oh.us
SUMMARY:Bingo at the Minerva Senior Center
DESCRIPTION:Bingo at the Minerva Senior Center. Every Wednesday from 1-3. \n1200 Valley St. Minerva.
URL:https://minerva.oh.us/event/bingo-at-the-minerva-senior-center/2029-11-28/
LOCATION:Minerva Senior Center\, 1200 Valley St.\, Minerva\, OH\, 44657\, United States
END:VEVENT
BEGIN:VEVENT
DTSTART;TZID=UTC:20291130T183000
DTEND;TZID=UTC:20291130T203000
DTSTAMP:20260424T103110
CREATED:20260403T160943Z
LAST-MODIFIED:20260403T160943Z
UID:10001716-1890757800-1890765000@minerva.oh.us
SUMMARY:Euchre at the Minerva Senior Center
DESCRIPTION:Euchre at the Minerva Senior Center every Friday at 6:30 PM. \n1200 Valley St. Minerva
URL:https://minerva.oh.us/event/euchre-at-the-minerva-senior-center/2029-11-30/
LOCATION:Minerva Senior Center\, 1200 Valley St.\, Minerva\, OH\, 44657\, United States
END:VEVENT
BEGIN:VEVENT
DTSTART;TZID=UTC:20291205T130000
DTEND;TZID=UTC:20291205T150000
DTSTAMP:20260424T103110
CREATED:20260403T160834Z
LAST-MODIFIED:20260403T160834Z
UID:10001455-1891170000-1891177200@minerva.oh.us
SUMMARY:Bingo at the Minerva Senior Center
DESCRIPTION:Bingo at the Minerva Senior Center. Every Wednesday from 1-3. \n1200 Valley St. Minerva.
URL:https://minerva.oh.us/event/bingo-at-the-minerva-senior-center/2029-12-05/
LOCATION:Minerva Senior Center\, 1200 Valley St.\, Minerva\, OH\, 44657\, United States
END:VEVENT
END:VCALENDAR