BEGIN:VCALENDAR
VERSION:2.0
PRODID:-//The Village of Minerva - ECPv6.15.20//NONSGML v1.0//EN
CALSCALE:GREGORIAN
METHOD:PUBLISH
X-ORIGINAL-URL:https://minerva.oh.us
X-WR-CALDESC:Events for The Village of Minerva
REFRESH-INTERVAL;VALUE=DURATION:PT1H
X-Robots-Tag:noindex
X-PUBLISHED-TTL:PT1H
BEGIN:VTIMEZONE
TZID:UTC
BEGIN:STANDARD
TZOFFSETFROM:+0000
TZOFFSETTO:+0000
TZNAME:UTC
DTSTART:20280101T000000
END:STANDARD
END:VTIMEZONE
BEGIN:VEVENT
DTSTART;TZID=UTC:20291116T183000
DTEND;TZID=UTC:20291116T203000
DTSTAMP:20260424T130304
CREATED:20260403T160943Z
LAST-MODIFIED:20260403T160943Z
UID:10001714-1889548200-1889555400@minerva.oh.us
SUMMARY:Euchre at the Minerva Senior Center
DESCRIPTION:Euchre at the Minerva Senior Center every Friday at 6:30 PM. \n1200 Valley St. Minerva
URL:https://minerva.oh.us/event/euchre-at-the-minerva-senior-center/2029-11-16/
LOCATION:Minerva Senior Center\, 1200 Valley St.\, Minerva\, OH\, 44657\, United States
END:VEVENT
BEGIN:VEVENT
DTSTART;TZID=UTC:20291121T130000
DTEND;TZID=UTC:20291121T150000
DTSTAMP:20260424T130304
CREATED:20260403T160834Z
LAST-MODIFIED:20260403T160834Z
UID:10001453-1889960400-1889967600@minerva.oh.us
SUMMARY:Bingo at the Minerva Senior Center
DESCRIPTION:Bingo at the Minerva Senior Center. Every Wednesday from 1-3. \n1200 Valley St. Minerva.
URL:https://minerva.oh.us/event/bingo-at-the-minerva-senior-center/2029-11-21/
LOCATION:Minerva Senior Center\, 1200 Valley St.\, Minerva\, OH\, 44657\, United States
END:VEVENT
BEGIN:VEVENT
DTSTART;TZID=UTC:20291123T183000
DTEND;TZID=UTC:20291123T203000
DTSTAMP:20260424T130304
CREATED:20260403T160943Z
LAST-MODIFIED:20260403T160943Z
UID:10001715-1890153000-1890160200@minerva.oh.us
SUMMARY:Euchre at the Minerva Senior Center
DESCRIPTION:Euchre at the Minerva Senior Center every Friday at 6:30 PM. \n1200 Valley St. Minerva
URL:https://minerva.oh.us/event/euchre-at-the-minerva-senior-center/2029-11-23/
LOCATION:Minerva Senior Center\, 1200 Valley St.\, Minerva\, OH\, 44657\, United States
END:VEVENT
BEGIN:VEVENT
DTSTART;TZID=UTC:20291128T130000
DTEND;TZID=UTC:20291128T150000
DTSTAMP:20260424T130304
CREATED:20260403T160834Z
LAST-MODIFIED:20260403T160834Z
UID:10001454-1890565200-1890572400@minerva.oh.us
SUMMARY:Bingo at the Minerva Senior Center
DESCRIPTION:Bingo at the Minerva Senior Center. Every Wednesday from 1-3. \n1200 Valley St. Minerva.
URL:https://minerva.oh.us/event/bingo-at-the-minerva-senior-center/2029-11-28/
LOCATION:Minerva Senior Center\, 1200 Valley St.\, Minerva\, OH\, 44657\, United States
END:VEVENT
BEGIN:VEVENT
DTSTART;TZID=UTC:20291130T183000
DTEND;TZID=UTC:20291130T203000
DTSTAMP:20260424T130304
CREATED:20260403T160943Z
LAST-MODIFIED:20260403T160943Z
UID:10001716-1890757800-1890765000@minerva.oh.us
SUMMARY:Euchre at the Minerva Senior Center
DESCRIPTION:Euchre at the Minerva Senior Center every Friday at 6:30 PM. \n1200 Valley St. Minerva
URL:https://minerva.oh.us/event/euchre-at-the-minerva-senior-center/2029-11-30/
LOCATION:Minerva Senior Center\, 1200 Valley St.\, Minerva\, OH\, 44657\, United States
END:VEVENT
BEGIN:VEVENT
DTSTART;TZID=UTC:20291205T130000
DTEND;TZID=UTC:20291205T150000
DTSTAMP:20260424T130304
CREATED:20260403T160834Z
LAST-MODIFIED:20260403T160834Z
UID:10001455-1891170000-1891177200@minerva.oh.us
SUMMARY:Bingo at the Minerva Senior Center
DESCRIPTION:Bingo at the Minerva Senior Center. Every Wednesday from 1-3. \n1200 Valley St. Minerva.
URL:https://minerva.oh.us/event/bingo-at-the-minerva-senior-center/2029-12-05/
LOCATION:Minerva Senior Center\, 1200 Valley St.\, Minerva\, OH\, 44657\, United States
END:VEVENT
BEGIN:VEVENT
DTSTART;TZID=UTC:20291207T183000
DTEND;TZID=UTC:20291207T203000
DTSTAMP:20260424T130304
CREATED:20260403T160943Z
LAST-MODIFIED:20260403T160943Z
UID:10001717-1891362600-1891369800@minerva.oh.us
SUMMARY:Euchre at the Minerva Senior Center
DESCRIPTION:Euchre at the Minerva Senior Center every Friday at 6:30 PM. \n1200 Valley St. Minerva
URL:https://minerva.oh.us/event/euchre-at-the-minerva-senior-center/2029-12-07/
LOCATION:Minerva Senior Center\, 1200 Valley St.\, Minerva\, OH\, 44657\, United States
END:VEVENT
BEGIN:VEVENT
DTSTART;TZID=UTC:20291212T130000
DTEND;TZID=UTC:20291212T150000
DTSTAMP:20260424T130304
CREATED:20260403T160834Z
LAST-MODIFIED:20260403T160834Z
UID:10001456-1891774800-1891782000@minerva.oh.us
SUMMARY:Bingo at the Minerva Senior Center
DESCRIPTION:Bingo at the Minerva Senior Center. Every Wednesday from 1-3. \n1200 Valley St. Minerva.
URL:https://minerva.oh.us/event/bingo-at-the-minerva-senior-center/2029-12-12/
LOCATION:Minerva Senior Center\, 1200 Valley St.\, Minerva\, OH\, 44657\, United States
END:VEVENT
BEGIN:VEVENT
DTSTART;TZID=UTC:20291214T183000
DTEND;TZID=UTC:20291214T203000
DTSTAMP:20260424T130304
CREATED:20260403T160943Z
LAST-MODIFIED:20260403T160943Z
UID:10001718-1891967400-1891974600@minerva.oh.us
SUMMARY:Euchre at the Minerva Senior Center
DESCRIPTION:Euchre at the Minerva Senior Center every Friday at 6:30 PM. \n1200 Valley St. Minerva
URL:https://minerva.oh.us/event/euchre-at-the-minerva-senior-center/2029-12-14/
LOCATION:Minerva Senior Center\, 1200 Valley St.\, Minerva\, OH\, 44657\, United States
END:VEVENT
BEGIN:VEVENT
DTSTART;TZID=UTC:20291219T130000
DTEND;TZID=UTC:20291219T150000
DTSTAMP:20260424T130304
CREATED:20260403T160834Z
LAST-MODIFIED:20260403T160834Z
UID:10001457-1892379600-1892386800@minerva.oh.us
SUMMARY:Bingo at the Minerva Senior Center
DESCRIPTION:Bingo at the Minerva Senior Center. Every Wednesday from 1-3. \n1200 Valley St. Minerva.
URL:https://minerva.oh.us/event/bingo-at-the-minerva-senior-center/2029-12-19/
LOCATION:Minerva Senior Center\, 1200 Valley St.\, Minerva\, OH\, 44657\, United States
END:VEVENT
BEGIN:VEVENT
DTSTART;TZID=UTC:20291221T183000
DTEND;TZID=UTC:20291221T203000
DTSTAMP:20260424T130304
CREATED:20260403T160943Z
LAST-MODIFIED:20260403T160943Z
UID:10001719-1892572200-1892579400@minerva.oh.us
SUMMARY:Euchre at the Minerva Senior Center
DESCRIPTION:Euchre at the Minerva Senior Center every Friday at 6:30 PM. \n1200 Valley St. Minerva
URL:https://minerva.oh.us/event/euchre-at-the-minerva-senior-center/2029-12-21/
LOCATION:Minerva Senior Center\, 1200 Valley St.\, Minerva\, OH\, 44657\, United States
END:VEVENT
BEGIN:VEVENT
DTSTART;TZID=UTC:20291226T130000
DTEND;TZID=UTC:20291226T150000
DTSTAMP:20260424T130304
CREATED:20260403T160834Z
LAST-MODIFIED:20260403T160834Z
UID:10001458-1892984400-1892991600@minerva.oh.us
SUMMARY:Bingo at the Minerva Senior Center
DESCRIPTION:Bingo at the Minerva Senior Center. Every Wednesday from 1-3. \n1200 Valley St. Minerva.
URL:https://minerva.oh.us/event/bingo-at-the-minerva-senior-center/2029-12-26/
LOCATION:Minerva Senior Center\, 1200 Valley St.\, Minerva\, OH\, 44657\, United States
END:VEVENT
BEGIN:VEVENT
DTSTART;TZID=UTC:20291228T183000
DTEND;TZID=UTC:20291228T203000
DTSTAMP:20260424T130304
CREATED:20260403T160943Z
LAST-MODIFIED:20260403T160943Z
UID:10001720-1893177000-1893184200@minerva.oh.us
SUMMARY:Euchre at the Minerva Senior Center
DESCRIPTION:Euchre at the Minerva Senior Center every Friday at 6:30 PM. \n1200 Valley St. Minerva
URL:https://minerva.oh.us/event/euchre-at-the-minerva-senior-center/2029-12-28/
LOCATION:Minerva Senior Center\, 1200 Valley St.\, Minerva\, OH\, 44657\, United States
END:VEVENT
BEGIN:VEVENT
DTSTART;TZID=UTC:20300102T130000
DTEND;TZID=UTC:20300102T150000
DTSTAMP:20260424T130304
CREATED:20260403T160834Z
LAST-MODIFIED:20260403T160834Z
UID:10001459-1893589200-1893596400@minerva.oh.us
SUMMARY:Bingo at the Minerva Senior Center
DESCRIPTION:Bingo at the Minerva Senior Center. Every Wednesday from 1-3. \n1200 Valley St. Minerva.
URL:https://minerva.oh.us/event/bingo-at-the-minerva-senior-center/2030-01-02/
LOCATION:Minerva Senior Center\, 1200 Valley St.\, Minerva\, OH\, 44657\, United States
END:VEVENT
BEGIN:VEVENT
DTSTART;TZID=UTC:20300104T183000
DTEND;TZID=UTC:20300104T203000
DTSTAMP:20260424T130304
CREATED:20260403T160943Z
LAST-MODIFIED:20260403T160943Z
UID:10001721-1893781800-1893789000@minerva.oh.us
SUMMARY:Euchre at the Minerva Senior Center
DESCRIPTION:Euchre at the Minerva Senior Center every Friday at 6:30 PM. \n1200 Valley St. Minerva
URL:https://minerva.oh.us/event/euchre-at-the-minerva-senior-center/2030-01-04/
LOCATION:Minerva Senior Center\, 1200 Valley St.\, Minerva\, OH\, 44657\, United States
END:VEVENT
BEGIN:VEVENT
DTSTART;TZID=UTC:20300109T130000
DTEND;TZID=UTC:20300109T150000
DTSTAMP:20260424T130304
CREATED:20260403T160834Z
LAST-MODIFIED:20260403T160834Z
UID:10001460-1894194000-1894201200@minerva.oh.us
SUMMARY:Bingo at the Minerva Senior Center
DESCRIPTION:Bingo at the Minerva Senior Center. Every Wednesday from 1-3. \n1200 Valley St. Minerva.
URL:https://minerva.oh.us/event/bingo-at-the-minerva-senior-center/2030-01-09/
LOCATION:Minerva Senior Center\, 1200 Valley St.\, Minerva\, OH\, 44657\, United States
END:VEVENT
BEGIN:VEVENT
DTSTART;TZID=UTC:20300111T183000
DTEND;TZID=UTC:20300111T203000
DTSTAMP:20260424T130304
CREATED:20260403T160943Z
LAST-MODIFIED:20260403T160943Z
UID:10001722-1894386600-1894393800@minerva.oh.us
SUMMARY:Euchre at the Minerva Senior Center
DESCRIPTION:Euchre at the Minerva Senior Center every Friday at 6:30 PM. \n1200 Valley St. Minerva
URL:https://minerva.oh.us/event/euchre-at-the-minerva-senior-center/2030-01-11/
LOCATION:Minerva Senior Center\, 1200 Valley St.\, Minerva\, OH\, 44657\, United States
END:VEVENT
BEGIN:VEVENT
DTSTART;TZID=UTC:20300116T130000
DTEND;TZID=UTC:20300116T150000
DTSTAMP:20260424T130304
CREATED:20260403T160834Z
LAST-MODIFIED:20260403T160834Z
UID:10001461-1894798800-1894806000@minerva.oh.us
SUMMARY:Bingo at the Minerva Senior Center
DESCRIPTION:Bingo at the Minerva Senior Center. Every Wednesday from 1-3. \n1200 Valley St. Minerva.
URL:https://minerva.oh.us/event/bingo-at-the-minerva-senior-center/2030-01-16/
LOCATION:Minerva Senior Center\, 1200 Valley St.\, Minerva\, OH\, 44657\, United States
END:VEVENT
BEGIN:VEVENT
DTSTART;TZID=UTC:20300118T183000
DTEND;TZID=UTC:20300118T203000
DTSTAMP:20260424T130304
CREATED:20260403T160943Z
LAST-MODIFIED:20260403T160943Z
UID:10001723-1894991400-1894998600@minerva.oh.us
SUMMARY:Euchre at the Minerva Senior Center
DESCRIPTION:Euchre at the Minerva Senior Center every Friday at 6:30 PM. \n1200 Valley St. Minerva
URL:https://minerva.oh.us/event/euchre-at-the-minerva-senior-center/2030-01-18/
LOCATION:Minerva Senior Center\, 1200 Valley St.\, Minerva\, OH\, 44657\, United States
END:VEVENT
BEGIN:VEVENT
DTSTART;TZID=UTC:20300123T130000
DTEND;TZID=UTC:20300123T150000
DTSTAMP:20260424T130304
CREATED:20260403T160834Z
LAST-MODIFIED:20260403T160834Z
UID:10001462-1895403600-1895410800@minerva.oh.us
SUMMARY:Bingo at the Minerva Senior Center
DESCRIPTION:Bingo at the Minerva Senior Center. Every Wednesday from 1-3. \n1200 Valley St. Minerva.
URL:https://minerva.oh.us/event/bingo-at-the-minerva-senior-center/2030-01-23/
LOCATION:Minerva Senior Center\, 1200 Valley St.\, Minerva\, OH\, 44657\, United States
END:VEVENT
BEGIN:VEVENT
DTSTART;TZID=UTC:20300125T183000
DTEND;TZID=UTC:20300125T203000
DTSTAMP:20260424T130304
CREATED:20260403T160943Z
LAST-MODIFIED:20260403T160943Z
UID:10001724-1895596200-1895603400@minerva.oh.us
SUMMARY:Euchre at the Minerva Senior Center
DESCRIPTION:Euchre at the Minerva Senior Center every Friday at 6:30 PM. \n1200 Valley St. Minerva
URL:https://minerva.oh.us/event/euchre-at-the-minerva-senior-center/2030-01-25/
LOCATION:Minerva Senior Center\, 1200 Valley St.\, Minerva\, OH\, 44657\, United States
END:VEVENT
BEGIN:VEVENT
DTSTART;TZID=UTC:20300130T130000
DTEND;TZID=UTC:20300130T150000
DTSTAMP:20260424T130304
CREATED:20260403T160834Z
LAST-MODIFIED:20260403T160834Z
UID:10001463-1896008400-1896015600@minerva.oh.us
SUMMARY:Bingo at the Minerva Senior Center
DESCRIPTION:Bingo at the Minerva Senior Center. Every Wednesday from 1-3. \n1200 Valley St. Minerva.
URL:https://minerva.oh.us/event/bingo-at-the-minerva-senior-center/2030-01-30/
LOCATION:Minerva Senior Center\, 1200 Valley St.\, Minerva\, OH\, 44657\, United States
END:VEVENT
BEGIN:VEVENT
DTSTART;TZID=UTC:20300201T183000
DTEND;TZID=UTC:20300201T203000
DTSTAMP:20260424T130304
CREATED:20260403T160943Z
LAST-MODIFIED:20260403T160943Z
UID:10001725-1896201000-1896208200@minerva.oh.us
SUMMARY:Euchre at the Minerva Senior Center
DESCRIPTION:Euchre at the Minerva Senior Center every Friday at 6:30 PM. \n1200 Valley St. Minerva
URL:https://minerva.oh.us/event/euchre-at-the-minerva-senior-center/2030-02-01/
LOCATION:Minerva Senior Center\, 1200 Valley St.\, Minerva\, OH\, 44657\, United States
END:VEVENT
BEGIN:VEVENT
DTSTART;TZID=UTC:20300206T130000
DTEND;TZID=UTC:20300206T150000
DTSTAMP:20260424T130304
CREATED:20260403T160834Z
LAST-MODIFIED:20260403T160834Z
UID:10001464-1896613200-1896620400@minerva.oh.us
SUMMARY:Bingo at the Minerva Senior Center
DESCRIPTION:Bingo at the Minerva Senior Center. Every Wednesday from 1-3. \n1200 Valley St. Minerva.
URL:https://minerva.oh.us/event/bingo-at-the-minerva-senior-center/2030-02-06/
LOCATION:Minerva Senior Center\, 1200 Valley St.\, Minerva\, OH\, 44657\, United States
END:VEVENT
BEGIN:VEVENT
DTSTART;TZID=UTC:20300208T183000
DTEND;TZID=UTC:20300208T203000
DTSTAMP:20260424T130304
CREATED:20260403T160943Z
LAST-MODIFIED:20260403T160943Z
UID:10001726-1896805800-1896813000@minerva.oh.us
SUMMARY:Euchre at the Minerva Senior Center
DESCRIPTION:Euchre at the Minerva Senior Center every Friday at 6:30 PM. \n1200 Valley St. Minerva
URL:https://minerva.oh.us/event/euchre-at-the-minerva-senior-center/2030-02-08/
LOCATION:Minerva Senior Center\, 1200 Valley St.\, Minerva\, OH\, 44657\, United States
END:VEVENT
BEGIN:VEVENT
DTSTART;TZID=UTC:20300213T130000
DTEND;TZID=UTC:20300213T150000
DTSTAMP:20260424T130304
CREATED:20260403T160834Z
LAST-MODIFIED:20260403T160834Z
UID:10001465-1897218000-1897225200@minerva.oh.us
SUMMARY:Bingo at the Minerva Senior Center
DESCRIPTION:Bingo at the Minerva Senior Center. Every Wednesday from 1-3. \n1200 Valley St. Minerva.
URL:https://minerva.oh.us/event/bingo-at-the-minerva-senior-center/2030-02-13/
LOCATION:Minerva Senior Center\, 1200 Valley St.\, Minerva\, OH\, 44657\, United States
END:VEVENT
BEGIN:VEVENT
DTSTART;TZID=UTC:20300215T183000
DTEND;TZID=UTC:20300215T203000
DTSTAMP:20260424T130304
CREATED:20260403T160943Z
LAST-MODIFIED:20260403T160943Z
UID:10001727-1897410600-1897417800@minerva.oh.us
SUMMARY:Euchre at the Minerva Senior Center
DESCRIPTION:Euchre at the Minerva Senior Center every Friday at 6:30 PM. \n1200 Valley St. Minerva
URL:https://minerva.oh.us/event/euchre-at-the-minerva-senior-center/2030-02-15/
LOCATION:Minerva Senior Center\, 1200 Valley St.\, Minerva\, OH\, 44657\, United States
END:VEVENT
BEGIN:VEVENT
DTSTART;TZID=UTC:20300220T130000
DTEND;TZID=UTC:20300220T150000
DTSTAMP:20260424T130304
CREATED:20260403T160834Z
LAST-MODIFIED:20260403T160834Z
UID:10001466-1897822800-1897830000@minerva.oh.us
SUMMARY:Bingo at the Minerva Senior Center
DESCRIPTION:Bingo at the Minerva Senior Center. Every Wednesday from 1-3. \n1200 Valley St. Minerva.
URL:https://minerva.oh.us/event/bingo-at-the-minerva-senior-center/2030-02-20/
LOCATION:Minerva Senior Center\, 1200 Valley St.\, Minerva\, OH\, 44657\, United States
END:VEVENT
BEGIN:VEVENT
DTSTART;TZID=UTC:20300222T183000
DTEND;TZID=UTC:20300222T203000
DTSTAMP:20260424T130304
CREATED:20260403T160943Z
LAST-MODIFIED:20260403T160943Z
UID:10001728-1898015400-1898022600@minerva.oh.us
SUMMARY:Euchre at the Minerva Senior Center
DESCRIPTION:Euchre at the Minerva Senior Center every Friday at 6:30 PM. \n1200 Valley St. Minerva
URL:https://minerva.oh.us/event/euchre-at-the-minerva-senior-center/2030-02-22/
LOCATION:Minerva Senior Center\, 1200 Valley St.\, Minerva\, OH\, 44657\, United States
END:VEVENT
BEGIN:VEVENT
DTSTART;TZID=UTC:20300227T130000
DTEND;TZID=UTC:20300227T150000
DTSTAMP:20260424T130304
CREATED:20260403T160834Z
LAST-MODIFIED:20260403T160834Z
UID:10001467-1898427600-1898434800@minerva.oh.us
SUMMARY:Bingo at the Minerva Senior Center
DESCRIPTION:Bingo at the Minerva Senior Center. Every Wednesday from 1-3. \n1200 Valley St. Minerva.
URL:https://minerva.oh.us/event/bingo-at-the-minerva-senior-center/2030-02-27/
LOCATION:Minerva Senior Center\, 1200 Valley St.\, Minerva\, OH\, 44657\, United States
END:VEVENT
END:VCALENDAR