BEGIN:VCALENDAR
VERSION:2.0
PRODID:-//The Village of Minerva - ECPv6.15.20//NONSGML v1.0//EN
CALSCALE:GREGORIAN
METHOD:PUBLISH
X-WR-CALNAME:The Village of Minerva
X-ORIGINAL-URL:https://minerva.oh.us
X-WR-CALDESC:Events for The Village of Minerva
REFRESH-INTERVAL;VALUE=DURATION:PT1H
X-Robots-Tag:noindex
X-PUBLISHED-TTL:PT1H
BEGIN:VTIMEZONE
TZID:UTC
BEGIN:STANDARD
TZOFFSETFROM:+0000
TZOFFSETTO:+0000
TZNAME:UTC
DTSTART:20290101T000000
END:STANDARD
END:VTIMEZONE
BEGIN:VEVENT
DTSTART;TZID=UTC:20300322T183000
DTEND;TZID=UTC:20300322T203000
DTSTAMP:20260424T165416
CREATED:20260403T160943Z
LAST-MODIFIED:20260403T160943Z
UID:10001732-1900434600-1900441800@minerva.oh.us
SUMMARY:Euchre at the Minerva Senior Center
DESCRIPTION:Euchre at the Minerva Senior Center every Friday at 6:30 PM. \n1200 Valley St. Minerva
URL:https://minerva.oh.us/event/euchre-at-the-minerva-senior-center/2030-03-22/
LOCATION:Minerva Senior Center\, 1200 Valley St.\, Minerva\, OH\, 44657\, United States
END:VEVENT
BEGIN:VEVENT
DTSTART;TZID=UTC:20300327T130000
DTEND;TZID=UTC:20300327T150000
DTSTAMP:20260424T165416
CREATED:20260403T160834Z
LAST-MODIFIED:20260403T160834Z
UID:10001471-1900846800-1900854000@minerva.oh.us
SUMMARY:Bingo at the Minerva Senior Center
DESCRIPTION:Bingo at the Minerva Senior Center. Every Wednesday from 1-3. \n1200 Valley St. Minerva.
URL:https://minerva.oh.us/event/bingo-at-the-minerva-senior-center/2030-03-27/
LOCATION:Minerva Senior Center\, 1200 Valley St.\, Minerva\, OH\, 44657\, United States
END:VEVENT
BEGIN:VEVENT
DTSTART;TZID=UTC:20300329T183000
DTEND;TZID=UTC:20300329T203000
DTSTAMP:20260424T165416
CREATED:20260403T160943Z
LAST-MODIFIED:20260403T160943Z
UID:10001733-1901039400-1901046600@minerva.oh.us
SUMMARY:Euchre at the Minerva Senior Center
DESCRIPTION:Euchre at the Minerva Senior Center every Friday at 6:30 PM. \n1200 Valley St. Minerva
URL:https://minerva.oh.us/event/euchre-at-the-minerva-senior-center/2030-03-29/
LOCATION:Minerva Senior Center\, 1200 Valley St.\, Minerva\, OH\, 44657\, United States
END:VEVENT
BEGIN:VEVENT
DTSTART;TZID=UTC:20300403T130000
DTEND;TZID=UTC:20300403T150000
DTSTAMP:20260424T165416
CREATED:20260403T160834Z
LAST-MODIFIED:20260403T160834Z
UID:10001472-1901451600-1901458800@minerva.oh.us
SUMMARY:Bingo at the Minerva Senior Center
DESCRIPTION:Bingo at the Minerva Senior Center. Every Wednesday from 1-3. \n1200 Valley St. Minerva.
URL:https://minerva.oh.us/event/bingo-at-the-minerva-senior-center/2030-04-03/
LOCATION:Minerva Senior Center\, 1200 Valley St.\, Minerva\, OH\, 44657\, United States
END:VEVENT
BEGIN:VEVENT
DTSTART;TZID=UTC:20300405T183000
DTEND;TZID=UTC:20300405T203000
DTSTAMP:20260424T165416
CREATED:20260403T160943Z
LAST-MODIFIED:20260403T160943Z
UID:10001734-1901644200-1901651400@minerva.oh.us
SUMMARY:Euchre at the Minerva Senior Center
DESCRIPTION:Euchre at the Minerva Senior Center every Friday at 6:30 PM. \n1200 Valley St. Minerva
URL:https://minerva.oh.us/event/euchre-at-the-minerva-senior-center/2030-04-05/
LOCATION:Minerva Senior Center\, 1200 Valley St.\, Minerva\, OH\, 44657\, United States
END:VEVENT
BEGIN:VEVENT
DTSTART;TZID=UTC:20300410T130000
DTEND;TZID=UTC:20300410T150000
DTSTAMP:20260424T165416
CREATED:20260403T160834Z
LAST-MODIFIED:20260403T160834Z
UID:10001473-1902056400-1902063600@minerva.oh.us
SUMMARY:Bingo at the Minerva Senior Center
DESCRIPTION:Bingo at the Minerva Senior Center. Every Wednesday from 1-3. \n1200 Valley St. Minerva.
URL:https://minerva.oh.us/event/bingo-at-the-minerva-senior-center/2030-04-10/
LOCATION:Minerva Senior Center\, 1200 Valley St.\, Minerva\, OH\, 44657\, United States
END:VEVENT
BEGIN:VEVENT
DTSTART;TZID=UTC:20300412T183000
DTEND;TZID=UTC:20300412T203000
DTSTAMP:20260424T165416
CREATED:20260403T160943Z
LAST-MODIFIED:20260403T160943Z
UID:10001735-1902249000-1902256200@minerva.oh.us
SUMMARY:Euchre at the Minerva Senior Center
DESCRIPTION:Euchre at the Minerva Senior Center every Friday at 6:30 PM. \n1200 Valley St. Minerva
URL:https://minerva.oh.us/event/euchre-at-the-minerva-senior-center/2030-04-12/
LOCATION:Minerva Senior Center\, 1200 Valley St.\, Minerva\, OH\, 44657\, United States
END:VEVENT
BEGIN:VEVENT
DTSTART;TZID=UTC:20300417T130000
DTEND;TZID=UTC:20300417T150000
DTSTAMP:20260424T165416
CREATED:20260403T160834Z
LAST-MODIFIED:20260403T160834Z
UID:10001474-1902661200-1902668400@minerva.oh.us
SUMMARY:Bingo at the Minerva Senior Center
DESCRIPTION:Bingo at the Minerva Senior Center. Every Wednesday from 1-3. \n1200 Valley St. Minerva.
URL:https://minerva.oh.us/event/bingo-at-the-minerva-senior-center/2030-04-17/
LOCATION:Minerva Senior Center\, 1200 Valley St.\, Minerva\, OH\, 44657\, United States
END:VEVENT
BEGIN:VEVENT
DTSTART;TZID=UTC:20300419T183000
DTEND;TZID=UTC:20300419T203000
DTSTAMP:20260424T165416
CREATED:20260403T160943Z
LAST-MODIFIED:20260403T160943Z
UID:10001736-1902853800-1902861000@minerva.oh.us
SUMMARY:Euchre at the Minerva Senior Center
DESCRIPTION:Euchre at the Minerva Senior Center every Friday at 6:30 PM. \n1200 Valley St. Minerva
URL:https://minerva.oh.us/event/euchre-at-the-minerva-senior-center/2030-04-19/
LOCATION:Minerva Senior Center\, 1200 Valley St.\, Minerva\, OH\, 44657\, United States
END:VEVENT
BEGIN:VEVENT
DTSTART;TZID=UTC:20300424T130000
DTEND;TZID=UTC:20300424T150000
DTSTAMP:20260424T165416
CREATED:20260403T160834Z
LAST-MODIFIED:20260403T160834Z
UID:10001475-1903266000-1903273200@minerva.oh.us
SUMMARY:Bingo at the Minerva Senior Center
DESCRIPTION:Bingo at the Minerva Senior Center. Every Wednesday from 1-3. \n1200 Valley St. Minerva.
URL:https://minerva.oh.us/event/bingo-at-the-minerva-senior-center/2030-04-24/
LOCATION:Minerva Senior Center\, 1200 Valley St.\, Minerva\, OH\, 44657\, United States
END:VEVENT
BEGIN:VEVENT
DTSTART;TZID=UTC:20300426T183000
DTEND;TZID=UTC:20300426T203000
DTSTAMP:20260424T165416
CREATED:20260403T160943Z
LAST-MODIFIED:20260403T160943Z
UID:10001737-1903458600-1903465800@minerva.oh.us
SUMMARY:Euchre at the Minerva Senior Center
DESCRIPTION:Euchre at the Minerva Senior Center every Friday at 6:30 PM. \n1200 Valley St. Minerva
URL:https://minerva.oh.us/event/euchre-at-the-minerva-senior-center/2030-04-26/
LOCATION:Minerva Senior Center\, 1200 Valley St.\, Minerva\, OH\, 44657\, United States
END:VEVENT
BEGIN:VEVENT
DTSTART;TZID=UTC:20300501T130000
DTEND;TZID=UTC:20300501T150000
DTSTAMP:20260424T165416
CREATED:20260403T160834Z
LAST-MODIFIED:20260403T160834Z
UID:10001476-1903870800-1903878000@minerva.oh.us
SUMMARY:Bingo at the Minerva Senior Center
DESCRIPTION:Bingo at the Minerva Senior Center. Every Wednesday from 1-3. \n1200 Valley St. Minerva.
URL:https://minerva.oh.us/event/bingo-at-the-minerva-senior-center/2030-05-01/
LOCATION:Minerva Senior Center\, 1200 Valley St.\, Minerva\, OH\, 44657\, United States
END:VEVENT
BEGIN:VEVENT
DTSTART;TZID=UTC:20300503T183000
DTEND;TZID=UTC:20300503T203000
DTSTAMP:20260424T165416
CREATED:20260403T160943Z
LAST-MODIFIED:20260403T160943Z
UID:10001738-1904063400-1904070600@minerva.oh.us
SUMMARY:Euchre at the Minerva Senior Center
DESCRIPTION:Euchre at the Minerva Senior Center every Friday at 6:30 PM. \n1200 Valley St. Minerva
URL:https://minerva.oh.us/event/euchre-at-the-minerva-senior-center/2030-05-03/
LOCATION:Minerva Senior Center\, 1200 Valley St.\, Minerva\, OH\, 44657\, United States
END:VEVENT
BEGIN:VEVENT
DTSTART;TZID=UTC:20300508T130000
DTEND;TZID=UTC:20300508T150000
DTSTAMP:20260424T165416
CREATED:20260403T160834Z
LAST-MODIFIED:20260403T160834Z
UID:10001477-1904475600-1904482800@minerva.oh.us
SUMMARY:Bingo at the Minerva Senior Center
DESCRIPTION:Bingo at the Minerva Senior Center. Every Wednesday from 1-3. \n1200 Valley St. Minerva.
URL:https://minerva.oh.us/event/bingo-at-the-minerva-senior-center/2030-05-08/
LOCATION:Minerva Senior Center\, 1200 Valley St.\, Minerva\, OH\, 44657\, United States
END:VEVENT
BEGIN:VEVENT
DTSTART;TZID=UTC:20300510T183000
DTEND;TZID=UTC:20300510T203000
DTSTAMP:20260424T165416
CREATED:20260403T160943Z
LAST-MODIFIED:20260403T160943Z
UID:10001739-1904668200-1904675400@minerva.oh.us
SUMMARY:Euchre at the Minerva Senior Center
DESCRIPTION:Euchre at the Minerva Senior Center every Friday at 6:30 PM. \n1200 Valley St. Minerva
URL:https://minerva.oh.us/event/euchre-at-the-minerva-senior-center/2030-05-10/
LOCATION:Minerva Senior Center\, 1200 Valley St.\, Minerva\, OH\, 44657\, United States
END:VEVENT
BEGIN:VEVENT
DTSTART;TZID=UTC:20300515T130000
DTEND;TZID=UTC:20300515T150000
DTSTAMP:20260424T165416
CREATED:20260403T160834Z
LAST-MODIFIED:20260403T160834Z
UID:10001478-1905080400-1905087600@minerva.oh.us
SUMMARY:Bingo at the Minerva Senior Center
DESCRIPTION:Bingo at the Minerva Senior Center. Every Wednesday from 1-3. \n1200 Valley St. Minerva.
URL:https://minerva.oh.us/event/bingo-at-the-minerva-senior-center/2030-05-15/
LOCATION:Minerva Senior Center\, 1200 Valley St.\, Minerva\, OH\, 44657\, United States
END:VEVENT
BEGIN:VEVENT
DTSTART;TZID=UTC:20300517T183000
DTEND;TZID=UTC:20300517T203000
DTSTAMP:20260424T165416
CREATED:20260403T160943Z
LAST-MODIFIED:20260403T160943Z
UID:10001740-1905273000-1905280200@minerva.oh.us
SUMMARY:Euchre at the Minerva Senior Center
DESCRIPTION:Euchre at the Minerva Senior Center every Friday at 6:30 PM. \n1200 Valley St. Minerva
URL:https://minerva.oh.us/event/euchre-at-the-minerva-senior-center/2030-05-17/
LOCATION:Minerva Senior Center\, 1200 Valley St.\, Minerva\, OH\, 44657\, United States
END:VEVENT
BEGIN:VEVENT
DTSTART;TZID=UTC:20300522T130000
DTEND;TZID=UTC:20300522T150000
DTSTAMP:20260424T165416
CREATED:20260403T160834Z
LAST-MODIFIED:20260403T160834Z
UID:10001479-1905685200-1905692400@minerva.oh.us
SUMMARY:Bingo at the Minerva Senior Center
DESCRIPTION:Bingo at the Minerva Senior Center. Every Wednesday from 1-3. \n1200 Valley St. Minerva.
URL:https://minerva.oh.us/event/bingo-at-the-minerva-senior-center/2030-05-22/
LOCATION:Minerva Senior Center\, 1200 Valley St.\, Minerva\, OH\, 44657\, United States
END:VEVENT
BEGIN:VEVENT
DTSTART;TZID=UTC:20300524T183000
DTEND;TZID=UTC:20300524T203000
DTSTAMP:20260424T165416
CREATED:20260403T160943Z
LAST-MODIFIED:20260403T160943Z
UID:10001741-1905877800-1905885000@minerva.oh.us
SUMMARY:Euchre at the Minerva Senior Center
DESCRIPTION:Euchre at the Minerva Senior Center every Friday at 6:30 PM. \n1200 Valley St. Minerva
URL:https://minerva.oh.us/event/euchre-at-the-minerva-senior-center/2030-05-24/
LOCATION:Minerva Senior Center\, 1200 Valley St.\, Minerva\, OH\, 44657\, United States
END:VEVENT
BEGIN:VEVENT
DTSTART;TZID=UTC:20300529T130000
DTEND;TZID=UTC:20300529T150000
DTSTAMP:20260424T165416
CREATED:20260403T160834Z
LAST-MODIFIED:20260403T160834Z
UID:10001480-1906290000-1906297200@minerva.oh.us
SUMMARY:Bingo at the Minerva Senior Center
DESCRIPTION:Bingo at the Minerva Senior Center. Every Wednesday from 1-3. \n1200 Valley St. Minerva.
URL:https://minerva.oh.us/event/bingo-at-the-minerva-senior-center/2030-05-29/
LOCATION:Minerva Senior Center\, 1200 Valley St.\, Minerva\, OH\, 44657\, United States
END:VEVENT
BEGIN:VEVENT
DTSTART;TZID=UTC:20300531T183000
DTEND;TZID=UTC:20300531T203000
DTSTAMP:20260424T165416
CREATED:20260403T160943Z
LAST-MODIFIED:20260403T160943Z
UID:10001742-1906482600-1906489800@minerva.oh.us
SUMMARY:Euchre at the Minerva Senior Center
DESCRIPTION:Euchre at the Minerva Senior Center every Friday at 6:30 PM. \n1200 Valley St. Minerva
URL:https://minerva.oh.us/event/euchre-at-the-minerva-senior-center/2030-05-31/
LOCATION:Minerva Senior Center\, 1200 Valley St.\, Minerva\, OH\, 44657\, United States
END:VEVENT
BEGIN:VEVENT
DTSTART;TZID=UTC:20300605T130000
DTEND;TZID=UTC:20300605T150000
DTSTAMP:20260424T165416
CREATED:20260403T160834Z
LAST-MODIFIED:20260403T160834Z
UID:10001481-1906894800-1906902000@minerva.oh.us
SUMMARY:Bingo at the Minerva Senior Center
DESCRIPTION:Bingo at the Minerva Senior Center. Every Wednesday from 1-3. \n1200 Valley St. Minerva.
URL:https://minerva.oh.us/event/bingo-at-the-minerva-senior-center/2030-06-05/
LOCATION:Minerva Senior Center\, 1200 Valley St.\, Minerva\, OH\, 44657\, United States
END:VEVENT
BEGIN:VEVENT
DTSTART;TZID=UTC:20300607T183000
DTEND;TZID=UTC:20300607T203000
DTSTAMP:20260424T165416
CREATED:20260403T160943Z
LAST-MODIFIED:20260403T160943Z
UID:10001743-1907087400-1907094600@minerva.oh.us
SUMMARY:Euchre at the Minerva Senior Center
DESCRIPTION:Euchre at the Minerva Senior Center every Friday at 6:30 PM. \n1200 Valley St. Minerva
URL:https://minerva.oh.us/event/euchre-at-the-minerva-senior-center/2030-06-07/
LOCATION:Minerva Senior Center\, 1200 Valley St.\, Minerva\, OH\, 44657\, United States
END:VEVENT
BEGIN:VEVENT
DTSTART;TZID=UTC:20300612T130000
DTEND;TZID=UTC:20300612T150000
DTSTAMP:20260424T165416
CREATED:20260403T160834Z
LAST-MODIFIED:20260403T160834Z
UID:10001482-1907499600-1907506800@minerva.oh.us
SUMMARY:Bingo at the Minerva Senior Center
DESCRIPTION:Bingo at the Minerva Senior Center. Every Wednesday from 1-3. \n1200 Valley St. Minerva.
URL:https://minerva.oh.us/event/bingo-at-the-minerva-senior-center/2030-06-12/
LOCATION:Minerva Senior Center\, 1200 Valley St.\, Minerva\, OH\, 44657\, United States
END:VEVENT
BEGIN:VEVENT
DTSTART;TZID=UTC:20300614T183000
DTEND;TZID=UTC:20300614T203000
DTSTAMP:20260424T165416
CREATED:20260403T160943Z
LAST-MODIFIED:20260403T160943Z
UID:10001744-1907692200-1907699400@minerva.oh.us
SUMMARY:Euchre at the Minerva Senior Center
DESCRIPTION:Euchre at the Minerva Senior Center every Friday at 6:30 PM. \n1200 Valley St. Minerva
URL:https://minerva.oh.us/event/euchre-at-the-minerva-senior-center/2030-06-14/
LOCATION:Minerva Senior Center\, 1200 Valley St.\, Minerva\, OH\, 44657\, United States
END:VEVENT
BEGIN:VEVENT
DTSTART;TZID=UTC:20300619T130000
DTEND;TZID=UTC:20300619T150000
DTSTAMP:20260424T165416
CREATED:20260403T160834Z
LAST-MODIFIED:20260403T160834Z
UID:10001483-1908104400-1908111600@minerva.oh.us
SUMMARY:Bingo at the Minerva Senior Center
DESCRIPTION:Bingo at the Minerva Senior Center. Every Wednesday from 1-3. \n1200 Valley St. Minerva.
URL:https://minerva.oh.us/event/bingo-at-the-minerva-senior-center/2030-06-19/
LOCATION:Minerva Senior Center\, 1200 Valley St.\, Minerva\, OH\, 44657\, United States
END:VEVENT
BEGIN:VEVENT
DTSTART;TZID=UTC:20300621T183000
DTEND;TZID=UTC:20300621T203000
DTSTAMP:20260424T165416
CREATED:20260403T160943Z
LAST-MODIFIED:20260403T160943Z
UID:10001745-1908297000-1908304200@minerva.oh.us
SUMMARY:Euchre at the Minerva Senior Center
DESCRIPTION:Euchre at the Minerva Senior Center every Friday at 6:30 PM. \n1200 Valley St. Minerva
URL:https://minerva.oh.us/event/euchre-at-the-minerva-senior-center/2030-06-21/
LOCATION:Minerva Senior Center\, 1200 Valley St.\, Minerva\, OH\, 44657\, United States
END:VEVENT
BEGIN:VEVENT
DTSTART;TZID=UTC:20300626T130000
DTEND;TZID=UTC:20300626T150000
DTSTAMP:20260424T165416
CREATED:20260403T160834Z
LAST-MODIFIED:20260403T160834Z
UID:10001484-1908709200-1908716400@minerva.oh.us
SUMMARY:Bingo at the Minerva Senior Center
DESCRIPTION:Bingo at the Minerva Senior Center. Every Wednesday from 1-3. \n1200 Valley St. Minerva.
URL:https://minerva.oh.us/event/bingo-at-the-minerva-senior-center/2030-06-26/
LOCATION:Minerva Senior Center\, 1200 Valley St.\, Minerva\, OH\, 44657\, United States
END:VEVENT
BEGIN:VEVENT
DTSTART;TZID=UTC:20300628T183000
DTEND;TZID=UTC:20300628T203000
DTSTAMP:20260424T165416
CREATED:20260403T160943Z
LAST-MODIFIED:20260403T160943Z
UID:10001746-1908901800-1908909000@minerva.oh.us
SUMMARY:Euchre at the Minerva Senior Center
DESCRIPTION:Euchre at the Minerva Senior Center every Friday at 6:30 PM. \n1200 Valley St. Minerva
URL:https://minerva.oh.us/event/euchre-at-the-minerva-senior-center/2030-06-28/
LOCATION:Minerva Senior Center\, 1200 Valley St.\, Minerva\, OH\, 44657\, United States
END:VEVENT
BEGIN:VEVENT
DTSTART;TZID=UTC:20300703T130000
DTEND;TZID=UTC:20300703T150000
DTSTAMP:20260424T165416
CREATED:20260403T160834Z
LAST-MODIFIED:20260403T160834Z
UID:10001485-1909314000-1909321200@minerva.oh.us
SUMMARY:Bingo at the Minerva Senior Center
DESCRIPTION:Bingo at the Minerva Senior Center. Every Wednesday from 1-3. \n1200 Valley St. Minerva.
URL:https://minerva.oh.us/event/bingo-at-the-minerva-senior-center/2030-07-03/
LOCATION:Minerva Senior Center\, 1200 Valley St.\, Minerva\, OH\, 44657\, United States
END:VEVENT
END:VCALENDAR