BEGIN:VCALENDAR
VERSION:2.0
PRODID:-//The Village of Minerva - ECPv6.15.20//NONSGML v1.0//EN
CALSCALE:GREGORIAN
METHOD:PUBLISH
X-ORIGINAL-URL:https://minerva.oh.us
X-WR-CALDESC:Events for The Village of Minerva
REFRESH-INTERVAL;VALUE=DURATION:PT1H
X-Robots-Tag:noindex
X-PUBLISHED-TTL:PT1H
BEGIN:VTIMEZONE
TZID:UTC
BEGIN:STANDARD
TZOFFSETFROM:+0000
TZOFFSETTO:+0000
TZNAME:UTC
DTSTART:20290101T000000
END:STANDARD
END:VTIMEZONE
BEGIN:VEVENT
DTSTART;TZID=UTC:20300731T130000
DTEND;TZID=UTC:20300731T150000
DTSTAMP:20260424T204355
CREATED:20260403T160834Z
LAST-MODIFIED:20260403T160834Z
UID:10001489-1911733200-1911740400@minerva.oh.us
SUMMARY:Bingo at the Minerva Senior Center
DESCRIPTION:Bingo at the Minerva Senior Center. Every Wednesday from 1-3. \n1200 Valley St. Minerva.
URL:https://minerva.oh.us/event/bingo-at-the-minerva-senior-center/2030-07-31/
LOCATION:Minerva Senior Center\, 1200 Valley St.\, Minerva\, OH\, 44657\, United States
END:VEVENT
BEGIN:VEVENT
DTSTART;TZID=UTC:20300802T183000
DTEND;TZID=UTC:20300802T203000
DTSTAMP:20260424T204355
CREATED:20260403T160943Z
LAST-MODIFIED:20260403T160943Z
UID:10001751-1911925800-1911933000@minerva.oh.us
SUMMARY:Euchre at the Minerva Senior Center
DESCRIPTION:Euchre at the Minerva Senior Center every Friday at 6:30 PM. \n1200 Valley St. Minerva
URL:https://minerva.oh.us/event/euchre-at-the-minerva-senior-center/2030-08-02/
LOCATION:Minerva Senior Center\, 1200 Valley St.\, Minerva\, OH\, 44657\, United States
END:VEVENT
BEGIN:VEVENT
DTSTART;TZID=UTC:20300807T130000
DTEND;TZID=UTC:20300807T150000
DTSTAMP:20260424T204355
CREATED:20260403T160834Z
LAST-MODIFIED:20260403T160834Z
UID:10001490-1912338000-1912345200@minerva.oh.us
SUMMARY:Bingo at the Minerva Senior Center
DESCRIPTION:Bingo at the Minerva Senior Center. Every Wednesday from 1-3. \n1200 Valley St. Minerva.
URL:https://minerva.oh.us/event/bingo-at-the-minerva-senior-center/2030-08-07/
LOCATION:Minerva Senior Center\, 1200 Valley St.\, Minerva\, OH\, 44657\, United States
END:VEVENT
BEGIN:VEVENT
DTSTART;TZID=UTC:20300809T183000
DTEND;TZID=UTC:20300809T203000
DTSTAMP:20260424T204355
CREATED:20260403T160943Z
LAST-MODIFIED:20260403T160943Z
UID:10001752-1912530600-1912537800@minerva.oh.us
SUMMARY:Euchre at the Minerva Senior Center
DESCRIPTION:Euchre at the Minerva Senior Center every Friday at 6:30 PM. \n1200 Valley St. Minerva
URL:https://minerva.oh.us/event/euchre-at-the-minerva-senior-center/2030-08-09/
LOCATION:Minerva Senior Center\, 1200 Valley St.\, Minerva\, OH\, 44657\, United States
END:VEVENT
BEGIN:VEVENT
DTSTART;TZID=UTC:20300814T130000
DTEND;TZID=UTC:20300814T150000
DTSTAMP:20260424T204355
CREATED:20260403T160834Z
LAST-MODIFIED:20260403T160834Z
UID:10001491-1912942800-1912950000@minerva.oh.us
SUMMARY:Bingo at the Minerva Senior Center
DESCRIPTION:Bingo at the Minerva Senior Center. Every Wednesday from 1-3. \n1200 Valley St. Minerva.
URL:https://minerva.oh.us/event/bingo-at-the-minerva-senior-center/2030-08-14/
LOCATION:Minerva Senior Center\, 1200 Valley St.\, Minerva\, OH\, 44657\, United States
END:VEVENT
BEGIN:VEVENT
DTSTART;TZID=UTC:20300816T183000
DTEND;TZID=UTC:20300816T203000
DTSTAMP:20260424T204355
CREATED:20260403T160943Z
LAST-MODIFIED:20260403T160943Z
UID:10001753-1913135400-1913142600@minerva.oh.us
SUMMARY:Euchre at the Minerva Senior Center
DESCRIPTION:Euchre at the Minerva Senior Center every Friday at 6:30 PM. \n1200 Valley St. Minerva
URL:https://minerva.oh.us/event/euchre-at-the-minerva-senior-center/2030-08-16/
LOCATION:Minerva Senior Center\, 1200 Valley St.\, Minerva\, OH\, 44657\, United States
END:VEVENT
BEGIN:VEVENT
DTSTART;TZID=UTC:20300821T130000
DTEND;TZID=UTC:20300821T150000
DTSTAMP:20260424T204355
CREATED:20260403T160834Z
LAST-MODIFIED:20260403T160834Z
UID:10001492-1913547600-1913554800@minerva.oh.us
SUMMARY:Bingo at the Minerva Senior Center
DESCRIPTION:Bingo at the Minerva Senior Center. Every Wednesday from 1-3. \n1200 Valley St. Minerva.
URL:https://minerva.oh.us/event/bingo-at-the-minerva-senior-center/2030-08-21/
LOCATION:Minerva Senior Center\, 1200 Valley St.\, Minerva\, OH\, 44657\, United States
END:VEVENT
BEGIN:VEVENT
DTSTART;TZID=UTC:20300823T183000
DTEND;TZID=UTC:20300823T203000
DTSTAMP:20260424T204355
CREATED:20260403T160943Z
LAST-MODIFIED:20260403T160943Z
UID:10001754-1913740200-1913747400@minerva.oh.us
SUMMARY:Euchre at the Minerva Senior Center
DESCRIPTION:Euchre at the Minerva Senior Center every Friday at 6:30 PM. \n1200 Valley St. Minerva
URL:https://minerva.oh.us/event/euchre-at-the-minerva-senior-center/2030-08-23/
LOCATION:Minerva Senior Center\, 1200 Valley St.\, Minerva\, OH\, 44657\, United States
END:VEVENT
BEGIN:VEVENT
DTSTART;TZID=UTC:20300828T130000
DTEND;TZID=UTC:20300828T150000
DTSTAMP:20260424T204355
CREATED:20260403T160834Z
LAST-MODIFIED:20260403T160834Z
UID:10001493-1914152400-1914159600@minerva.oh.us
SUMMARY:Bingo at the Minerva Senior Center
DESCRIPTION:Bingo at the Minerva Senior Center. Every Wednesday from 1-3. \n1200 Valley St. Minerva.
URL:https://minerva.oh.us/event/bingo-at-the-minerva-senior-center/2030-08-28/
LOCATION:Minerva Senior Center\, 1200 Valley St.\, Minerva\, OH\, 44657\, United States
END:VEVENT
BEGIN:VEVENT
DTSTART;TZID=UTC:20300830T183000
DTEND;TZID=UTC:20300830T203000
DTSTAMP:20260424T204355
CREATED:20260403T160943Z
LAST-MODIFIED:20260403T160943Z
UID:10001755-1914345000-1914352200@minerva.oh.us
SUMMARY:Euchre at the Minerva Senior Center
DESCRIPTION:Euchre at the Minerva Senior Center every Friday at 6:30 PM. \n1200 Valley St. Minerva
URL:https://minerva.oh.us/event/euchre-at-the-minerva-senior-center/2030-08-30/
LOCATION:Minerva Senior Center\, 1200 Valley St.\, Minerva\, OH\, 44657\, United States
END:VEVENT
BEGIN:VEVENT
DTSTART;TZID=UTC:20300904T130000
DTEND;TZID=UTC:20300904T150000
DTSTAMP:20260424T204355
CREATED:20260403T160834Z
LAST-MODIFIED:20260403T160834Z
UID:10001494-1914757200-1914764400@minerva.oh.us
SUMMARY:Bingo at the Minerva Senior Center
DESCRIPTION:Bingo at the Minerva Senior Center. Every Wednesday from 1-3. \n1200 Valley St. Minerva.
URL:https://minerva.oh.us/event/bingo-at-the-minerva-senior-center/2030-09-04/
LOCATION:Minerva Senior Center\, 1200 Valley St.\, Minerva\, OH\, 44657\, United States
END:VEVENT
BEGIN:VEVENT
DTSTART;TZID=UTC:20300906T183000
DTEND;TZID=UTC:20300906T203000
DTSTAMP:20260424T204355
CREATED:20260403T160943Z
LAST-MODIFIED:20260403T160943Z
UID:10001756-1914949800-1914957000@minerva.oh.us
SUMMARY:Euchre at the Minerva Senior Center
DESCRIPTION:Euchre at the Minerva Senior Center every Friday at 6:30 PM. \n1200 Valley St. Minerva
URL:https://minerva.oh.us/event/euchre-at-the-minerva-senior-center/2030-09-06/
LOCATION:Minerva Senior Center\, 1200 Valley St.\, Minerva\, OH\, 44657\, United States
END:VEVENT
BEGIN:VEVENT
DTSTART;TZID=UTC:20300911T130000
DTEND;TZID=UTC:20300911T150000
DTSTAMP:20260424T204355
CREATED:20260403T160834Z
LAST-MODIFIED:20260403T160834Z
UID:10001495-1915362000-1915369200@minerva.oh.us
SUMMARY:Bingo at the Minerva Senior Center
DESCRIPTION:Bingo at the Minerva Senior Center. Every Wednesday from 1-3. \n1200 Valley St. Minerva.
URL:https://minerva.oh.us/event/bingo-at-the-minerva-senior-center/2030-09-11/
LOCATION:Minerva Senior Center\, 1200 Valley St.\, Minerva\, OH\, 44657\, United States
END:VEVENT
BEGIN:VEVENT
DTSTART;TZID=UTC:20300913T183000
DTEND;TZID=UTC:20300913T203000
DTSTAMP:20260424T204355
CREATED:20260403T160943Z
LAST-MODIFIED:20260403T160943Z
UID:10001757-1915554600-1915561800@minerva.oh.us
SUMMARY:Euchre at the Minerva Senior Center
DESCRIPTION:Euchre at the Minerva Senior Center every Friday at 6:30 PM. \n1200 Valley St. Minerva
URL:https://minerva.oh.us/event/euchre-at-the-minerva-senior-center/2030-09-13/
LOCATION:Minerva Senior Center\, 1200 Valley St.\, Minerva\, OH\, 44657\, United States
END:VEVENT
BEGIN:VEVENT
DTSTART;TZID=UTC:20300918T130000
DTEND;TZID=UTC:20300918T150000
DTSTAMP:20260424T204355
CREATED:20260403T160834Z
LAST-MODIFIED:20260403T160834Z
UID:10001496-1915966800-1915974000@minerva.oh.us
SUMMARY:Bingo at the Minerva Senior Center
DESCRIPTION:Bingo at the Minerva Senior Center. Every Wednesday from 1-3. \n1200 Valley St. Minerva.
URL:https://minerva.oh.us/event/bingo-at-the-minerva-senior-center/2030-09-18/
LOCATION:Minerva Senior Center\, 1200 Valley St.\, Minerva\, OH\, 44657\, United States
END:VEVENT
BEGIN:VEVENT
DTSTART;TZID=UTC:20300920T183000
DTEND;TZID=UTC:20300920T203000
DTSTAMP:20260424T204355
CREATED:20260403T160943Z
LAST-MODIFIED:20260403T160943Z
UID:10001758-1916159400-1916166600@minerva.oh.us
SUMMARY:Euchre at the Minerva Senior Center
DESCRIPTION:Euchre at the Minerva Senior Center every Friday at 6:30 PM. \n1200 Valley St. Minerva
URL:https://minerva.oh.us/event/euchre-at-the-minerva-senior-center/2030-09-20/
LOCATION:Minerva Senior Center\, 1200 Valley St.\, Minerva\, OH\, 44657\, United States
END:VEVENT
BEGIN:VEVENT
DTSTART;TZID=UTC:20300925T130000
DTEND;TZID=UTC:20300925T150000
DTSTAMP:20260424T204355
CREATED:20260403T160834Z
LAST-MODIFIED:20260403T160834Z
UID:10001497-1916571600-1916578800@minerva.oh.us
SUMMARY:Bingo at the Minerva Senior Center
DESCRIPTION:Bingo at the Minerva Senior Center. Every Wednesday from 1-3. \n1200 Valley St. Minerva.
URL:https://minerva.oh.us/event/bingo-at-the-minerva-senior-center/2030-09-25/
LOCATION:Minerva Senior Center\, 1200 Valley St.\, Minerva\, OH\, 44657\, United States
END:VEVENT
BEGIN:VEVENT
DTSTART;TZID=UTC:20300927T183000
DTEND;TZID=UTC:20300927T203000
DTSTAMP:20260424T204355
CREATED:20260403T160943Z
LAST-MODIFIED:20260403T160943Z
UID:10001759-1916764200-1916771400@minerva.oh.us
SUMMARY:Euchre at the Minerva Senior Center
DESCRIPTION:Euchre at the Minerva Senior Center every Friday at 6:30 PM. \n1200 Valley St. Minerva
URL:https://minerva.oh.us/event/euchre-at-the-minerva-senior-center/2030-09-27/
LOCATION:Minerva Senior Center\, 1200 Valley St.\, Minerva\, OH\, 44657\, United States
END:VEVENT
BEGIN:VEVENT
DTSTART;TZID=UTC:20301002T130000
DTEND;TZID=UTC:20301002T150000
DTSTAMP:20260424T204355
CREATED:20260403T160834Z
LAST-MODIFIED:20260403T160834Z
UID:10001498-1917176400-1917183600@minerva.oh.us
SUMMARY:Bingo at the Minerva Senior Center
DESCRIPTION:Bingo at the Minerva Senior Center. Every Wednesday from 1-3. \n1200 Valley St. Minerva.
URL:https://minerva.oh.us/event/bingo-at-the-minerva-senior-center/2030-10-02/
LOCATION:Minerva Senior Center\, 1200 Valley St.\, Minerva\, OH\, 44657\, United States
END:VEVENT
BEGIN:VEVENT
DTSTART;TZID=UTC:20301004T183000
DTEND;TZID=UTC:20301004T203000
DTSTAMP:20260424T204355
CREATED:20260403T160943Z
LAST-MODIFIED:20260403T160943Z
UID:10001760-1917369000-1917376200@minerva.oh.us
SUMMARY:Euchre at the Minerva Senior Center
DESCRIPTION:Euchre at the Minerva Senior Center every Friday at 6:30 PM. \n1200 Valley St. Minerva
URL:https://minerva.oh.us/event/euchre-at-the-minerva-senior-center/2030-10-04/
LOCATION:Minerva Senior Center\, 1200 Valley St.\, Minerva\, OH\, 44657\, United States
END:VEVENT
BEGIN:VEVENT
DTSTART;TZID=UTC:20301009T130000
DTEND;TZID=UTC:20301009T150000
DTSTAMP:20260424T204355
CREATED:20260403T160834Z
LAST-MODIFIED:20260403T160834Z
UID:10001499-1917781200-1917788400@minerva.oh.us
SUMMARY:Bingo at the Minerva Senior Center
DESCRIPTION:Bingo at the Minerva Senior Center. Every Wednesday from 1-3. \n1200 Valley St. Minerva.
URL:https://minerva.oh.us/event/bingo-at-the-minerva-senior-center/2030-10-09/
LOCATION:Minerva Senior Center\, 1200 Valley St.\, Minerva\, OH\, 44657\, United States
END:VEVENT
BEGIN:VEVENT
DTSTART;TZID=UTC:20301011T183000
DTEND;TZID=UTC:20301011T203000
DTSTAMP:20260424T204355
CREATED:20260403T160943Z
LAST-MODIFIED:20260403T160943Z
UID:10001761-1917973800-1917981000@minerva.oh.us
SUMMARY:Euchre at the Minerva Senior Center
DESCRIPTION:Euchre at the Minerva Senior Center every Friday at 6:30 PM. \n1200 Valley St. Minerva
URL:https://minerva.oh.us/event/euchre-at-the-minerva-senior-center/2030-10-11/
LOCATION:Minerva Senior Center\, 1200 Valley St.\, Minerva\, OH\, 44657\, United States
END:VEVENT
BEGIN:VEVENT
DTSTART;TZID=UTC:20301016T130000
DTEND;TZID=UTC:20301016T150000
DTSTAMP:20260424T204355
CREATED:20260403T160834Z
LAST-MODIFIED:20260403T160834Z
UID:10001500-1918386000-1918393200@minerva.oh.us
SUMMARY:Bingo at the Minerva Senior Center
DESCRIPTION:Bingo at the Minerva Senior Center. Every Wednesday from 1-3. \n1200 Valley St. Minerva.
URL:https://minerva.oh.us/event/bingo-at-the-minerva-senior-center/2030-10-16/
LOCATION:Minerva Senior Center\, 1200 Valley St.\, Minerva\, OH\, 44657\, United States
END:VEVENT
BEGIN:VEVENT
DTSTART;TZID=UTC:20301018T183000
DTEND;TZID=UTC:20301018T203000
DTSTAMP:20260424T204355
CREATED:20260403T160943Z
LAST-MODIFIED:20260403T160943Z
UID:10001762-1918578600-1918585800@minerva.oh.us
SUMMARY:Euchre at the Minerva Senior Center
DESCRIPTION:Euchre at the Minerva Senior Center every Friday at 6:30 PM. \n1200 Valley St. Minerva
URL:https://minerva.oh.us/event/euchre-at-the-minerva-senior-center/2030-10-18/
LOCATION:Minerva Senior Center\, 1200 Valley St.\, Minerva\, OH\, 44657\, United States
END:VEVENT
BEGIN:VEVENT
DTSTART;TZID=UTC:20301023T130000
DTEND;TZID=UTC:20301023T150000
DTSTAMP:20260424T204355
CREATED:20260403T160834Z
LAST-MODIFIED:20260403T160834Z
UID:10001501-1918990800-1918998000@minerva.oh.us
SUMMARY:Bingo at the Minerva Senior Center
DESCRIPTION:Bingo at the Minerva Senior Center. Every Wednesday from 1-3. \n1200 Valley St. Minerva.
URL:https://minerva.oh.us/event/bingo-at-the-minerva-senior-center/2030-10-23/
LOCATION:Minerva Senior Center\, 1200 Valley St.\, Minerva\, OH\, 44657\, United States
END:VEVENT
BEGIN:VEVENT
DTSTART;TZID=UTC:20301025T183000
DTEND;TZID=UTC:20301025T203000
DTSTAMP:20260424T204355
CREATED:20260403T160943Z
LAST-MODIFIED:20260403T160943Z
UID:10001763-1919183400-1919190600@minerva.oh.us
SUMMARY:Euchre at the Minerva Senior Center
DESCRIPTION:Euchre at the Minerva Senior Center every Friday at 6:30 PM. \n1200 Valley St. Minerva
URL:https://minerva.oh.us/event/euchre-at-the-minerva-senior-center/2030-10-25/
LOCATION:Minerva Senior Center\, 1200 Valley St.\, Minerva\, OH\, 44657\, United States
END:VEVENT
BEGIN:VEVENT
DTSTART;TZID=UTC:20301030T130000
DTEND;TZID=UTC:20301030T150000
DTSTAMP:20260424T204355
CREATED:20260403T160834Z
LAST-MODIFIED:20260403T160834Z
UID:10001502-1919595600-1919602800@minerva.oh.us
SUMMARY:Bingo at the Minerva Senior Center
DESCRIPTION:Bingo at the Minerva Senior Center. Every Wednesday from 1-3. \n1200 Valley St. Minerva.
URL:https://minerva.oh.us/event/bingo-at-the-minerva-senior-center/2030-10-30/
LOCATION:Minerva Senior Center\, 1200 Valley St.\, Minerva\, OH\, 44657\, United States
END:VEVENT
BEGIN:VEVENT
DTSTART;TZID=UTC:20301101T183000
DTEND;TZID=UTC:20301101T203000
DTSTAMP:20260424T204355
CREATED:20260403T160943Z
LAST-MODIFIED:20260403T160943Z
UID:10001764-1919788200-1919795400@minerva.oh.us
SUMMARY:Euchre at the Minerva Senior Center
DESCRIPTION:Euchre at the Minerva Senior Center every Friday at 6:30 PM. \n1200 Valley St. Minerva
URL:https://minerva.oh.us/event/euchre-at-the-minerva-senior-center/2030-11-01/
LOCATION:Minerva Senior Center\, 1200 Valley St.\, Minerva\, OH\, 44657\, United States
END:VEVENT
BEGIN:VEVENT
DTSTART;TZID=UTC:20301106T130000
DTEND;TZID=UTC:20301106T150000
DTSTAMP:20260424T204355
CREATED:20260403T160834Z
LAST-MODIFIED:20260403T160834Z
UID:10001503-1920200400-1920207600@minerva.oh.us
SUMMARY:Bingo at the Minerva Senior Center
DESCRIPTION:Bingo at the Minerva Senior Center. Every Wednesday from 1-3. \n1200 Valley St. Minerva.
URL:https://minerva.oh.us/event/bingo-at-the-minerva-senior-center/2030-11-06/
LOCATION:Minerva Senior Center\, 1200 Valley St.\, Minerva\, OH\, 44657\, United States
END:VEVENT
BEGIN:VEVENT
DTSTART;TZID=UTC:20301108T183000
DTEND;TZID=UTC:20301108T203000
DTSTAMP:20260424T204355
CREATED:20260403T160943Z
LAST-MODIFIED:20260403T160943Z
UID:10001765-1920393000-1920400200@minerva.oh.us
SUMMARY:Euchre at the Minerva Senior Center
DESCRIPTION:Euchre at the Minerva Senior Center every Friday at 6:30 PM. \n1200 Valley St. Minerva
URL:https://minerva.oh.us/event/euchre-at-the-minerva-senior-center/2030-11-08/
LOCATION:Minerva Senior Center\, 1200 Valley St.\, Minerva\, OH\, 44657\, United States
END:VEVENT
END:VCALENDAR