BEGIN:VCALENDAR
VERSION:2.0
PRODID:-//The Village of Minerva - ECPv6.15.20//NONSGML v1.0//EN
CALSCALE:GREGORIAN
METHOD:PUBLISH
X-WR-CALNAME:The Village of Minerva
X-ORIGINAL-URL:https://minerva.oh.us
X-WR-CALDESC:Events for The Village of Minerva
REFRESH-INTERVAL;VALUE=DURATION:PT1H
X-Robots-Tag:noindex
X-PUBLISHED-TTL:PT1H
BEGIN:VTIMEZONE
TZID:UTC
BEGIN:STANDARD
TZOFFSETFROM:+0000
TZOFFSETTO:+0000
TZNAME:UTC
DTSTART:20300101T000000
END:STANDARD
END:VTIMEZONE
BEGIN:VEVENT
DTSTART;TZID=UTC:20310226T130000
DTEND;TZID=UTC:20310226T150000
DTSTAMP:20260425T032607
CREATED:20260403T160834Z
LAST-MODIFIED:20260403T160834Z
UID:10001519-1929877200-1929884400@minerva.oh.us
SUMMARY:Bingo at the Minerva Senior Center
DESCRIPTION:Bingo at the Minerva Senior Center. Every Wednesday from 1-3. \n1200 Valley St. Minerva.
URL:https://minerva.oh.us/event/bingo-at-the-minerva-senior-center/2031-02-26/
LOCATION:Minerva Senior Center\, 1200 Valley St.\, Minerva\, OH\, 44657\, United States
END:VEVENT
BEGIN:VEVENT
DTSTART;TZID=UTC:20310228T183000
DTEND;TZID=UTC:20310228T203000
DTSTAMP:20260425T032607
CREATED:20260403T160943Z
LAST-MODIFIED:20260403T160943Z
UID:10001781-1930069800-1930077000@minerva.oh.us
SUMMARY:Euchre at the Minerva Senior Center
DESCRIPTION:Euchre at the Minerva Senior Center every Friday at 6:30 PM. \n1200 Valley St. Minerva
URL:https://minerva.oh.us/event/euchre-at-the-minerva-senior-center/2031-02-28/
LOCATION:Minerva Senior Center\, 1200 Valley St.\, Minerva\, OH\, 44657\, United States
END:VEVENT
BEGIN:VEVENT
DTSTART;TZID=UTC:20310305T130000
DTEND;TZID=UTC:20310305T150000
DTSTAMP:20260425T032607
CREATED:20260403T160834Z
LAST-MODIFIED:20260403T160834Z
UID:10001520-1930482000-1930489200@minerva.oh.us
SUMMARY:Bingo at the Minerva Senior Center
DESCRIPTION:Bingo at the Minerva Senior Center. Every Wednesday from 1-3. \n1200 Valley St. Minerva.
URL:https://minerva.oh.us/event/bingo-at-the-minerva-senior-center/2031-03-05/
LOCATION:Minerva Senior Center\, 1200 Valley St.\, Minerva\, OH\, 44657\, United States
END:VEVENT
BEGIN:VEVENT
DTSTART;TZID=UTC:20310307T183000
DTEND;TZID=UTC:20310307T203000
DTSTAMP:20260425T032607
CREATED:20260403T160943Z
LAST-MODIFIED:20260403T160943Z
UID:10001782-1930674600-1930681800@minerva.oh.us
SUMMARY:Euchre at the Minerva Senior Center
DESCRIPTION:Euchre at the Minerva Senior Center every Friday at 6:30 PM. \n1200 Valley St. Minerva
URL:https://minerva.oh.us/event/euchre-at-the-minerva-senior-center/2031-03-07/
LOCATION:Minerva Senior Center\, 1200 Valley St.\, Minerva\, OH\, 44657\, United States
END:VEVENT
BEGIN:VEVENT
DTSTART;TZID=UTC:20310312T130000
DTEND;TZID=UTC:20310312T150000
DTSTAMP:20260425T032607
CREATED:20260403T160834Z
LAST-MODIFIED:20260403T160834Z
UID:10001521-1931086800-1931094000@minerva.oh.us
SUMMARY:Bingo at the Minerva Senior Center
DESCRIPTION:Bingo at the Minerva Senior Center. Every Wednesday from 1-3. \n1200 Valley St. Minerva.
URL:https://minerva.oh.us/event/bingo-at-the-minerva-senior-center/2031-03-12/
LOCATION:Minerva Senior Center\, 1200 Valley St.\, Minerva\, OH\, 44657\, United States
END:VEVENT
BEGIN:VEVENT
DTSTART;TZID=UTC:20310314T183000
DTEND;TZID=UTC:20310314T203000
DTSTAMP:20260425T032607
CREATED:20260403T160943Z
LAST-MODIFIED:20260403T160943Z
UID:10001783-1931279400-1931286600@minerva.oh.us
SUMMARY:Euchre at the Minerva Senior Center
DESCRIPTION:Euchre at the Minerva Senior Center every Friday at 6:30 PM. \n1200 Valley St. Minerva
URL:https://minerva.oh.us/event/euchre-at-the-minerva-senior-center/2031-03-14/
LOCATION:Minerva Senior Center\, 1200 Valley St.\, Minerva\, OH\, 44657\, United States
END:VEVENT
BEGIN:VEVENT
DTSTART;TZID=UTC:20310319T130000
DTEND;TZID=UTC:20310319T150000
DTSTAMP:20260425T032607
CREATED:20260403T160834Z
LAST-MODIFIED:20260403T160834Z
UID:10001522-1931691600-1931698800@minerva.oh.us
SUMMARY:Bingo at the Minerva Senior Center
DESCRIPTION:Bingo at the Minerva Senior Center. Every Wednesday from 1-3. \n1200 Valley St. Minerva.
URL:https://minerva.oh.us/event/bingo-at-the-minerva-senior-center/2031-03-19/
LOCATION:Minerva Senior Center\, 1200 Valley St.\, Minerva\, OH\, 44657\, United States
END:VEVENT
BEGIN:VEVENT
DTSTART;TZID=UTC:20310321T183000
DTEND;TZID=UTC:20310321T203000
DTSTAMP:20260425T032607
CREATED:20260403T160943Z
LAST-MODIFIED:20260403T160943Z
UID:10001784-1931884200-1931891400@minerva.oh.us
SUMMARY:Euchre at the Minerva Senior Center
DESCRIPTION:Euchre at the Minerva Senior Center every Friday at 6:30 PM. \n1200 Valley St. Minerva
URL:https://minerva.oh.us/event/euchre-at-the-minerva-senior-center/2031-03-21/
LOCATION:Minerva Senior Center\, 1200 Valley St.\, Minerva\, OH\, 44657\, United States
END:VEVENT
BEGIN:VEVENT
DTSTART;TZID=UTC:20310326T130000
DTEND;TZID=UTC:20310326T150000
DTSTAMP:20260425T032607
CREATED:20260403T160834Z
LAST-MODIFIED:20260403T160834Z
UID:10001523-1932296400-1932303600@minerva.oh.us
SUMMARY:Bingo at the Minerva Senior Center
DESCRIPTION:Bingo at the Minerva Senior Center. Every Wednesday from 1-3. \n1200 Valley St. Minerva.
URL:https://minerva.oh.us/event/bingo-at-the-minerva-senior-center/2031-03-26/
LOCATION:Minerva Senior Center\, 1200 Valley St.\, Minerva\, OH\, 44657\, United States
END:VEVENT
BEGIN:VEVENT
DTSTART;TZID=UTC:20310328T183000
DTEND;TZID=UTC:20310328T203000
DTSTAMP:20260425T032607
CREATED:20260403T160943Z
LAST-MODIFIED:20260403T160943Z
UID:10001785-1932489000-1932496200@minerva.oh.us
SUMMARY:Euchre at the Minerva Senior Center
DESCRIPTION:Euchre at the Minerva Senior Center every Friday at 6:30 PM. \n1200 Valley St. Minerva
URL:https://minerva.oh.us/event/euchre-at-the-minerva-senior-center/2031-03-28/
LOCATION:Minerva Senior Center\, 1200 Valley St.\, Minerva\, OH\, 44657\, United States
END:VEVENT
BEGIN:VEVENT
DTSTART;TZID=UTC:20310402T130000
DTEND;TZID=UTC:20310402T150000
DTSTAMP:20260425T032607
CREATED:20260403T160834Z
LAST-MODIFIED:20260403T160834Z
UID:10001524-1932901200-1932908400@minerva.oh.us
SUMMARY:Bingo at the Minerva Senior Center
DESCRIPTION:Bingo at the Minerva Senior Center. Every Wednesday from 1-3. \n1200 Valley St. Minerva.
URL:https://minerva.oh.us/event/bingo-at-the-minerva-senior-center/2031-04-02/
LOCATION:Minerva Senior Center\, 1200 Valley St.\, Minerva\, OH\, 44657\, United States
END:VEVENT
END:VCALENDAR