BEGIN:VCALENDAR
VERSION:2.0
PRODID:-//The Village of Minerva - ECPv6.15.20//NONSGML v1.0//EN
CALSCALE:GREGORIAN
METHOD:PUBLISH
X-ORIGINAL-URL:https://minerva.oh.us
X-WR-CALDESC:Events for The Village of Minerva
REFRESH-INTERVAL;VALUE=DURATION:PT1H
X-Robots-Tag:noindex
X-PUBLISHED-TTL:PT1H
BEGIN:VTIMEZONE
TZID:UTC
BEGIN:STANDARD
TZOFFSETFROM:+0000
TZOFFSETTO:+0000
TZNAME:UTC
DTSTART:20160101T000000
END:STANDARD
END:VTIMEZONE
BEGIN:VEVENT
DTSTART;TZID=UTC:20170826T190000
DTEND;TZID=UTC:20170826T210000
DTSTAMP:20260424T131443
CREATED:20170526T154647Z
LAST-MODIFIED:20170526T154647Z
UID:10000169-1503774000-1503781200@minerva.oh.us
SUMMARY:Tropic Sunsations
DESCRIPTION:Steel drum band
URL:https://minerva.oh.us/event/tropic-sunsations/
LOCATION:Municipal Park\, 123 Brock Ave.\, Minerva\,\, OH\, 44657\, United States
END:VEVENT
BEGIN:VEVENT
DTSTART;TZID=UTC:20170812T100000
DTEND;TZID=UTC:20170812T140000
DTSTAMP:20260424T131443
CREATED:20170526T154523Z
LAST-MODIFIED:20170526T154523Z
UID:10000168-1502532000-1502546400@minerva.oh.us
SUMMARY:Family Fun Day
DESCRIPTION:
URL:https://minerva.oh.us/event/family-fun-day/
LOCATION:Municipal Park\, 123 Brock Ave.\, Minerva\,\, OH\, 44657\, United States
END:VEVENT
BEGIN:VEVENT
DTSTART;TZID=UTC:20170726T150000
DTEND;TZID=UTC:20170726T160000
DTSTAMP:20260424T131443
CREATED:20170526T154426Z
LAST-MODIFIED:20170526T154426Z
UID:10000167-1501081200-1501084800@minerva.oh.us
SUMMARY:Stark Parks History
DESCRIPTION:Presented by Stark Parks \nLocated on the band stage
URL:https://minerva.oh.us/event/stark-parks-history/
LOCATION:Municipal Park\, 123 Brock Ave.\, Minerva\,\, OH\, 44657\, United States
ORGANIZER;CN="Denise Freeland":MAILTO:denise.freeland@minervachamber.org
END:VEVENT
BEGIN:VEVENT
DTSTART;TZID=UTC:20170722T190000
DTEND;TZID=UTC:20170722T210000
DTSTAMP:20260424T131443
CREATED:20170526T154101Z
LAST-MODIFIED:20170526T154101Z
UID:10000166-1500750000-1500757200@minerva.oh.us
SUMMARY:Contra Dance with One String Short
DESCRIPTION:Traditional Celtic music; called dances; beginners welcome! \nMunicipal Park Tennis Courts
URL:https://minerva.oh.us/event/contra-dance-one-string-short/
LOCATION:Municipal Park\, 123 Brock Ave.\, Minerva\,\, OH\, 44657\, United States
ORGANIZER;CN="Denise Freeland":MAILTO:denise.freeland@minervachamber.org
END:VEVENT
BEGIN:VEVENT
DTSTART;TZID=UTC:20170715T210000
DTEND;TZID=UTC:20170715T223000
DTSTAMP:20260424T131443
CREATED:20170526T153540Z
LAST-MODIFIED:20170526T153540Z
UID:10000163-1500152400-1500157800@minerva.oh.us
SUMMARY:Tony Rio (country music)
DESCRIPTION:Tony Rio – country music. Sponsored by the Minerva Firemen’s Association.
URL:https://minerva.oh.us/event/tony-rio-country-music/
LOCATION:Municipal Park\, 123 Brock Ave.\, Minerva\,\, OH\, 44657\, United States
ORGANIZER;CN="Denise Freeland":MAILTO:denise.freeland@minervachamber.org
END:VEVENT
BEGIN:VEVENT
DTSTART;TZID=UTC:20170715T150000
DTEND;TZID=UTC:20170715T230000
DTSTAMP:20260424T131443
CREATED:20170526T153326Z
LAST-MODIFIED:20170526T153326Z
UID:10000162-1500130800-1500159600@minerva.oh.us
SUMMARY:The Minerva Chamber Rodeo
DESCRIPTION:The Rodeo is back for another fun filled day. \nThe Minerva Chamber Rodeo will feature the Buckeye Rodeo Company presenting Bareback Bronc Riding\, Steer Wrestling\, Calf Roping\, Bull Riding\, Barrel Racing\, Saddle Bronc Riding\, and Team Roping. Kids’ events\, including Mutton Busting\, Stick Horse Racing\, and the Calf Scramble. will begin at 5 p.m.\, followed by the main event at 7 p.m. The rodeo will be followed at 9 p.m. by Tony Rio in concert on the Municipal Park Stage\, sponsored by the Minerva Firemen’s Association\, which will also be hosting a beer garden. Beginning at 3 p.m.\, there will be food and commercial vendors\, as well as kids’ activities\, in the park. Presale tickets at $10 for adults (age 12 and older) and $5 for children (age 6-11)\, and are available online through Eventbrite.com or\, begining June 1\, from the Chamber office\, 330-868-7979\, Minerva Area YMCA\, Kishman’s IGA\, and Loudon Motors Ford. Tickets at the gate will be $12 for adults and $6 for kids. Children age 5 and younger are admitted free.\nTriple Crown sponsors for this event are David Catlett Construction\, Pole Barns Direct\, Kishman’s IGA\, and Loudon Motors Ford.
URL:https://minerva.oh.us/event/minerva-chamber-rodeo/
LOCATION:Municipal Park\, 123 Brock Ave.\, Minerva\,\, OH\, 44657\, United States
ORGANIZER;CN="Denise Freeland":MAILTO:denise.freeland@minervachamber.org
END:VEVENT
BEGIN:VEVENT
DTSTART;TZID=UTC:20170628T130000
DTEND;TZID=UTC:20170628T140000
DTSTAMP:20260424T131443
CREATED:20170526T144920Z
LAST-MODIFIED:20170526T144920Z
UID:10000161-1498654800-1498658400@minerva.oh.us
SUMMARY:Wildlife Rehab Stories
DESCRIPTION:Presented by Stark Parks. \nThis is a great event for all ages and helps young children understand local wildlife. \nEvent will be located on the stage at Municipal Park.
URL:https://minerva.oh.us/event/wildlife-rehab-stories/
LOCATION:Municipal Park\, 123 Brock Ave.\, Minerva\,\, OH\, 44657\, United States
ORGANIZER;CN="Denise Freeland":MAILTO:denise.freeland@minervachamber.org
END:VEVENT
BEGIN:VEVENT
DTSTART;TZID=UTC:20170624T190000
DTEND;TZID=UTC:20170624T210000
DTSTAMP:20260424T131443
CREATED:20170526T144658Z
LAST-MODIFIED:20170526T144658Z
UID:10000160-1498330800-1498338000@minerva.oh.us
SUMMARY:Around the Block band
DESCRIPTION:Playing your favorite oldies!  This event is free!
URL:https://minerva.oh.us/event/around-block-band/
LOCATION:Municipal Park\, 123 Brock Ave.\, Minerva\,\, OH\, 44657\, United States
ORGANIZER;CN="Denise Freeland":MAILTO:denise.freeland@minervachamber.org
END:VEVENT
BEGIN:VEVENT
DTSTART;TZID=UTC:20170614T150000
DTEND;TZID=UTC:20170617T220000
DTSTAMP:20260424T131443
CREATED:20170407T195141Z
LAST-MODIFIED:20170407T195141Z
UID:10000157-1497452400-1497736800@minerva.oh.us
SUMMARY:Minerva Annual Homecoming
DESCRIPTION:
URL:https://minerva.oh.us/event/minerva-annual-homecoming/
LOCATION:Municipal Park\, 123 Brock Ave.\, Minerva\,\, OH\, 44657\, United States
END:VEVENT
END:VCALENDAR